{"text_format":"1","workbook":"xlsx","n_sheets":16,"sheets":["Lector de tramas manual","Lector de tramas auto","Lector DEF tramas","trama 2-3 Tlmdos","trama 1 Tx datos ","ADCP","CTD Trimeter","Waves","EMA","Edo.EMA","Edo.CTD","ADCP Estado","Edo.MMB03","Edo.Wave","Edo.GPS-Wave","Conf ADCP"],"not_rendered":{"charts":0,"images":5,"macros":1,"external_links":0,"defined_names":2,"comments":1,"pivot_tables":0},"unopened":[],"bounds":{"document_bytes":16777216,"sheet_cells":100000,"rows_first":2000,"rows_last":500,"rows_between":2000,"halvings":0,"cell_chars":16384,"cell_head_chars":4096},"cells_cut":0,"cells_raw":0,"read":"whole","date_system":"1900"}

{"sheet":"Lector de tramas manual","index":0,"n_rows":153,"n_cols":299,"rows_kept":153,"cut":false,"hidden":false,"merged":[[1,2,1,3],[1,4,1,5],[1,6,1,9],[1,10,1,11],[2,2,2,3],[2,4,2,5],[2,6,2,9],[2,10,2,11],[5,2,5,3],[5,4,5,5],[5,6,5,9],[5,10,5,11],[5,14,5,15],[5,16,5,17],[5,18,5,19],[5,20,5,21],[5,22,5,23],[6,2,6,3],[6,4,6,5],[6,6,6,9],[6,10,6,11],[6,14,6,15],[6,16,6,17],[6,18,6,19],[6,20,6,21],[6,22,6,23],[7,2,7,3],[7,4,7,5],[7,6,7,7],[7,8,7,9],[7,10,7,11],[7,14,7,15],[7,16,7,17],[7,18,7,19],[7,20,7,21],[7,22,7,23],[8,8,8,9],[11,2,11,5],[11,6,11,7],[11,8,11,9],[11,10,11,11],[11,12,11,13],[11,14,11,15],[11,16,11,18],[11,19,11,20],[11,21,11,22],[11,24,11,27],[11,28,11,31],[11,32,11,33],[12,2,12,5],[12,6,12,7],[12,8,12,9],[12,10,12,11],[12,12,12,13],[12,14,12,15],[12,21,12,22],[12,24,12,27],[12,28,12,31],[12,32,12,33],[13,2,13,5],[13,6,13,7],[13,8,13,9],[13,10,13,11],[13,12,13,13],[13,14,13,15],[13,16,13,18],[13,19,13,20],[13,21,13,22],[13,24,13,27],[13,28,13,31],[13,32,13,33],[14,2,14,5],[14,6,14,7],[14,8,14,9],[14,10,14,11],[14,12,14,13],[14,14,14,15],[14,16,14,18],[14,19,14,20],[14,21,14,22],[14,24,14,27],[14,28,14,31],[14,32,14,33],[15,2,15,5],[15,6,15,7],[15,8,15,9],[15,10,15,11],[15,12,15,13],[15,14,15,15],[15,16,15,18],[15,19,15,20],[15,21,15,22],[15,24,15,27],[15,28,15,31],[15,32,15,33],[16,2,16,5],[16,6,16,7],[16,8,16,9],[16,10,16,11],[16,12,16,13],[16,14,16,15],[16,16,16,18],[16,19,16,20],[16,21,16,22],[16,24,16,27],[16,28,16,31],[16,32,16,33],[17,2,17,5],[17,6,17,7],[17,8,17,9],[17,10,17,11],[17,12,17,13],[17,14,17,15],[17,16,17,18],[17,19,17,20],[17,21,17,22],[17,24,17,27],[17,28,17,31],[17,32,17,33],[20,2,20,5],[20,6,20,7],[20,8,20,9],[20,10,20,11],[20,12,20,13],[20,14,20,15],[20,16,20,18],[20,19,20,20],[20,21,20,22],[20,24,20,27],[20,28,20,31],[20,32,20,33],[21,2,21,5],[21,6,21,7],[21,8,21,9],[21,10,21,11],[21,12,21,13],[21,14,21,15],[21,16,21,18],[21,19,21,20],[21,21,21,22],[21,24,21,27],[21,28,21,31],[21,32,21,33],[22,2,22,3],[22,4,22,5],[22,6,22,7],[22,8,22,9],[22,10,22,11],[22,12,22,13],[22,14,22,15],[22,17,22,18],[22,19,22,20],[22,21,22,22],[22,24,22,27],[22,28,22,31],[22,32,22,33],[23,14,23,15],[23,16,23,18],[23,19,23,20],[23,21,23,22],[23,24,23,25],[23,26,23,27],[23,28,23,29],[23,30,23,31],[27,1,27,2],[27,3,27,5],[28,3,28,5],[29,3,29,5],[32,3,32,5],[33,3,33,5],[34,3,34,5],[37,2,37,5],[37,6,37,7],[37,8,37,9],[38,2,38,5],[38,6,38,7],[38,8,38,9],[41,2,41,5],[41,6,41,7],[41,8,41,9],[42,2,42,5],[42,6,42,7],[42,8,42,9],[43,2,43,3],[43,4,43,5],[43,6,43,7],[43,8,43,9],[46,3,46,6],[46,7,46,10],[46,11,46,14],[46,15,46,18],[46,19,46,22],[46,23,46,26],[46,27,46,30],[46,31,46,34],[46,35,46,38],[46,39,46,42],[46,43,46,46],[46,47,46,50],[46,51,46,54],[46,55,46,58],[46,59,46,62],[46,63,46,66],[46,67,46,70],[46,71,46,74],[46,75,46,78],[46,79,46,82],[47,1,48,2],[47,3,47,4],[47,5,47,6],[47,7,47,8],[47,9,47,10],[47,11,47,12],[47,13,47,14],[47,15,47,16],[47,17,47,18],[47,19,47,20],[47,21,47,22],[47,23,47,24],[47,25,47,26],[47,27,47,28],[47,29,47,30],[47,31,47,32],[47,33,47,34],[47,35,47,36],[47,37,47,38],[47,39,47,40],[47,41,47,42],[47,43,47,44],[47,45,47,46],[47,47,47,48],[47,49,47,50],[47,51,47,52],[47,53,47,54],[47,55,47,56],[47,57,47,58],[47,59,47,60],[47,61,47,62],[47,63,47,64],[47,65,47,66],[47,67,47,68],[47,69,47,70],[47,71,47,72],[47,73,47,74],[47,75,47,76],[47,77,47,78],[47,79,47,80],[47,81,47,82],[47,83,47,84],[48,3,48,4],[48,5,48,6],[48,7,48,8],[48,9,48,10],[48,11,48,12],[48,13,48,14],[48,15,48,16],[48,17,48,18],[48,19,48,20],[48,21,48,22],[48,23,48,24],[48,25,48,26],[48,27,48,28],[48,29,48,30],[48,31,48,32],[48,33,48,34],[48,35,48,36],[48,37,48,38],[48,39,48,40],[48,41,48,42],[48,43,48,44],[48,45,48,46],[48,47,48,48],[48,49,48,50],[48,51,48,52],[48,53,48,54],[48,55,48,56],[48,57,48,58],[48,59,48,60],[48,61,48,62],[48,63,48,64],[48,65,48,66],[48,67,48,68],[48,69,48,70],[48,71,48,72],[48,73,48,74],[48,75,48,76],[48,77,48,78],[48,79,48,80],[48,81,48,82],[48,83,48,84],[49,3,49,4],[49,5,49,6],[49,7,49,8],[49,9,49,10],[49,11,49,12],[49,13,49,14],[49,15,49,16],[49,17,49,18],[49,19,49,20],[49,21,49,22],[49,23,49,24],[49,25,49,26],[49,27,49,28],[49,29,49,30],[49,31,49,32],[49,33,49,34],[49,35,49,36],[49,37,49,38],[49,39,49,40],[49,41,49,42],[49,43,49,44],[49,45,49,46],[49,47,49,48],[49,49,49,50],[49,51,49,52],[49,53,49,54],[49,55,49,56],[49,57,49,58],[49,59,49,60],[49,61,49,62],[49,63,49,64],[49,65,49,66],[49,67,49,68],[49,69,49,70],[49,71,49,72],[49,73,49,74],[49,75,49,76],[49,77,49,78],[49,79,49,80],[49,81,49,82],[49,83,49,84],[52,3,52,4],[52,5,52,6],[52,7,52,8],[52,9,52,10],[52,11,52,12],[52,13,52,14],[52,15,52,16],[52,17,52,18],[52,19,52,20],[52,21,52,22],[52,23,52,24],[52,25,52,26],[52,27,52,28],[52,29,52,30],[52,31,52,32],[52,33,52,34],[52,35,52,36],[52,37,52,38],[52,39,52,40],[52,41,52,42],[52,43,52,44],[52,45,52,46],[52,47,52,48],[52,49,52,50],[52,51,52,52],[52,53,52,54],[52,55,52,56],[52,57,52,58],[52,59,52,60],[52,61,52,62],[52,63,52,64],[52,65,52,66],[52,67,52,68],[52,69,52,70],[52,71,52,72],[52,73,52,74],[52,75,52,76],[52,77,52,78],[52,79,52,80],[52,81,52,82],[52,83,52,84],[53,3,53,4],[53,5,53,6],[53,7,53,8],[53,9,53,10],[53,11,53,12],[53,13,53,14],[53,15,53,16],[53,17,53,18],[53,19,53,20],[53,21,53,22],[53,23,53,24],[53,25,53,26],[53,27,53,28],[53,29,53,30],[53,31,53,32],[53,33,53,34],[53,35,53,36],[53,37,53,38],[53,39,53,40],[53,41,53,42],[53,43,53,44],[53,45,53,46],[53,47,53,48],[53,49,53,50],[53,51,53,52],[53,53,53,54],[53,55,53,56],[53,57,53,58],[53,59,53,60],[53,61,53,62],[53,63,53,64],[53,65,53,66],[53,67,53,68],[53,69,53,70],[53,71,53,72],[53,73,53,74],[53,75,53,76],[53,77,53,78],[53,79,53,80],[53,81,53,82],[53,83,53,84],[54,3,54,4],[54,5,54,6],[54,7,54,8],[54,9,54,10],[54,11,54,12],[54,13,54,14],[54,15,54,16],[54,17,54,18],[54,19,54,20],[54,21,54,22],[54,23,54,24],[54,25,54,26],[54,27,54,28],[54,29,54,30],[54,31,54,32],[54,33,54,34],[54,35,54,36],[54,37,54,38],[54,39,54,40],[54,41,54,42],[54,43,54,44],[54,45,54,46],[54,47,54,48],[54,49,54,50],[54,51,54,52],[54,53,54,54],[54,55,54,56],[54,57,54,58],[54,59,54,60],[54,61,54,62],[54,63,54,64],[54,65,54,66],[54,67,54,68],[54,69,54,70],[54,71,54,72],[54,73,54,74],[54,75,54,76],[54,77,54,78],[54,79,54,80],[54,81,54,82],[54,83,54,84],[57,2,57,5],[57,6,57,7],[57,8,57,9],[57,10,57,11],[57,12,57,13],[57,14,57,15],[58,2,58,5],[58,6,58,7],[58,8,58,9],[58,10,58,11],[58,12,58,13],[58,14,58,15],[61,2,61,5],[61,6,61,7],[61,8,61,9],[61,10,61,11],[61,12,61,13],[61,14,61,15],[62,2,62,5],[62,6,62,7],[62,8,62,9],[62,10,62,11],[62,12,62,13],[62,14,62,15],[63,2,63,3],[63,4,63,5],[63,6,63,7],[63,8,63,9],[63,10,63,11],[63,12,63,13],[63,14,63,15],[67,1,67,2],[67,3,67,4],[67,5,67,6],[67,7,67,8],[67,9,67,10],[67,11,67,12],[67,13,67,14],[67,15,67,16],[67,17,67,18],[67,19,67,20],[67,21,67,22],[67,23,67,24],[67,25,67,26],[68,3,68,4],[68,5,68,6],[68,7,68,8],[68,9,68,10],[68,11,68,12],[68,13,68,14],[68,15,68,16],[68,17,68,18],[68,19,68,20],[68,21,68,22],[68,23,68,24],[68,25,68,26],[69,3,69,4],[69,5,69,6],[69,7,69,8],[69,9,69,10],[69,11,69,12],[69,13,69,14],[69,15,69,16],[69,17,69,18],[69,19,69,20],[69,21,69,22],[69,23,69,24],[69,25,69,26],[72,3,72,4],[72,5,72,6],[72,7,72,8],[72,9,72,10],[72,11,72,12],[72,13,72,14],[72,15,72,16],[72,17,72,18],[72,19,72,20],[72,21,72,22],[72,23,72,24],[72,25,72,26],[73,3,73,4],[73,5,73,6],[73,7,73,8],[73,9,73,10],[73,11,73,12],[73,13,73,14],[73,15,73,16],[73,17,73,18],[73,19,73,20],[73,21,73,22],[73,23,73,24],[73,25,73,26],[77,2,77,5],[78,2,78,5],[79,2,79,5],[80,2,80,5],[81,2,81,5],[82,2,82,5],[83,2,83,5],[86,2,86,5],[90,2,90,5],[91,2,91,5],[92,2,92,3],[92,4,92,5],[95,2,95,5],[95,6,95,9],[95,10,95,13],[96,2,96,5],[96,6,96,9],[96,10,96,13],[99,2,99,5],[99,6,99,9],[99,10,99,13],[100,2,100,5],[100,6,100,9],[100,10,100,13],[101,2,101,3],[101,4,101,5],[101,6,101,9],[101,10,101,13],[102,6,102,7],[102,8,102,9],[102,10,102,11],[102,12,102,13],[109,1,109,2],[109,3,109,4],[109,5,109,6],[109,7,109,8],[109,9,109,10],[109,11,109,12],[109,13,109,14],[110,3,110,4],[110,5,110,6],[110,7,110,8],[110,9,110,10],[110,11,110,12],[110,13,110,14],[111,3,111,4],[111,5,111,6],[111,7,111,8],[111,9,111,10],[111,11,111,12],[111,13,111,14],[112,3,112,4],[112,5,112,6],[112,7,112,8],[112,9,112,10],[112,11,112,12],[112,13,112,14],[115,3,115,4],[115,5,115,6],[115,7,115,8],[115,9,115,10],[115,11,115,12],[115,13,115,14],[116,3,116,4],[116,5,116,6],[116,7,116,8],[116,9,116,10],[116,11,116,12],[116,13,116,14],[117,3,117,4],[117,5,117,6],[117,7,117,8],[117,9,117,10],[117,11,117,12],[117,13,117,14],[119,2,119,5],[119,6,119,9],[119,10,119,13],[120,2,120,5],[120,6,120,9],[120,10,120,13],[123,2,123,5],[123,6,123,9],[123,10,123,13],[124,2,124,5],[124,6,124,9],[124,10,124,13],[125,2,125,3],[125,4,125,5],[125,6,125,9],[125,10,125,13],[126,6,126,7],[126,8,126,9],[126,10,126,11],[126,12,126,13],[130,0,130,3],[131,3,131,5]]}
[]
["01h\n1","ID TRAMA","ID Estación",null,"Nro de Paquete",null,"Fecha",null,null,null,"Longitud Total de la Trama",null,"Grupo de tramas de cada Equipo","Checksum",1,2,3,4,5,6,7,8,9,10,11,12]
["Unidad","Id de la Trama","Id de la Estación",null,"Contador",null,"DDMMAAhhmm",null,null,null,"Longitud desde el byte 12 hasta antes del *del checksum",null,"Definido en la configuración de cada sensor","Suma de todos los bytes",{"$f":"K133","v":"CTD Datos"},{"$f":"K134","v":{"$error":"#NAME?"}},{"$f":"K135","v":{"$error":"#NAME?"}},{"$f":"K136","v":{"$error":"#NAME?"}},{"$f":"K137","v":{"$error":"#NAME?"}},{"$f":"K138","v":{"$error":"#NAME?"}},{"$f":"K139","v":{"$error":"#NAME?"}},{"$f":"K140","v":{"$error":"#NAME?"}},{"$f":"K141","v":{"$error":"#NAME?"}},{"$f":"K142","v":{"$error":"#NAME?"}},{"$f":"K143","v":{"$error":"#NAME?"}},{"$f":"K144","v":{"$error":"#NAME?"}}]
[null,1,2,3,4,5,6,7,8,9,10,11,12,13,14,15,16,17,18,19,20,21,22,23,24,25,26,27,28,29,30,31,32,33,34,35,36,37,38,39,40,41,42,43,44,45,46,47,48,49,50,51,52,53,54,55,56,57,58,59,60,61,62,63,64,65,66,67,68,69,70,71,72,73,74,75,76,77,78,79,80,81,82,83,84,85,86,87,88,89,90,91,92,93,94,95,96,97,98,99,100,101,102,103,104,105,106,107,108,109,110,111,112,113,114,115,116,117,118,119,120,121,122,123,124,125,126,127,128,129,130,131,132,133,134,135,136,137,138,139,140,141,142,143,144,145,146,147,148,149,150,151,152,153,154,155,156,157,158,159,160,161,162,163,164,165,166,167,168,169,170,171,172,173,174,175,176,177,178,179,180,181,182,183,184,185,186,187,188,189,190,191,192,193,194,195,196,197,198,199,200,201,202,203,204,205,206,207,208,209,210,211,212,213,214,215,216,217,218,219,220,221,222,223,224,225,226,227,228,229,230,231,232,233,234,235,236,237,238,239,240,241,242,243,244,245,246,247,248,249,250,251,252,253,254,255,256,257,258,259,260,261,262,263,264,265,266,267,268,269,270,271,272,273,274,275,276,277,278,279,280,281,282,283,284,285,286,287,288,289,290,291,292,293,294,295,296,297,298]
["01",1,0,5,6,"1E",71,"AE",9,"1A",0,68,"1E","1B",0,0,"3D",50,19,1,5,1,"8E",0,"FD","FF","C3",0,9,"FF","AD","FF","C9",1,"FC",2,30,"FD","D1","FF",58,0,31,"FD","E3",0,"C9",2,"3C",0,"E3","FE","2A",0,"CB","FE",92,1,"1C","0C",31,"7A","1C",0,"B3",0,"3B",0,"C9",0,"D4",27,"C5",1,73,"A0","1C",0,18,0,2,0,2,0,2,0,2,1,"0E",0,50,0,70,0,"9B",0,"A5",7,"8E",2,"A1",64,64,"1F","1C"]
["HEX",{"$f":"TEXT(B5,\"00\")","v":"01"},{"$f":"CONCATENATE(TEXT(C5,\"00\"),TEXT(D5,\"00\"))","v":"0005"},null,{"$f":"CONCATENATE(TEXT(E5,\"00\"),TEXT(F5,\"00\"))","v":"061E"},null,{"$f":"CONCATENATE(TEXT(G5,\"00\"),TEXT(H5,\"00\"),TEXT(I5,\"00\"),TEXT(J5,\"00\"))","v":"71AE091A"},null,null,null,{"$f":"CONCATENATE(TEXT(K5,\"00\"),TEXT(L5,\"00\"))","v":"0068"},null,{"$f":"TEXT(M5,\"00\")","v":"1E"},{"$f":"TEXT(N5,\"00\")","v":"1B"},{"$f":"CONCATENATE(O5,P5)","v":"00"},null,{"$f":"CONCATENATE(Q5,R5)","v":"3D50"},null,{"$f":"CONCATENATE(S5,T5)","v":"191"},null,{"$f":"CONCATENATE(U5,V5)","v":"51"},null,{"$f":"CONCATENATE(W5,X5)","v":"8E0"}]
["DEC",{"$f":"HEX2DEC(B6)","v":1},{"$f":"HEX2DEC(C6)","v":5},null,{"$f":"HEX2DEC(E6)","v":1566},null,{"$f":"TEXT(HEX2DEC(G6),\"0000000000\")","v":"1907231002"},null,null,null,{"$f":"HEX2DEC(K6)","v":104},null,{"$f":"HEX2DEC(M6)","v":30},{"$f":"HEX2DEC(N6)","v":27},{"$f":"HEX2DEC(O6)","v":0},null,{"$f":"HEX2DEC(Q6)","v":15696},null,{"$f":"HEX2DEC(S6)","v":401},null,{"$f":"HEX2DEC(U6)","v":81},null,{"$f":"HEX2DEC(W6)","v":2272}]
[null,{"$f":"B7","v":1},{"$f":"C7","v":5},null,{"$f":"E7","v":1566},null,{"$f":"DATE(MID(G7,5,2)+100,MID(G7,3,2),MID(G7,1,2))","v":"2023-07-19"},null,{"$f":"TIME(LEFT(RIGHT(G7,4),2),RIGHT(RIGHT(G7,4),2),)","v":"10:02:00"},null,{"$f":"K7","v":104},null,{"$f":"M7","v":30},{"$f":"N7","v":27},{"$f":"O7","v":0},null,{"$f":"Q7","v":15696},null,{"$f":"S7","v":401},null,{"$f":"U7","v":81},null,{"$f":"W7","v":2272}]
[]
[]
[]
["0Ah\n10","MMB03 ESTADO",null,null,null,null,"Volt.Batería",null,"V1",null,"V2",null,"V3",null,"I.Total",null,"Alarmas",null,null,"Estado de las Entradas",null,"Estado Sinc",null,"Memoria","Latitud",null,null,null,"Longitud",null,null,null,"Radio de Borneo",null,"Checksum\n(solo cuando es un telemando individual)"]
["Unidad","Id de la Trama","DDMMAAhhmm",null,null,null,"Definido en la configuración",null,"Definido en la configuración",null,"Definido en la configuración",null,"Definido en la configuración",null,"Definido en la configuración",null,"B0=Bateria Baja\nB1=Tensión V1\nB2=Tensión V2\nB3=Tensión V3\nB4=Corriente I\nB5=Intrusión \nB6=MFGPS\nB7=Impacto Leve\n","B8=Impacto Grave\nB9=COM1\nB10=COM2\nB11=COM3\nB12=COM4\nB13=COM5\nB14=COM6\nB15=COM7","B16=COM8\nB17=COM9\nB18=COM10\nB19=Offposition\nB20=\nB21=\nB22=\nB23=","B0 =Ent.ext.2\n      (Edo. MF12)\n        0= Alarma\n        1= Vivo\nB1 =Ent.ext. 1\n    (Día/Noc.MF12)\n        0= Noche\n        1= Día\nB2 =Ent.ext.3\nB3 =Ent.ext.4\nB4 =Ent.ext.5","B5 =Ent.ext.6\nB6 =Ent.ext.7\nB7 =Ent.ext.8\nB8 =Ent.ext.9\nB9 =Ent.ext.10\nB10 =Ent.ext.11\nB11 =Ent.ext.12\nB12 =Ent.ext.13 MMB viva\nB13 =Ent.ext.14\nB14 =Ent.ext.15\nB15 =Ent.ext.16","B0,B1 = Modo sincronizacion:\n         0 =No sincronizada\n         1 =Sincr. por Waves\n         2 =Sincr. por MFSINCLOC\n         3 =Sincr. por Telemando\n         4 =Sincr. por EMA\n         5 =Sincr. por AIS\n\nB2 =Enable/Disable Intrusion\n(1= Enable / 0= Disable)",null,"% SD  Usada\n(0-100)\nSi no hay tarjeta =255","Definido en la configuración",null,null,null,"Definido en la configuración",null,null,null,"Definido en la configuración",null,"Cantidad"]
["Valor Min.",10,"0101200000",null,null,null,0,null,0,null,0,null,0,null,0,null,0,null,null,0,null,0,null,0,-900000000,null,null,null,-1799999999,null,null,null,0]
["Valor Max.",29,3112992359,null,null,null,65535,null,65535,null,65535,null,65535,null,65535,null,65535,null,null,65535,null,65535,null,65535,"900000000",null,null,null,1800000000,null,null,null,65534]
["Posición trama a tx",1,{"$f":"B16+B17","v":2},null,null,null,{"$f":"C16+C17","v":6},null,{"$f":"G17+G16","v":8},null,{"$f":"I17+I16","v":10},null,{"$f":"K17+K16","v":12},null,{"$f":"M17+M16","v":14},null,{"$f":"O17+O16","v":16},null,null,{"$f":"Q17+Q16","v":19},null,{"$f":"T17+T16","v":21},null,{"$f":"V17+V16","v":23},{"$f":"X16+X17","v":24},null,null,null,{"$f":"Y17+Y16","v":28},null,null,null,{"$f":"AC16+AC17","v":32},null,{"$f":"AG16+AG17","v":34}]
["bytes a tx",1,4,null,null,null,2,null,2,null,2,null,2,null,2,null,3,null,null,2,null,2,null,1,4,null,null,null,4,null,null,null,2]
["Ejm. completo",10,3103221345,null,null,null,1235,null,1244,null,1253,null,1262,null,1234,null,"001000000010000000010000",null,null,"0010000100110111",null,100000111,null,99,4587765432,null,null,null,-15612345678,null,null,null,1234,null,"4F"]
["Posición byte",1,2,3,4,5,6,7,8,9,10,11,12,13,14,15,16,17,18,19,20,21,22,23,24,25,26,27,28,29,30,31,32,33,34]
["0A"]
["HEX",{"$f":"TEXT(B20,\"00\")","v":"00"},{"$f":"CONCATENATE(TEXT(C20,\"00\"),TEXT(D20,\"00\"),TEXT(E20,\"00\"),TEXT(F20,\"00\"))","v":"00000000"},null,null,null,{"$f":"CONCATENATE(TEXT(G20,\"00\"),TEXT(H20,\"00\"))","v":"0000"},null,{"$f":"CONCATENATE(TEXT(I20,\"00\"),TEXT(J20,\"00\"))","v":"0000"},null,{"$f":"CONCATENATE(TEXT(K20,\"00\"),TEXT(L20,\"00\"))","v":"0000"},null,{"$f":"CONCATENATE(TEXT(M20,\"00\"),TEXT(N20,\"00\"))","v":"0000"},null,{"$f":"CONCATENATE(TEXT(O20,\"00\"),TEXT(P20,\"00\"))","v":"0000"},null,{"$f":"CONCATENATE(TEXT(Q20,\"00\"),TEXT(R20,\"00\"),TEXT(S20,\"00\"))","v":"000000"},null,null,{"$f":"CONCATENATE(TEXT(T20,\"00\"),TEXT(U20,\"00\"))","v":"0000"},null,{"$f":"CONCATENATE(TEXT(V20,\"00\"),TEXT(W20,\"00\"))","v":"0000"},null,{"$f":"TEXT(X20,\"00\")","v":"00"},{"$f":"CONCATENATE(TEXT(Y20,\"00\"),TEXT(Z20,\"00\"),TEXT(AA20,\"00\"),TEXT(AB20,\"00\"))","v":"00000000"},null,null,null,{"$f":"CONCATENATE(TEXT(AC20,\"00\"),TEXT(AD20,\"00\"),TEXT(AE20,\"00\"),TEXT(AF20,\"00\"))","v":"00000000"},null,null,null,{"$f":"CONCATENATE(TEXT(AG20,\"00\"),TEXT(AH20,\"00\"))","v":"0000"}]
["DEC",{"$f":"HEX2DEC(B21)","v":0},{"$f":"TEXT(HEX2DEC(C21),\"0000000000\")","v":"0000000000"},null,null,null,{"$f":"HEX2DEC(G21)","v":0},null,{"$f":"IF(HEX2DEC(I21)>(32769),HEX2DEC(I21)-65536,HEX2DEC(I21))","v":0},null,{"$f":"IF(HEX2DEC(K21)>(32769),HEX2DEC(K21)-65536,HEX2DEC(K21))","v":0},null,{"$f":"IF(HEX2DEC(M21)>(32769),HEX2DEC(M21)-65536,HEX2DEC(M21))","v":0},null,{"$f":"IF(HEX2DEC(O21)>(32769),HEX2DEC(O21)-65536,HEX2DEC(O21))","v":0},null,{"$f":"HEX2DEC(Q21)","v":0},null,null,{"$f":"IF(HEX2DEC(T21)>(32769),HEX2DEC(T21)-65536,HEX2DEC(T21))","v":0},null,{"$f":"IF(HEX2DEC(V21)>(32769),HEX2DEC(V21)-65536,HEX2DEC(V21))","v":0},null,{"$f":"HEX2DEC(X21)","v":0},{"$f":"TEXT(HEX2DEC(Y21),\"0000000000\")","v":"0000000000"},null,null,null,{"$f":"TEXT(HEX2DEC(AC21),\"0000000000\")","v":"0000000000"},null,null,null,{"$f":"IF(HEX2DEC(AG21)>(32767),HEX2DEC(AG21)-65536,HEX2DEC(AG21))","v":0}]
[null,{"$f":"B22","v":0},{"$f":"DATE(MID(C22,5,2)+100,MID(C22,3,2),MID(C22,1,2))","v":"1999-11-30"},null,{"$f":"(RIGHT(C22,4))","v":"0000"},null,{"$f":"G22/100","v":0},null,{"$f":"I22/100","v":0},null,{"$f":"K22/100","v":0},null,{"$f":"M22/100","v":0},null,{"$f":"O22/100","v":0},null,null,null,null,null,null,null,null,{"$f":"X22","v":0},{"$f":"(IF(HEX2DEC(Y21)>(2147483647),HEX2DEC(Y21)-4294967296,HEX2DEC(Y21)))*10^-5","v":0},null,null,null,{"$f":"(IF(HEX2DEC(AC21)>(2147483647),HEX2DEC(AC21)-4294967296,HEX2DEC(AC21)))*10^-7","v":0},null,null,null,{"$f":"AG22","v":0}]
[null,null,null,null,null,null,null,null,null,null,null,null,null,null,null,null,{"$f":"DEC2BIN(QUOTIENT(Q22,256^2),8)&DEC2BIN(QUOTIENT(MOD(Q22,256^2),256),8)&DEC2BIN(MOD(Q22,256),8)","v":"000000000000000000000000"},null,null,{"$f":"DEC2BIN(T22/256,8)&DEC2BIN(MOD(T22,256),8)","v":"0000000000000000"},null,{"$f":"DEC2BIN(V22/256,8)&DEC2BIN(MOD(V22,256),8)","v":"0000000000000000"},null,null,{"$f":"TRUNC(Y23,0)","v":0},null,{"$f":"(Y23-Y24)*60","v":0},null,{"$f":"TRUNC(AC23,0)","v":0},null,{"$f":"(AC23-AC24)*60","v":0}]
[]
[]
[]
["1Eh","CTD",null,"TURB"]
[30]
["Unidad","Id de la Trama","minutos \n(pos.y neg.)","Turbidez\nNTU"]
["Posición byte",1,2,3,4,5]
["1E","1E","1B",0,0,"3D",50,19,1,5,1,"8E",0,"FD","FF","C3",0,9,"FF","AD","FF","C9",1,"FC",2,30,"FD","D1","FF",58,0,31,"FD","E3",0,"C9",2,"3C",0,"E3","FE","2A",0,"CB","FE",92,1,"1C","0C",31,"7A","1C",0,"B3",0,"3B",0,"C9",0,"D4",27,"C5",1,73,"A0","1C",0,18,0,2,0,2,0,2,0,2,1,"0E",0,50,0,70,0,"9B",0,"A5",7,"8E",2,"A1",64,64,"1F","1C"]
["HEX",{"$f":"TEXT(B32,\"00\")","v":"1E"},{"$f":"TEXT(C32,\"00\")","v":"1B"},{"$f":"CONCATENATE(TEXT(D32,\"00\"),TEXT(E32,\"00\"),TEXT(F32,\"00\"))","v":"00003D"}]
["DEC",{"$f":"HEX2DEC(B33)","v":30},{"$f":"IF(HEX2DEC(C33)>(127),HEX2DEC(C33)-256,HEX2DEC(C33))","v":27},{"$f":"HEX2DEC(D33)","v":61}]
[null,{"$f":"$G$8","v":"2023-07-19"},{"$f":"($I$8+C34/24/60)","v":"10:29:00"},{"$f":"D34/100","v":0.61}]
[]
[]
["1F\n31","ID TRAMA","Fecha CTD",null,null,null,"V1",null,"V2",null,"Cant.Sensores","Ocupación SD","Archivos en memoria"]
["Unidad","Id de la Trama","DDMMAAhhmm\n(Telemandos date y time)",null,null,null,"Line V",null,"Bat V",null,"AD","%","AD"]
["Posición byte",1,2,3,4,5,6,7,8,9,10,11,12,13]
["1F"]
["HEX",{"$f":"TEXT(B41,\"00\")","v":"00"},{"$f":"CONCATENATE(TEXT(C41,\"00\"),TEXT(D41,\"00\"),TEXT(E41,\"00\"),TEXT(F41,\"00\"))","v":"00000000"},null,null,null,{"$f":"CONCATENATE(TEXT(G41,\"00\"),TEXT(H41,\"00\"))","v":"0000"},null,{"$f":"CONCATENATE(TEXT(I41,\"00\"),TEXT(J41,\"00\"))","v":"0000"},null,{"$f":"TEXT(K41,\"00\")","v":"00"},{"$f":"TEXT(L41,\"00\")","v":"00"},{"$f":"TEXT(M41,\"00\")","v":"00"},{"$f":"TEXT(N41,\"00\")","v":"00"}]
["DEC",{"$f":"HEX2DEC(B42)","v":0},{"$f":"TEXT(HEX2DEC(C42),\"0000000000\")","v":"0000000000"},null,null,null,{"$f":"HEX2DEC(G42)","v":0},null,{"$f":"HEX2DEC(I42)","v":0},null,{"$f":"HEX2DEC(K42)","v":0},{"$f":"HEX2DEC(L42)","v":0},{"$f":"HEX2DEC(M42)","v":0},{"$f":"HEX2DEC(N42)","v":0}]
[null,{"$f":"B43","v":0},{"$f":"DATE(MID(C43,5,2)+100,MID(C43,3,2),MID(C43,1,2))","v":"1999-11-30"},null,{"$f":"(RIGHT(C43,4))","v":"0000"},null,{"$f":"G43*10^-2","v":0},null,{"$f":"I43*10^-2","v":0},null,{"$f":"K43","v":0},{"$f":"L43","v":0},{"$f":"M43","v":0},{"$f":"N43","v":0}]
[]
[]
[null,null,null,1,null,null,null,2,null,null,null,3,null,null,null,4,null,null,null,5,null,null,null,6,null,null,null,7,null,null,null,8,null,null,null,9,null,null,null,10,null,null,null,11,null,null,null,12,null,null,null,13,null,null,null,14,null,null,null,15,null,null,null,16,null,null,null,17,null,null,null,18,null,null,null,19,null,null,null,20]
["50h","ADCP",null,"EWCT",null,"NSCT",null,"EWCT",null,"NSCT",null,"EWCT",null,"NSCT",null,"EWCT",null,"NSCT",null,"EWCT",null,"NSCT",null,"EWCT",null,"NSCT",null,"EWCT",null,"NSCT",null,"EWCT",null,"NSCT",null,"EWCT",null,"NSCT",null,"EWCT",null,"NSCT",null,"EWCT",null,"NSCT",null,"EWCT",null,"NSCT",null,"EWCT",null,"NSCT",null,"EWCT",null,"NSCT",null,"EWCT",null,"NSCT",null,"EWCT",null,"NSCT",null,"EWCT",null,"NSCT",null,"EWCT",null,"NSCT",null,"EWCT",null,"NSCT",null,"EWCT",null,"NSCT",null,"TEMP"]
[80,null,null,"Vel. Este celda",null,"Vel. Norte celda",null,"Vel. Este celda",null,"Vel. Norte celda",null,"Vel. Este celda",null,"Vel. Norte celda",null,"Vel. Este celda",null,"Vel. Norte celda",null,"Vel. Este celda",null,"Vel. Norte celda",null,"Vel. Este celda",null,"Vel. Norte celda",null,"Vel. Este celda",null,"Vel. Norte celda",null,"Vel. Este celda",null,"Vel. Norte celda",null,"Vel. Este celda",null,"Vel. Norte celda",null,"Vel. Este celda",null,"Vel. Norte celda",null,"Vel. Este celda",null,"Vel. Norte celda",null,"Vel. Este celda",null,"Vel. Norte celda",null,"Vel. Este celda",null,"Vel. Norte celda",null,"Vel. Este celda",null,"Vel. Norte celda",null,"Vel. Este celda",null,"Vel. Norte celda",null,"Vel. Este celda",null,"Vel. Norte celda",null,"Vel. Este celda",null,"Vel. Norte celda",null,"Vel. Este celda",null,"Vel. Norte celda",null,"Vel. Este celda",null,"Vel. Norte celda",null,"Vel. Este celda",null,"Vel. Norte celda",null,"Temperatura",null,"Checksum"]
["Unidad","Id de la Trama","minutos \n(pos.y neg.)","mm/s\n(pos.y neg.)",null,"mm/s\n(pos.y neg.)",null,"mm/s\n(pos.y neg.)",null,"mm/s\n(pos.y neg.)",null,"mm/s\n(pos.y neg.)",null,"mm/s\n(pos.y neg.)",null,"mm/s\n(pos.y neg.)",null,"mm/s\n(pos.y neg.)",null,"mm/s\n(pos.y neg.)",null,"mm/s\n(pos.y neg.)",null,"mm/s\n(pos.y neg.)",null,"mm/s\n(pos.y neg.)",null,"mm/s\n(pos.y neg.)",null,"mm/s\n(pos.y neg.)",null,"mm/s\n(pos.y neg.)",null,"mm/s\n(pos.y neg.)",null,"mm/s\n(pos.y neg.)",null,"mm/s\n(pos.y neg.)",null,"mm/s\n(pos.y neg.)",null,"mm/s\n(pos.y neg.)",null,"mm/s\n(pos.y neg.)",null,"mm/s\n(pos.y neg.)",null,"mm/s\n(pos.y neg.)",null,"mm/s\n(pos.y neg.)",null,"mm/s\n(pos.y neg.)",null,"mm/s\n(pos.y neg.)",null,"mm/s\n(pos.y neg.)",null,"mm/s\n(pos.y neg.)",null,"mm/s\n(pos.y neg.)",null,"mm/s\n(pos.y neg.)",null,"mm/s\n(pos.y neg.)",null,"mm/s\n(pos.y neg.)",null,"mm/s\n(pos.y neg.)",null,"mm/s\n(pos.y neg.)",null,"mm/s\n(pos.y neg.)",null,"mm/s\n(pos.y neg.)",null,"mm/s\n(pos.y neg.)",null,"mm/s\n(pos.y neg.)",null,"mm/s\n(pos.y neg.)",null,"mm/s\n(pos.y neg.)",null,"ºC x10-2",null,"Suma de todos los bytes"]
["Posición byte",1,2,3,4,5,6,7,8,9,10,11,12,13,14,15,16,17,18,19,20,21,22,23,24,25,26,27,28,29,30,31,32,33,34,35,36,37,38,39,40,41,42,43,44,45,46,47,48,49,50,51,52,53,54,55,56,57,58,59,60,61,62,63,64,65,66,67,68,69,70,71,72,73,74,75,76,77,78,79,80,81,82,83,84]
[50,50,19,1,5,1,"8E",0,"FD","FF","C3",0,9,"FF","AD","FF","C9",1,"FC",2,30,"FD","D1","FF",58,0,31,"FD","E3",0,"C9",2,"3C",0,"E3","FE","2A",0,"CB","FE",92,1,"1C","0C",31,"7A","1C",0,"B3",0,"3B",0,"C9",0,"D4",27,"C5",1,73,"A0","1C",0,18,0,2,0,2,0,2,0,2,1,"0E",0,50,0,70,0,"9B",0,"A5",7,"8E",2,"A1",64,64,"1F","1C"]
["HEX",{"$f":"TEXT(B52,\"00\")","v":"50"},{"$f":"TEXT(C52,\"00\")","v":"19"},{"$f":"CONCATENATE(TEXT(D52,\"00\"),TEXT(E52,\"00\"))","v":"0105"},null,{"$f":"CONCATENATE(TEXT(F52,\"00\"),TEXT(G52,\"00\"))","v":"018E"},null,{"$f":"CONCATENATE(TEXT(H52,\"00\"),TEXT(I52,\"00\"))","v":"00FD"},null,{"$f":"CONCATENATE(TEXT(J52,\"00\"),TEXT(K52,\"00\"))","v":"FFC3"},null,{"$f":"CONCATENATE(TEXT(L52,\"00\"),TEXT(M52,\"00\"))","v":"0009"},null,{"$f":"CONCATENATE(TEXT(N52,\"00\"),TEXT(O52,\"00\"))","v":"FFAD"},null,{"$f":"CONCATENATE(TEXT(P52,\"00\"),TEXT(Q52,\"00\"))","v":"FFC9"},null,{"$f":"CONCATENATE(TEXT(R52,\"00\"),TEXT(S52,\"00\"))","v":"01FC"},null,{"$f":"CONCATENATE(TEXT(T52,\"00\"),TEXT(U52,\"00\"))","v":"0230"},null,{"$f":"CONCATENATE(TEXT(V52,\"00\"),TEXT(W52,\"00\"))","v":"FDD1"},null,{"$f":"CONCATENATE(TEXT(X52,\"00\"),TEXT(Y52,\"00\"))","v":"FF58"},null,{"$f":"CONCATENATE(TEXT(Z52,\"00\"),TEXT(AA52,\"00\"))","v":"0031"},null,{"$f":"CONCATENATE(TEXT(AB52,\"00\"),TEXT(AC52,\"00\"))","v":"FDE3"},null,{"$f":"CONCATENATE(TEXT(AD52,\"00\"),TEXT(AE52,\"00\"))","v":"00C9"},null,{"$f":"CONCATENATE(TEXT(AF52,\"00\"),TEXT(AG52,\"00\"))","v":"023C"},null,{"$f":"CONCATENATE(TEXT(AH52,\"00\"),TEXT(AI52,\"00\"))","v":"00E3"},null,{"$f":"CONCATENATE(TEXT(AJ52,\"00\"),TEXT(AK52,\"00\"))","v":"FE2A"},null,{"$f":"CONCATENATE(TEXT(AL52,\"00\"),TEXT(AM52,\"00\"))","v":"00CB"},null,{"$f":"CONCATENATE(TEXT(AN52,\"00\"),TEXT(AO52,\"00\"))","v":"FE92"},null,{"$f":"CONCATENATE(TEXT(AP52,\"00\"),TEXT(AQ52,\"00\"))","v":"011C"},null,{"$f":"CONCATENATE(TEXT(AR52,\"00\"),TEXT(AS52,\"00\"))","v":"0C31"},null,{"$f":"CONCATENATE(TEXT(AT52,\"00\"),TEXT(AU52,\"00\"))","v":"7A1C"},null,{"$f":"CONCATENATE(TEXT(AV52,\"00\"),TEXT(AW52,\"00\"))","v":"00B3"},null,{"$f":"CONCATENATE(TEXT(AX52,\"00\"),TEXT(AY52,\"00\"))","v":"003B"},null,{"$f":"CONCATENATE(TEXT(AZ52,\"00\"),TEXT(BA52,\"00\"))","v":"00C9"},null,{"$f":"CONCATENATE(TEXT(BB52,\"00\"),TEXT(BC52,\"00\"))","v":"00D4"},null,{"$f":"CONCATENATE(TEXT(BD52,\"00\"),TEXT(BE52,\"00\"))","v":"27C5"},null,{"$f":"CONCATENATE(TEXT(BF52,\"00\"),TEXT(BG52,\"00\"))","v":"0173"},null,{"$f":"CONCATENATE(TEXT(BH52,\"00\"),TEXT(BI52,\"00\"))","v":"A01C"},null,{"$f":"CONCATENATE(TEXT(BJ52,\"00\"),TEXT(BK52,\"00\"))","v":"0018"},null,{"$f":"CONCATENATE(TEXT(BL52,\"00\"),TEXT(BM52,\"00\"))","v":"0002"},null,{"$f":"CONCATENATE(TEXT(BN52,\"00\"),TEXT(BO52,\"00\"))","v":"0002"},null,{"$f":"CONCATENATE(TEXT(BP52,\"00\"),TEXT(BQ52,\"00\"))","v":"0002"},null,{"$f":"CONCATENATE(TEXT(BR52,\"00\"),TEXT(BS52,\"00\"))","v":"0002"},null,{"$f":"CONCATENATE(TEXT(BT52,\"00\"),TEXT(BU52,\"00\"))","v":"010E"},null,{"$f":"CONCATENATE(TEXT(BV52,\"00\"),TEXT(BW52,\"00\"))","v":"0050"},null,{"$f":"CONCATENATE(TEXT(BX52,\"00\"),TEXT(BY52,\"00\"))","v":"0070"},null,{"$f":"CONCATENATE(TEXT(BZ52,\"00\"),TEXT(CA52,\"00\"))","v":"009B"},null,{"$f":"CONCATENATE(TEXT(CB52,\"00\"),TEXT(CC52,\"00\"))","v":"00A5"},null,{"$f":"CONCATENATE(TEXT(CD52,\"00\"),TEXT(CE52,\"00\"))","v":"078E"},null,{"$f":"CONCATENATE(TEXT(CF52,\"00\"),TEXT(CG52,\"00\"))","v":"02A1"}]
["DEC",{"$f":"HEX2DEC(B53)","v":80},{"$f":"IF(HEX2DEC(C53)>(127),HEX2DEC(C53)-256,HEX2DEC(C53))","v":25},{"$f":"IF(HEX2DEC(D53)>(32767),HEX2DEC(D53)-65536,HEX2DEC(D53))","v":261},null,{"$f":"IF(HEX2DEC(F53)>(32767),HEX2DEC(F53)-65536,HEX2DEC(F53))","v":398},null,{"$f":"IF(HEX2DEC(H53)>(32767),HEX2DEC(H53)-65536,HEX2DEC(H53))","v":253},null,{"$f":"IF(HEX2DEC(J53)>(32767),HEX2DEC(J53)-65536,HEX2DEC(J53))","v":-61},null,{"$f":"IF(HEX2DEC(L53)>(32767),HEX2DEC(L53)-65536,HEX2DEC(L53))","v":9},null,{"$f":"IF(HEX2DEC(N53)>(32767),HEX2DEC(N53)-65536,HEX2DEC(N53))","v":-83},null,{"$f":"IF(HEX2DEC(P53)>(32767),HEX2DEC(P53)-65536,HEX2DEC(P53))","v":-55},null,{"$f":"IF(HEX2DEC(R53)>(32767),HEX2DEC(R53)-65536,HEX2DEC(R53))","v":508},null,{"$f":"IF(HEX2DEC(T53)>(32767),HEX2DEC(T53)-65536,HEX2DEC(T53))","v":560},null,{"$f":"IF(HEX2DEC(V53)>(32767),HEX2DEC(V53)-65536,HEX2DEC(V53))","v":-559},null,{"$f":"IF(HEX2DEC(X53)>(32767),HEX2DEC(X53)-65536,HEX2DEC(X53))","v":-168},null,{"$f":"IF(HEX2DEC(Z53)>(32767),HEX2DEC(Z53)-65536,HEX2DEC(Z53))","v":49},null,{"$f":"IF(HEX2DEC(AB53)>(32767),HEX2DEC(AB53)-65536,HEX2DEC(AB53))","v":-541},null,{"$f":"IF(HEX2DEC(AD53)>(32767),HEX2DEC(AD53)-65536,HEX2DEC(AD53))","v":201},null,{"$f":"IF(HEX2DEC(AF53)>(32767),HEX2DEC(AF53)-65536,HEX2DEC(AF53))","v":572},null,{"$f":"IF(HEX2DEC(AH53)>(32767),HEX2DEC(AH53)-65536,HEX2DEC(AH53))","v":227},null,{"$f":"IF(HEX2DEC(AJ53)>(32767),HEX2DEC(AJ53)-65536,HEX2DEC(AJ53))","v":-470},null,{"$f":"IF(HEX2DEC(AL53)>(32767),HEX2DEC(AL53)-65536,HEX2DEC(AL53))","v":203},null,{"$f":"IF(HEX2DEC(AN53)>(32767),HEX2DEC(AN53)-65536,HEX2DEC(AN53))","v":-366},null,{"$f":"IF(HEX2DEC(AP53)>(32767),HEX2DEC(AP53)-65536,HEX2DEC(AP53))","v":284},null,{"$f":"IF(HEX2DEC(AR53)>(32767),HEX2DEC(AR53)-65536,HEX2DEC(AR53))","v":3121},null,{"$f":"IF(HEX2DEC(AT53)>(32767),HEX2DEC(AT53)-65536,HEX2DEC(AT53))","v":31260},null,{"$f":"IF(HEX2DEC(AV53)>(32767),HEX2DEC(AV53)-65536,HEX2DEC(AV53))","v":179},null,{"$f":"IF(HEX2DEC(AX53)>(32767),HEX2DEC(AX53)-65536,HEX2DEC(AX53))","v":59},null,{"$f":"IF(HEX2DEC(AZ53)>(32767),HEX2DEC(AZ53)-65536,HEX2DEC(AZ53))","v":201},null,{"$f":"IF(HEX2DEC(BB53)>(32767),HEX2DEC(BB53)-65536,HEX2DEC(BB53))","v":212},null,{"$f":"IF(HEX2DEC(BD53)>(32767),HEX2DEC(BD53)-65536,HEX2DEC(BD53))","v":10181},null,{"$f":"IF(HEX2DEC(BF53)>(32767),HEX2DEC(BF53)-65536,HEX2DEC(BF53))","v":371},null,{"$f":"IF(HEX2DEC(BH53)>(32767),HEX2DEC(BH53)-65536,HEX2DEC(BH53))","v":-24548},null,{"$f":"IF(HEX2DEC(BJ53)>(32767),HEX2DEC(BJ53)-65536,HEX2DEC(BJ53))","v":24},null,{"$f":"IF(HEX2DEC(BL53)>(32767),HEX2DEC(BL53)-65536,HEX2DEC(BL53))","v":2},null,{"$f":"IF(HEX2DEC(BN53)>(32767),HEX2DEC(BN53)-65536,HEX2DEC(BN53))","v":2},null,{"$f":"IF(HEX2DEC(BP53)>(32767),HEX2DEC(BP53)-65536,HEX2DEC(BP53))","v":2},null,{"$f":"IF(HEX2DEC(BR53)>(32767),HEX2DEC(BR53)-65536,HEX2DEC(BR53))","v":2},null,{"$f":"IF(HEX2DEC(BT53)>(32767),HEX2DEC(BT53)-65536,HEX2DEC(BT53))","v":270},null,{"$f":"IF(HEX2DEC(BV53)>(32767),HEX2DEC(BV53)-65536,HEX2DEC(BV53))","v":80},null,{"$f":"IF(HEX2DEC(BX53)>(32767),HEX2DEC(BX53)-65536,HEX2DEC(BX53))","v":112},null,{"$f":"IF(HEX2DEC(BZ53)>(32767),HEX2DEC(BZ53)-65536,HEX2DEC(BZ53))","v":155},null,{"$f":"IF(HEX2DEC(CB53)>(32767),HEX2DEC(CB53)-65536,HEX2DEC(CB53))","v":165},null,{"$f":"IF(HEX2DEC(CD53)>(32767),HEX2DEC(CD53)-65536,HEX2DEC(CD53))","v":1934},null,{"$f":"IF(HEX2DEC(CF53)>(32767),HEX2DEC(CF53)-65536,HEX2DEC(CF53))","v":673}]
[null,{"$f":"$G$8","v":"2023-07-19"},{"$f":"($I$8+C54/24/60)","v":"10:27:00"},{"$f":"(((D54^2)+(F54^2)+(H54^2))^0.5)/1000","v":0.5390120592343},null,{"$f":"IF(AND(F54>0,D54>0),DEGREES(ATAN(ABS(D54)/ABS(F54))),(IF(AND(F54<0,D54>0),180-DEGREES(ATAN(ABS(D54)/ABS(F54))),((IF(AND(F54>0,D54<0),360-DEGREES(ATAN(ABS(D54)/ABS(F54))),180+DEGREES(ATAN(ABS(D54)/ABS(F54)))))))))","v":33.2560168938404},null,{"$f":"(((H54^2)+(J54^2)+(L54^2))^0.5)/1000","v":0.260405453091904},null,{"$f":"IF(AND(J54>0,H54>0),DEGREES(ATAN(ABS(H54)/ABS(J54))),(IF(AND(J54<0,H54>0),180-DEGREES(ATAN(ABS(H54)/ABS(J54))),((IF(AND(J54>0,H54<0),360-DEGREES(ATAN(ABS(H54)/ABS(J54))),180+DEGREES(ATAN(ABS(H54)/ABS(J54)))))))))","v":103.555675039915},null,{"$f":"(((L54^2)+(N54^2)+(P54^2))^0.5)/1000","v":0.0999749968742185},null,{"$f":"IF(AND(N54>0,L54>0),DEGREES(ATAN(ABS(L54)/ABS(N54))),(IF(AND(N54<0,L54>0),180-DEGREES(ATAN(ABS(L54)/ABS(N54))),((IF(AND(N54>0,L54<0),360-DEGREES(ATAN(ABS(L54)/ABS(N54))),180+DEGREES(ATAN(ABS(L54)/ABS(N54)))))))))","v":173.811384036758},null,{"$f":"(((P54^2)+(R54^2)+(T54^2))^0.5)/1000","v":0.758082449341759},null,{"$f":"IF(AND(R54>0,P54>0),DEGREES(ATAN(ABS(P54)/ABS(R54))),(IF(AND(R54<0,P54>0),180-DEGREES(ATAN(ABS(P54)/ABS(R54))),((IF(AND(R54>0,P54<0),360-DEGREES(ATAN(ABS(P54)/ABS(R54))),180+DEGREES(ATAN(ABS(P54)/ABS(R54)))))))))","v":353.820785814882},null,{"$f":"(((T54^2)+(V54^2)+(X54^2))^0.5)/1000","v":0.808891216419118},null,{"$f":"IF(AND(V54>0,T54>0),DEGREES(ATAN(ABS(T54)/ABS(V54))),(IF(AND(V54<0,T54>0),180-DEGREES(ATAN(ABS(T54)/ABS(V54))),((IF(AND(V54>0,T54<0),360-DEGREES(ATAN(ABS(T54)/ABS(V54))),180+DEGREES(ATAN(ABS(T54)/ABS(V54)))))))))","v":134.948797350974},null,{"$f":"(((X54^2)+(Z54^2)+(AB54^2))^0.5)/1000","v":0.568600035174111},null,{"$f":"IF(AND(Z54>0,X54>0),DEGREES(ATAN(ABS(X54)/ABS(Z54))),(IF(AND(Z54<0,X54>0),180-DEGREES(ATAN(ABS(X54)/ABS(Z54))),((IF(AND(Z54>0,X54<0),360-DEGREES(ATAN(ABS(X54)/ABS(Z54))),180+DEGREES(ATAN(ABS(X54)/ABS(Z54)))))))))","v":286.260204708312},null,{"$f":"(((AB54^2)+(AD54^2)+(AF54^2))^0.5)/1000","v":0.812567535654729},null,{"$f":"IF(AND(AD54>0,AB54>0),DEGREES(ATAN(ABS(AB54)/ABS(AD54))),(IF(AND(AD54<0,AB54>0),180-DEGREES(ATAN(ABS(AB54)/ABS(AD54))),((IF(AND(AD54>0,AB54<0),360-DEGREES(ATAN(ABS(AB54)/ABS(AD54))),180+DEGREES(ATAN(ABS(AB54)/ABS(AD54)))))))))","v":290.381753181105},null,{"$f":"(((AF54^2)+(AH54^2)+(AJ54^2))^0.5)/1000","v":0.77434682152121},null,{"$f":"IF(AND(AH54>0,AF54>0),DEGREES(ATAN(ABS(AF54)/ABS(AH54))),(IF(AND(AH54<0,AF54>0),180-DEGREES(ATAN(ABS(AF54)/ABS(AH54))),((IF(AND(AH54>0,AF54<0),360-DEGREES(ATAN(ABS(AF54)/ABS(AH54))),180+DEGREES(ATAN(ABS(AF54)/ABS(AH54)))))))))","v":68.3541912221279},null,{"$f":"(((AJ54^2)+(AL54^2)+(AN54^2))^0.5)/1000","v":0.629336952673208},null,{"$f":"IF(AND(AL54>0,AJ54>0),DEGREES(ATAN(ABS(AJ54)/ABS(AL54))),(IF(AND(AL54<0,AJ54>0),180-DEGREES(ATAN(ABS(AJ54)/ABS(AL54))),((IF(AND(AL54>0,AJ54<0),360-DEGREES(ATAN(ABS(AJ54)/ABS(AL54))),180+DEGREES(ATAN(ABS(AJ54)/ABS(AL54)))))))))","v":293.360235012881},null,{"$f":"(((AN54^2)+(AP54^2)+(AR54^2))^0.5)/1000","v":3.15519460572561},null,{"$f":"IF(AND(AP54>0,AN54>0),DEGREES(ATAN(ABS(AN54)/ABS(AP54))),(IF(AND(AP54<0,AN54>0),180-DEGREES(ATAN(ABS(AN54)/ABS(AP54))),((IF(AND(AP54>0,AN54<0),360-DEGREES(ATAN(ABS(AN54)/ABS(AP54))),180+DEGREES(ATAN(ABS(AN54)/ABS(AP54)))))))))","v":307.809899491837},null,{"$f":"(((AR54^2)+(AT54^2)+(AV54^2))^0.5)/1000","v":31.415924019516},null,{"$f":"IF(AND(AT54>0,AR54>0),DEGREES(ATAN(ABS(AR54)/ABS(AT54))),(IF(AND(AT54<0,AR54>0),180-DEGREES(ATAN(ABS(AR54)/ABS(AT54))),((IF(AND(AT54>0,AR54<0),360-DEGREES(ATAN(ABS(AR54)/ABS(AT54))),180+DEGREES(ATAN(ABS(AR54)/ABS(AT54)))))))))","v":5.70151933831712},null,{"$f":"(((AV54^2)+(AX54^2)+(AZ54^2))^0.5)/1000","v":0.275541285472794},null,{"$f":"IF(AND(AX54>0,AV54>0),DEGREES(ATAN(ABS(AV54)/ABS(AX54))),(IF(AND(AX54<0,AV54>0),180-DEGREES(ATAN(ABS(AV54)/ABS(AX54))),((IF(AND(AX54>0,AV54<0),360-DEGREES(ATAN(ABS(AV54)/ABS(AX54))),180+DEGREES(ATAN(ABS(AV54)/ABS(AX54)))))))))","v":71.7573181718766},null,{"$f":"(((AZ54^2)+(BB54^2)+(BD54^2))^0.5)/1000","v":10.1851905235003},null,{"$f":"IF(AND(BB54>0,AZ54>0),DEGREES(ATAN(ABS(AZ54)/ABS(BB54))),(IF(AND(BB54<0,AZ54>0),180-DEGREES(ATAN(ABS(AZ54)/ABS(BB54))),((IF(AND(BB54>0,AZ54<0),360-DEGREES(ATAN(ABS(AZ54)/ABS(BB54))),180+DEGREES(ATAN(ABS(AZ54)/ABS(BB54)))))))))","v":43.4743229876188},null,{"$f":"(((BD54^2)+(BF54^2)+(BH54^2))^0.5)/1000","v":26.5780869514719},null,{"$f":"IF(AND(BF54>0,BD54>0),DEGREES(ATAN(ABS(BD54)/ABS(BF54))),(IF(AND(BF54<0,BD54>0),180-DEGREES(ATAN(ABS(BD54)/ABS(BF54))),((IF(AND(BF54>0,BD54<0),360-DEGREES(ATAN(ABS(BD54)/ABS(BF54))),180+DEGREES(ATAN(ABS(BD54)/ABS(BF54)))))))))","v":87.9130406919183},null,{"$f":"(((BH54^2)+(BJ54^2)+(BL54^2))^0.5)/1000","v":24.5480118135869},null,{"$f":"IF(AND(BJ54>0,BH54>0),DEGREES(ATAN(ABS(BH54)/ABS(BJ54))),(IF(AND(BJ54<0,BH54>0),180-DEGREES(ATAN(ABS(BH54)/ABS(BJ54))),((IF(AND(BJ54>0,BH54<0),360-DEGREES(ATAN(ABS(BH54)/ABS(BJ54))),180+DEGREES(ATAN(ABS(BH54)/ABS(BJ54)))))))))","v":270.056016712978},null,{"$f":"(((BL54^2)+(BN54^2)+(BP54^2))^0.5)/1000","v":0.00346410161513775},null,{"$f":"IF(AND(BN54>0,BL54>0),DEGREES(ATAN(ABS(BL54)/ABS(BN54))),(IF(AND(BN54<0,BL54>0),180-DEGREES(ATAN(ABS(BL54)/ABS(BN54))),((IF(AND(BN54>0,BL54<0),360-DEGREES(ATAN(ABS(BL54)/ABS(BN54))),180+DEGREES(ATAN(ABS(BL54)/ABS(BN54)))))))))","v":45},null,{"$f":"(((BP54^2)+(BR54^2)+(BT54^2))^0.5)/1000","v":0.270014814408395},null,{"$f":"IF(AND(BR54>0,BP54>0),DEGREES(ATAN(ABS(BP54)/ABS(BR54))),(IF(AND(BR54<0,BP54>0),180-DEGREES(ATAN(ABS(BP54)/ABS(BR54))),((IF(AND(BR54>0,BP54<0),360-DEGREES(ATAN(ABS(BP54)/ABS(BR54))),180+DEGREES(ATAN(ABS(BP54)/ABS(BR54)))))))))","v":45},null,{"$f":"(((BT54^2)+(BV54^2)+(BX54^2))^0.5)/1000","v":0.303057750272122},null,{"$f":"IF(AND(BV54>0,BT54>0),DEGREES(ATAN(ABS(BT54)/ABS(BV54))),(IF(AND(BV54<0,BT54>0),180-DEGREES(ATAN(ABS(BT54)/ABS(BV54))),((IF(AND(BV54>0,BT54<0),360-DEGREES(ATAN(ABS(BT54)/ABS(BV54))),180+DEGREES(ATAN(ABS(BT54)/ABS(BV54)))))))))","v":73.495638618245},null,{"$f":"(((BX54^2)+(BZ54^2)+(CB54^2))^0.5)/1000","v":0.252574741413309},null,{"$f":"IF(AND(BZ54>0,BX54>0),DEGREES(ATAN(ABS(BX54)/ABS(BZ54))),(IF(AND(BZ54<0,BX54>0),180-DEGREES(ATAN(ABS(BX54)/ABS(BZ54))),((IF(AND(BZ54>0,BX54<0),360-DEGREES(ATAN(ABS(BX54)/ABS(BZ54))),180+DEGREES(ATAN(ABS(BX54)/ABS(BZ54)))))))))","v":35.8511470142062},null,{"$f":"(((CB54^2)+(CD54^2)+(CF54^2))^0.5)/1000","v":2.054387986725},null,{"$f":"IF(AND(CD54>0,CB54>0),DEGREES(ATAN(ABS(CB54)/ABS(CD54))),(IF(AND(CD54<0,CB54>0),180-DEGREES(ATAN(ABS(CB54)/ABS(CD54))),((IF(AND(CD54>0,CB54<0),360-DEGREES(ATAN(ABS(CB54)/ABS(CD54))),180+DEGREES(ATAN(ABS(CB54)/ABS(CD54)))))))))","v":4.87640438506302},null,{"$f":"CF54/100","v":6.73}]
[]
[]
["51h\n81","ID TRAMA","Fecha ADCP",null,null,null,"V1",null,"Presion ",null,"Compass heading",null,"Compass Pitch",null,"Compass Roll"]
["Unidad","Id de la Trama","DDMMAAhhmm\n(Telemando RC)",null,null,null,"Line V \n(Telemando BV)",null,"dBar",null,"º",null,"º",null,"º"]
["Posición byte",1,2,3,4,5,6,7,8,9,10,11,12,13,14,15]
[51]
["HEX",{"$f":"TEXT(B61,\"00\")","v":"00"},{"$f":"CONCATENATE(TEXT(C61,\"00\"),TEXT(D61,\"00\"),TEXT(E61,\"00\"),TEXT(F61,\"00\"))","v":"00000000"},null,null,null,{"$f":"CONCATENATE(TEXT(G61,\"00\"),TEXT(H61,\"00\"))","v":"0000"},null,{"$f":"CONCATENATE(TEXT(I61,\"00\"),TEXT(J61,\"00\"))","v":"0000"},null,{"$f":"CONCATENATE(TEXT(K61,\"00\"),TEXT(L61,\"00\"))","v":"0000"},null,{"$f":"CONCATENATE(TEXT(M61,\"00\"),TEXT(N61,\"00\"))","v":"0000"},null,{"$f":"CONCATENATE(TEXT(O61,\"00\"),TEXT(P61,\"00\"))","v":"0000"}]
["DEC",{"$f":"HEX2DEC(B62)","v":0},{"$f":"TEXT(HEX2DEC(C62),\"0000000000\")","v":"0000000000"},null,null,null,{"$f":"HEX2DEC(G62)","v":0},null,{"$f":"HEX2DEC(I62)","v":0},null,{"$f":"IF(HEX2DEC(K62)>(32767),HEX2DEC(K62)-65536,HEX2DEC(K62))","v":0},null,{"$f":"IF(HEX2DEC(M62)>(32767),HEX2DEC(M62)-65536,HEX2DEC(M62))","v":0},null,{"$f":"IF(HEX2DEC(O62)>(32767),HEX2DEC(O62)-65536,HEX2DEC(O62))","v":0}]
[null,{"$f":"B63","v":0},{"$f":"DATE(MID(C63,5,2)+100,MID(C63,3,2),MID(C63,1,2))","v":"1999-11-30"},null,{"$f":"(RIGHT(C63,4))","v":"0000"},null,{"$f":"G63/1000","v":0},null,{"$f":"I63/1000","v":0},null,{"$f":"K63/10","v":0},null,{"$f":"M63/10","v":0},null,{"$f":"O63/10","v":0}]
[]
[]
[]
["A0h","WAVE",null,"VQTY",null,"VMXL",null,"VH110",null,"VAVH",null,"VHM0",null,"VTMX",null,"VTPK",null,"VT110",null,"VAVT",null,"VGTA",null,"VDIR",null,"VPSP",null,"VFL1","VFL2"]
[160,"ID TRAMA","DIF FECHA","NRO DE OLAS",null,"H.MAX.",null,"HSIG/10",null,"HSIG/3",null,"HMED",null,"TMAX",null,"TPICO",null,"TSIG/10",null,"TSIG/3",null,"TMED",null,"DIR",null,"DESV",null,"FLAG1","FLAG2"]
["Unidad","Id de la Trama","minutos \n(pos.y neg.)","Definido en la configuración",null,"Altura Máxima\ncm",null,"Altura Significativa H/10\ncm",null,"Altura Significativa H/3\ncm",null,"Altura Media\ncm",null,"Período Máximo\nseg x 10-1",null,"Período Pico\nseg x 10-1",null,"Período Significativo H/10\nseg x 10-1",null,"Período  Significativo H/3\nseg x 10-1",null,"Período Medio\nseg x 10-1",null,"Dirección\ngrados x 10-1",null,"Disperción\ngrados x 10-2",null,"Definido en la configuración","Definido en la configuración"]
["Posición byte",1,2,3,4,5,6,7,8,9,10,11,12,13,14,15,16,17,18,19,20,21,22,23,24,25,26,27,28]
["A0","A0","1C",0,18,0,2,0,2,0,2,0,2,1,"0E",0,50,0,70,0,"9B",0,"A5",7,"8E",2,"A1",64,64,"1F","1C"]
["HEX",{"$f":"TEXT(B72,\"00\")","v":"A0"},{"$f":"TEXT(C72,\"00\")","v":"1C"},{"$f":"CONCATENATE(TEXT(D72,\"00\"),TEXT(E72,\"00\"))","v":"0018"},null,{"$f":"CONCATENATE(TEXT(F72,\"00\"),TEXT(G72,\"00\"))","v":"0002"},null,{"$f":"CONCATENATE(TEXT(H72,\"00\"),TEXT(I72,\"00\"))","v":"0002"},null,{"$f":"CONCATENATE(TEXT(J72,\"00\"),TEXT(K72,\"00\"))","v":"0002"},null,{"$f":"CONCATENATE(TEXT(L72,\"00\"),TEXT(M72,\"00\"))","v":"0002"},null,{"$f":"CONCATENATE(TEXT(N72,\"00\"),TEXT(O72,\"00\"))","v":"010E"},null,{"$f":"CONCATENATE(TEXT(P72,\"00\"),TEXT(Q72,\"00\"))","v":"0050"},null,{"$f":"CONCATENATE(TEXT(R72,\"00\"),TEXT(S72,\"00\"))","v":"0070"},null,{"$f":"CONCATENATE(TEXT(T72,\"00\"),TEXT(U72,\"00\"))","v":"009B"},null,{"$f":"CONCATENATE(TEXT(V72,\"00\"),TEXT(W72,\"00\"))","v":"00A5"},null,{"$f":"CONCATENATE(TEXT(X72,\"00\"),TEXT(Y72,\"00\"))","v":"078E"},null,{"$f":"CONCATENATE(TEXT(Z72,\"00\"),TEXT(AA72,\"00\"))","v":"02A1"},null,{"$f":"TEXT(AB72,\"00\")","v":"64"},{"$f":"TEXT(AC72,\"00\")","v":"64"}]
["DEC",{"$f":"HEX2DEC(B73)","v":160},{"$f":"IF(HEX2DEC(C73)>(127),HEX2DEC(C73)-256,HEX2DEC(C73))","v":28},{"$f":"IF(HEX2DEC(D73)>(32767),HEX2DEC(D73)-65536,HEX2DEC(D73))","v":24},null,{"$f":"IF(HEX2DEC(F73)>(32769),HEX2DEC(F73)-65536,HEX2DEC(F73))","v":2},null,{"$f":"IF(HEX2DEC(H73)>(32769),HEX2DEC(H73)-65536,HEX2DEC(H73))","v":2},null,{"$f":"IF(HEX2DEC(J73)>(32769),HEX2DEC(J73)-65536,HEX2DEC(J73))","v":2},null,{"$f":"IF(HEX2DEC(L73)>(32769),HEX2DEC(L73)-65536,HEX2DEC(L73))","v":2},null,{"$f":"IF(HEX2DEC(N73)>(32769),HEX2DEC(N73)-65536,HEX2DEC(N73))","v":270},null,{"$f":"IF(HEX2DEC(P73)>(32769),HEX2DEC(P73)-65536,HEX2DEC(P73))","v":80},null,{"$f":"IF(HEX2DEC(R73)>(32769),HEX2DEC(R73)-65536,HEX2DEC(R73))","v":112},null,{"$f":"IF(HEX2DEC(T73)>(32769),HEX2DEC(T73)-65536,HEX2DEC(T73))","v":155},null,{"$f":"IF(HEX2DEC(V73)>(32769),HEX2DEC(V73)-65536,HEX2DEC(V73))","v":165},null,{"$f":"IF(HEX2DEC(X73)>(32769),HEX2DEC(X73)-65536,HEX2DEC(X73))","v":1934},null,{"$f":"IF(HEX2DEC(Z73)>(32769),HEX2DEC(Z73)-65536,HEX2DEC(Z73))","v":673},null,{"$f":"HEX2DEC(AB73)","v":100},{"$f":"HEX2DEC(AC73)","v":100}]
[null,{"$f":"$G$8","v":"2023-07-19"},{"$f":"($I$8+C74/24/60)","v":"10:30:00"}]
[]
[]
["A1h\n161","ID TRAMA","Fecha MBW3 \n(última ola)",null,null,null,"Ocupación SD","Nro. Reinicios","SBG/SD OK"]
["Unidad","Id de la Trama","DDMMAAhhmm",null,null,null,"%","Num","Estado del SBG y de la SD\nB0= Edo. SBG\nB1= Edo.  SD","Cantidad"]
["Valor Min.",161,"0101200000",null,null,null,0,0,0]
["Valor Max.",161,3112992359,null,null,null,100,255,3]
["Posición trama a tx",1,{"$f":"B82+B83","v":2},null,null,null,{"$f":"C82+C83","v":6},{"$f":"G82+G83","v":7},{"$f":"H82+H83","v":8},{"$f":"I82+I83","v":9}]
["bytes a tx",1,4,null,null,null,1,1,1]
["Ejm. completo",161,3103221345,null,null,null,61,4,3,"4F"]
[]
["EJEMPLO:","A1 3B EA 75 52 00 40 02 CF"]
["Unidad","Id de la Trama","DDMMAAhhmm",null,null,null,"%\n111= no se puede mirar el % 112=no se tiene acceso a la SD (SD no presente)","Num","Estado del SBG y de la SD\nB0= Edo. SBG\nB1= Edo.  SD"]
[]
["Posición byte",1,2,3,4,5,10,11,12,13]
["A1"]
["HEX",{"$f":"TEXT(B90,\"00\")","v":"00"},{"$f":"CONCATENATE(TEXT(C90,\"00\"),TEXT(D90,\"00\"),TEXT(E90,\"00\"),TEXT(F90,\"00\"))","v":"00000000"},null,null,null,{"$f":"TEXT(G90,\"00\")","v":"00"},{"$f":"TEXT(H90,\"00\")","v":"00"},{"$f":"TEXT(I90,\"00\")","v":"00"},{"$f":"TEXT(J90,\"00\")","v":"00"}]
["DEC",{"$f":"HEX2DEC(B91)","v":0},{"$f":"TEXT(HEX2DEC(C91),\"0000000000\")","v":"0000000000"},null,null,null,{"$f":"HEX2DEC(G91)","v":0},{"$f":"HEX2DEC(H91)","v":0},{"$f":"HEX2DEC(I91)","v":0},{"$f":"HEX2DEC(J91)","v":0}]
[null,{"$f":"B92","v":0},{"$f":"DATE(MID(C92,5,2)+100,MID(C92,3,2),MID(C92,1,2))","v":"1999-11-30"},null,{"$f":"(RIGHT(C92,4))","v":"0000"},null,{"$f":"G92","v":0},{"$f":"H92","v":0},{"$f":"DEC2BIN(I92)","v":"0"},{"$f":"J92","v":0}]
[]
[]
["A2h\n162","ID TRAMA","Fecha GPS MBW3",null,null,null,"Latitud",null,null,null,"Longitud",null,null,null,"Cant. Sat.","PDOP"]
["Unidad","Id de la Trama","DDMMAAhhmm",null,null,null,"Definido en la configuración",null,null,null,"Definido en la configuración",null,null,null,"Cantidad de Satélites","Calidad Posición"]
["Posición byte",1,2,3,4,5,6,7,8,9,10,11,12,13,14,15,16]
["A2"]
["HEX",{"$f":"TEXT(B99,\"00\")","v":"00"},{"$f":"CONCATENATE(TEXT(C99,\"00\"),TEXT(D99,\"00\"),TEXT(E99,\"00\"),TEXT(F99,\"00\"))","v":"00000000"},null,null,null,{"$f":"CONCATENATE(TEXT(G99,\"00\"),TEXT(H99,\"00\"),TEXT(I99,\"00\"),TEXT(J99,\"00\"))","v":"00000000"},null,null,null,{"$f":"CONCATENATE(TEXT(K99,\"00\"),TEXT(L99,\"00\"),TEXT(M99,\"00\"),TEXT(N99,\"00\"))","v":"00000000"},null,null,null,{"$f":"TEXT(O99,\"00\")","v":"00"},{"$f":"TEXT(P99,\"00\")","v":"00"},{"$f":"TEXT(Q99,\"00\")","v":"00"},{"$f":"TEXT(R99,\"00\")","v":"00"},{"$f":"TEXT(S99,\"00\")","v":"00"},{"$f":"TEXT(T99,\"00\")","v":"00"}]
["DEC",{"$f":"HEX2DEC(B100)","v":0},{"$f":"TEXT(HEX2DEC(C100),\"0000000000\")","v":"0000000000"},null,null,null,{"$f":"TEXT(HEX2DEC(G100),\"0000000000\")","v":"0000000000"},null,null,null,{"$f":"TEXT(HEX2DEC(K100),\"0000000000\")","v":"0000000000"},null,null,null,{"$f":"HEX2DEC(O100)","v":0},{"$f":"HEX2DEC(P100)","v":0},{"$f":"HEX2DEC(Q100)","v":0},{"$f":"HEX2DEC(R100)","v":0},{"$f":"HEX2DEC(S100)","v":0},{"$f":"HEX2DEC(T100)","v":0}]
[null,{"$f":"B101","v":0},{"$f":"DATE(MID(C101,5,2)+100,MID(C101,3,2),MID(C101,1,2))","v":"1999-11-30"},null,{"$f":"(RIGHT(C101,4))","v":"0000"},null,{"$f":"(IF(HEX2DEC(G100)>(2147483647),HEX2DEC(G100)-4294967296,HEX2DEC(G100)))*10^-7","v":0},null,null,null,{"$f":"(IF(HEX2DEC(K100)>(2147483647),HEX2DEC(K100)-4294967296,HEX2DEC(K100)))*10^-7","v":0},null,null,null,{"$f":"O101","v":0},{"$f":"P101","v":0},{"$f":"Q101","v":0},{"$f":"R101","v":0},{"$f":"S101","v":0},{"$f":"T101","v":0}]
[null,null,null,null,null,null,{"$f":"TRUNC(G102,0)","v":0},null,{"$f":"(G102-G103)*60","v":0},null,{"$f":"TRUNC(K102,0)","v":0},null,{"$f":"(K102-K103)*60","v":0}]
[]
[]
[]
[]
[]
[]
[null,"EMA",null,"WDIR",null,"WSPD",null,"GDIR",null,"GSPD",null,"ATMS",null,"DRYT"]
["7Ah\n122","ID TRAMA","DIF FECHA","Dirección del Viento",null,"Velocidad del Viento",null,"Dirección del Viento\nRáfaga",null,"Velocidad del Viento\nRáfaga",null,"Presión Atmosférica",null,"Temperatura"]
["Unidad","Id de la Trama","minutos \n(pos.y neg.)","º\n(pos)",null,"m/s x 10-2\n(pos)",null,"º\n(pos)",null,"m/s x 10-2\n(pos)",null,"hPa x 10-1\n(pos)",null,"ºC x 10-1\n(pos.y neg.)"]
["bytes a tx",1,1,2,null,2,null,2,null,2,null,2,null,2]
["Posición byte",1,2,3,4,5,6,7,8,9,10,11,12,13,14]
["7A","7A","1C",0,"B3",0,"3B",0,"C9",0,"D4",27,"C5",1,73,"A0","1C",0,18,0,2,0,2,0,2,0,2,1,"0E",0,50,0,70,0,"9B",0,"A5",7,"8E",2,"A1",64,64,"1F","1C"]
["HEX",{"$f":"TEXT(B115,\"00\")","v":"7A"},{"$f":"TEXT(C115,\"00\")","v":"1C"},{"$f":"CONCATENATE(TEXT(D115,\"00\"),TEXT(E115,\"00\"))","v":"00B3"},null,{"$f":"CONCATENATE(TEXT(F115,\"00\"),TEXT(G115,\"00\"))","v":"003B"},null,{"$f":"CONCATENATE(TEXT(H115,\"00\"),TEXT(I115,\"00\"))","v":"00C9"},null,{"$f":"CONCATENATE(TEXT(J115,\"00\"),TEXT(K115,\"00\"))","v":"00D4"},null,{"$f":"CONCATENATE(TEXT(L115,\"00\"),TEXT(M115,\"00\"))","v":"27C5"},null,{"$f":"CONCATENATE(TEXT(N115,\"00\"),TEXT(O115,\"00\"))","v":"0173"}]
["DEC",{"$f":"HEX2DEC(B116)","v":122},{"$f":"IF(HEX2DEC(C116)>(127),HEX2DEC(C116)-256,HEX2DEC(C116))","v":28},{"$f":"HEX2DEC(D116)","v":179},null,{"$f":"HEX2DEC(F116)","v":59},null,{"$f":"HEX2DEC(H116)","v":201},null,{"$f":"HEX2DEC(J116)","v":212},null,{"$f":"HEX2DEC(L116)","v":10181},null,{"$f":"IF(HEX2DEC(N116)>(32767),HEX2DEC(N116)-65536,HEX2DEC(N116))","v":371}]
[null,{"$f":"$G$8","v":"2023-07-19"},{"$f":"($I$8+C117/24/60)","v":"10:30:00"},{"$f":"D117/1","v":179},null,{"$f":"F117/100","v":0.59},null,{"$f":"H117/1","v":201},null,{"$f":"J117/100","v":2.12},null,{"$f":"L117/10","v":1018.1},null,{"$f":"N117/10","v":37.1}]
[]
["7Bh\n123","ID TRAMA","Fecha GPS MBW3",null,null,null,"Latitud",null,null,null,"Longitud",null,null,null,"Cant. Sat.","PDOP","Checksum\n(solo cuando es un telemando individual)"]
["Unidad","Id de la Trama","DDMMAAhhmm",null,null,null,"Definido en la configuración",null,null,null,"Definido en la configuración",null,null,null,"Cantidad de Satélites","Calidad Posición","Cantidad"]
["Posición byte",1,2,3,4,5,6,7,8,9,10,11,12,13,14,15,16]
["7B"]
["HEX",{"$f":"TEXT(B123,\"00\")","v":"00"},{"$f":"CONCATENATE(TEXT(C123,\"00\"),TEXT(D123,\"00\"),TEXT(E123,\"00\"),TEXT(F123,\"00\"))","v":"00000000"},null,null,null,{"$f":"CONCATENATE(TEXT(G123,\"00\"),TEXT(H123,\"00\"),TEXT(I123,\"00\"),TEXT(J123,\"00\"))","v":"00000000"},null,null,null,{"$f":"CONCATENATE(TEXT(K123,\"00\"),TEXT(L123,\"00\"),TEXT(M123,\"00\"),TEXT(N123,\"00\"))","v":"00000000"},null,null,null,{"$f":"TEXT(O123,\"00\")","v":"00"},{"$f":"TEXT(P123,\"00\")","v":"00"},{"$f":"TEXT(Q123,\"00\")","v":"00"},{"$f":"TEXT(R123,\"00\")","v":"00"},{"$f":"TEXT(S123,\"00\")","v":"00"},{"$f":"TEXT(T123,\"00\")","v":"00"}]
["DEC",{"$f":"HEX2DEC(B124)","v":0},{"$f":"TEXT(HEX2DEC(C124),\"0000000000\")","v":"0000000000"},null,null,null,{"$f":"TEXT(HEX2DEC(G124),\"0000000000\")","v":"0000000000"},null,null,null,{"$f":"TEXT(HEX2DEC(K124),\"0000000000\")","v":"0000000000"},null,null,null,{"$f":"HEX2DEC(O124)","v":0},{"$f":"HEX2DEC(P124)","v":0},{"$f":"HEX2DEC(Q124)","v":0},{"$f":"HEX2DEC(R124)","v":0},{"$f":"HEX2DEC(S124)","v":0},{"$f":"HEX2DEC(T124)","v":0}]
[null,{"$f":"B125","v":0},{"$f":"DATE(MID(C125,5,2)+100,MID(C125,3,2),MID(C125,1,2))","v":"1999-11-30"},null,{"$f":"(RIGHT(C125,4))","v":"0000"},null,{"$f":"(IF(HEX2DEC(G124)>(2147483647),HEX2DEC(G124)-4294967296,HEX2DEC(G124)))*10^-7","v":0},null,null,null,{"$f":"(IF(HEX2DEC(K124)>(2147483647),HEX2DEC(K124)-4294967296,HEX2DEC(K124)))*10^-7","v":0},null,null,null,{"$f":"O125","v":0},{"$f":"P125","v":0},{"$f":"Q125","v":0},{"$f":"R125","v":0},{"$f":"S125","v":0},{"$f":"T125","v":0}]
[null,null,null,null,null,null,{"$f":"TRUNC(G126,0)","v":0},null,{"$f":"(G126-G127)*60","v":0},null,{"$f":"TRUNC(K126,0)","v":0},null,{"$f":"(K126-K127)*60","v":0}]
[]
[]
[]
["Longitudes de tramas ",null,null,null,null,null,null,null,null,"Longitud total",{"$f":"COUNTA(B5:xfd5)","v":104}]
["Nro (Dec)","Nro (Hex)","Longitud","Trama",null,null,"Nro (Hex)","Longitud","Ubicación","Trama","Equipo","ID Trama","Celda inicio","Col. de inicio","Longitud","Col de fin","Destino"]
[1,{"$f":"DEC2HEX(A133,2)","v":"01"},null,"Tx de datos desde la estación",null,null,"01",null,null,1,{"$f":"_xlfn.xlookup(L133,G133:G147,D133:D147)","v":"CTD Datos"},{"$f":"M5","v":"1E"},{"$f":"ADDRESS(5,N133)","v":"$M$5"},{"$f":"COLUMN(M5)","v":13},{"$f":"_xlfn.xlookup(L133,$G$133:$G$147,$H$133:$H$147)","v":5},{"$f":"O133+N133","v":18},{"$f":"_xlfn.xlookup(L133,G133:G147,I133:I147)","v":"B32"},{"$f":"COUNTIF(L133:Q133,\"#N/D\")","v":0}]
[2,{"$f":"DEC2HEX(A134,2)","v":"02"},null,"Telemando desde el Servidor",null,null,"02",null,null,2,{"$f":"_xlfn.xlookup(L134,G134:G148,D134:D148)","v":{"$error":"#NAME?"}},{"$f":"INDIRECT(M134)","v":50},{"$f":"ADDRESS(5,P133)","v":"$R$5"},{"$f":"P133","v":18},{"$f":"_xlfn.xlookup(L134,$G$133:$G$147,$H$133:$H$147)","v":{"$error":"#NAME?"}},{"$f":"O134+N134","v":{"$error":"#NAME?"}},{"$f":"_xlfn.xlookup(L134,G134:G148,I134:I148)","v":{"$error":"#NAME?"}},{"$f":"COUNTIF(L134:Q134,\"#N/D\")","v":0}]
[3,{"$f":"DEC2HEX(A135,2)","v":"03"},null,"Respuesta de telemando desde la Estación",null,null,"03",null,null,3,{"$f":"_xlfn.xlookup(L135,G135:G149,D135:D149)","v":{"$error":"#NAME?"}},{"$f":"INDIRECT(M135)","v":{"$error":"#NAME?"}},{"$f":"ADDRESS(5,P134)","v":{"$error":"#NAME?"}},{"$f":"P134","v":{"$error":"#NAME?"}},{"$f":"_xlfn.xlookup(L135,$G$133:$G$147,$H$133:$H$147)","v":{"$error":"#NAME?"}},{"$f":"O135+N135","v":{"$error":"#NAME?"}},{"$f":"_xlfn.xlookup(L135,G135:G149,I135:I149)","v":{"$error":"#NAME?"}},{"$f":"COUNTIF(L135:Q135,\"#N/D\")","v":0}]
[10,{"$f":"DEC2HEX(A136,2)","v":"0A"},{"$f":"'Edo.MMB03'!D6","v":33},"MMB03 Estado",null,null,"0A",33,"B20",4,{"$f":"_xlfn.xlookup(L136,G136:G150,D136:D150)","v":{"$error":"#NAME?"}},{"$f":"INDIRECT(M136)","v":{"$error":"#NAME?"}},{"$f":"ADDRESS(5,P135)","v":{"$error":"#NAME?"}},{"$f":"P135","v":{"$error":"#NAME?"}},{"$f":"_xlfn.xlookup(L136,$G$133:$G$147,$H$133:$H$147)","v":{"$error":"#NAME?"}},{"$f":"O136+N136","v":{"$error":"#NAME?"}},{"$f":"_xlfn.xlookup(L136,G136:G150,I136:I150)","v":{"$error":"#NAME?"}},{"$f":"COUNTIF(L136:Q136,\"#N/D\")","v":0}]
[30,{"$f":"DEC2HEX(A137,2)","v":"1E"},{"$f":"'CTD Trimeter'!D8","v":5},"CTD Datos",null,null,"1E",5,"B32",5,{"$f":"_xlfn.xlookup(L137,G137:G151,D137:D151)","v":{"$error":"#NAME?"}},{"$f":"INDIRECT(M137)","v":{"$error":"#NAME?"}},{"$f":"ADDRESS(5,P136)","v":{"$error":"#NAME?"}},{"$f":"P136","v":{"$error":"#NAME?"}},{"$f":"_xlfn.xlookup(L137,$G$133:$G$147,$H$133:$H$147)","v":{"$error":"#NAME?"}},{"$f":"O137+N137","v":{"$error":"#NAME?"}},{"$f":"_xlfn.xlookup(L137,G137:G151,I137:I151)","v":{"$error":"#NAME?"}},{"$f":"COUNTIF(L137:Q137,\"#N/D\")","v":0}]
[31,{"$f":"DEC2HEX(A138,2)","v":"1F"},{"$f":"'Edo.CTD'!D3","v":12},"CTD Estado",null,null,"1F",12,"B41",6,{"$f":"_xlfn.xlookup(L138,G138:G152,D138:D152)","v":{"$error":"#NAME?"}},{"$f":"INDIRECT(M138)","v":{"$error":"#NAME?"}},{"$f":"ADDRESS(5,P137)","v":{"$error":"#NAME?"}},{"$f":"P137","v":{"$error":"#NAME?"}},{"$f":"_xlfn.xlookup(L138,$G$133:$G$147,$H$133:$H$147)","v":{"$error":"#NAME?"}},{"$f":"O138+N138","v":{"$error":"#NAME?"}},{"$f":"_xlfn.xlookup(L138,G138:G152,I138:I152)","v":{"$error":"#NAME?"}},{"$f":"COUNTIF(L138:Q138,\"#N/D\")","v":0}]
[80,{"$f":"DEC2HEX(A139,2)","v":"50"},{"$f":"ADCP!D17","v":44},"ADCP Datos",null,null,50,84,"B52",7,{"$f":"_xlfn.xlookup(L139,G139:G153,D139:D153)","v":{"$error":"#NAME?"}},{"$f":"INDIRECT(M139)","v":{"$error":"#NAME?"}},{"$f":"ADDRESS(5,P138)","v":{"$error":"#NAME?"}},{"$f":"P138","v":{"$error":"#NAME?"}},{"$f":"_xlfn.xlookup(L139,$G$133:$G$147,$H$133:$H$147)","v":{"$error":"#NAME?"}},{"$f":"O139+N139","v":{"$error":"#NAME?"}},{"$f":"_xlfn.xlookup(L139,G139:G153,I139:I153)","v":{"$error":"#NAME?"}},{"$f":"COUNTIF(L139:Q139,\"#N/D\")","v":0}]
[81,{"$f":"DEC2HEX(A140,2)","v":"51"},{"$f":"'ADCP Estado'!D3","v":15},"ADCP Estado",null,null,51,15,"B61",8,{"$f":"_xlfn.xlookup(L140,G140:G154,D140:D154)","v":{"$error":"#NAME?"}},{"$f":"INDIRECT(M140)","v":{"$error":"#NAME?"}},{"$f":"ADDRESS(5,P139)","v":{"$error":"#NAME?"}},{"$f":"P139","v":{"$error":"#NAME?"}},{"$f":"_xlfn.xlookup(L140,$G$133:$G$147,$H$133:$H$147)","v":{"$error":"#NAME?"}},{"$f":"O140+N140","v":{"$error":"#NAME?"}},{"$f":"_xlfn.xlookup(L140,G140:G154,I140:I154)","v":{"$error":"#NAME?"}},{"$f":"COUNTIF(L140:Q140,\"#N/D\")","v":0}]
[120,{"$f":"DEC2HEX(A141,2)","v":"78"},null,"EMA Gill Datos",null,null,"78",null,null,9,{"$f":"_xlfn.xlookup(L141,G141:G155,D141:D155)","v":{"$error":"#NAME?"}},{"$f":"INDIRECT(M141)","v":{"$error":"#NAME?"}},{"$f":"ADDRESS(5,P140)","v":{"$error":"#NAME?"}},{"$f":"P140","v":{"$error":"#NAME?"}},{"$f":"_xlfn.xlookup(L141,$G$133:$G$147,$H$133:$H$147)","v":{"$error":"#NAME?"}},{"$f":"O141+N141","v":{"$error":"#NAME?"}},{"$f":"_xlfn.xlookup(L141,G141:G155,I141:I155)","v":{"$error":"#NAME?"}},{"$f":"COUNTIF(L141:Q141,\"#N/D\")","v":0}]
[121,{"$f":"DEC2HEX(A142,2)","v":"79"},null,"EMA Gill Estado",null,null,"79",null,null,10,{"$f":"_xlfn.xlookup(L142,G142:G156,D142:D156)","v":{"$error":"#NAME?"}},{"$f":"INDIRECT(M142)","v":{"$error":"#NAME?"}},{"$f":"ADDRESS(5,P141)","v":{"$error":"#NAME?"}},{"$f":"P141","v":{"$error":"#NAME?"}},{"$f":"_xlfn.xlookup(L142,$G$133:$G$147,$H$133:$H$147)","v":{"$error":"#NAME?"}},{"$f":"O142+N142","v":{"$error":"#NAME?"}},{"$f":"_xlfn.xlookup(L142,G142:G156,I142:I156)","v":{"$error":"#NAME?"}},{"$f":"COUNTIF(L142:Q142,\"#N/D\")","v":0}]
[122,{"$f":"DEC2HEX(A143,2)","v":"7A"},{"$f":"EMA!D8","v":14},"EMA AIRMAR Datos",null,null,"7A",14,"B115",11,{"$f":"_xlfn.xlookup(L143,G143:G157,D143:D157)","v":{"$error":"#NAME?"}},{"$f":"INDIRECT(M143)","v":{"$error":"#NAME?"}},{"$f":"ADDRESS(5,P142)","v":{"$error":"#NAME?"}},{"$f":"P142","v":{"$error":"#NAME?"}},{"$f":"_xlfn.xlookup(L143,$G$133:$G$147,$H$133:$H$147)","v":{"$error":"#NAME?"}},{"$f":"O143+N143","v":{"$error":"#NAME?"}},{"$f":"_xlfn.xlookup(L143,G143:G157,I143:I157)","v":{"$error":"#NAME?"}},{"$f":"COUNTIF(L143:Q143,\"#N/D\")","v":0}]
[123,{"$f":"DEC2HEX(A144,2)","v":"7B"},{"$f":"'Edo.EMA'!D3","v":15},"EMA AIRMAR Estado",null,null,"7B",15,"B123",12,{"$f":"_xlfn.xlookup(L144,G144:G158,D144:D158)","v":{"$error":"#NAME?"}},{"$f":"INDIRECT(M144)","v":{"$error":"#NAME?"}},{"$f":"ADDRESS(5,P143)","v":{"$error":"#NAME?"}},{"$f":"P143","v":{"$error":"#NAME?"}},{"$f":"_xlfn.xlookup(L144,$G$133:$G$147,$H$133:$H$147)","v":{"$error":"#NAME?"}},{"$f":"O144+N144","v":{"$error":"#NAME?"}},{"$f":"_xlfn.xlookup(L144,G144:G158,I144:I158)","v":{"$error":"#NAME?"}},{"$f":"COUNTIF(L144:Q144,\"#N/D\")","v":0}]
[160,{"$f":"DEC2HEX(A145,2)","v":"A0"},{"$f":"Waves!D12","v":28},"MBW3 Datos",null,null,"A0",28,"B72"]
[161,{"$f":"DEC2HEX(A146,2)","v":"A1"},{"$f":"'Edo.Wave'!D3","v":8},"MBW3 Estado",null,null,"A1",8,"B90"]
[162,{"$f":"DEC2HEX(A147,2)","v":"A2"},{"$f":"'Edo.GPS-Wave'!D3","v":15},"MBW3 GPS Estado",null,null,"A2",15,"B99"]
[]
[null,null,null,null,null,null,null,null,null,null,"Posición byte",1,2,3,4,5,6,7]
[null,null,null,null,null,null,null,null,null,null,50,50,"FE",0,"0C","FE","A0","FD"]
[null,null,null,null,null,null,null,null,null,null,null,{"$f":"IF(_xlfn.xlookup($K$150,$L$133:$L$144,$R$133:$R$144)=0,INDEX(K150:R150,1,3))","v":{"$error":"#NAME?"}}]
[]
[null,null,null,null,null,null,null,null,null,null,null,{"$f":"INDEX(K150:R150,1,3)","v":"FE"}]

{"sheet":"Lector de tramas auto","index":1,"n_rows":164,"n_cols":299,"rows_kept":164,"cut":false,"hidden":false,"merged":[[1,2,1,3],[1,4,1,5],[1,6,1,9],[1,10,1,11],[2,2,2,3],[2,4,2,5],[2,6,2,9],[2,10,2,11],[5,2,5,3],[5,4,5,5],[5,6,5,9],[5,10,5,11],[5,14,5,15],[5,16,5,17],[5,18,5,19],[5,20,5,21],[5,22,5,23],[6,2,6,3],[6,4,6,5],[6,6,6,9],[6,10,6,11],[6,14,6,15],[6,16,6,17],[6,18,6,19],[6,20,6,21],[6,22,6,23],[7,2,7,3],[7,4,7,5],[7,6,7,7],[7,8,7,9],[7,10,7,11],[7,14,7,15],[7,16,7,17],[7,18,7,19],[7,20,7,21],[7,22,7,23],[8,8,8,9],[11,2,11,5],[11,6,11,7],[11,8,11,9],[11,10,11,11],[11,12,11,13],[11,14,11,15],[11,16,11,18],[11,19,11,20],[11,21,11,22],[11,24,11,27],[11,28,11,31],[11,32,11,33],[12,2,12,5],[12,6,12,7],[12,8,12,9],[12,10,12,11],[12,12,12,13],[12,14,12,15],[12,21,12,22],[12,24,12,27],[12,28,12,31],[12,32,12,33],[13,2,13,5],[13,6,13,7],[13,8,13,9],[13,10,13,11],[13,12,13,13],[13,14,13,15],[13,16,13,18],[13,19,13,20],[13,21,13,22],[13,24,13,27],[13,28,13,31],[13,32,13,33],[14,2,14,5],[14,6,14,7],[14,8,14,9],[14,10,14,11],[14,12,14,13],[14,14,14,15],[14,16,14,18],[14,19,14,20],[14,21,14,22],[14,24,14,27],[14,28,14,31],[14,32,14,33],[15,2,15,5],[15,6,15,7],[15,8,15,9],[15,10,15,11],[15,12,15,13],[15,14,15,15],[15,16,15,18],[15,19,15,20],[15,21,15,22],[15,24,15,27],[15,28,15,31],[15,32,15,33],[16,2,16,5],[16,6,16,7],[16,8,16,9],[16,10,16,11],[16,12,16,13],[16,14,16,15],[16,16,16,18],[16,19,16,20],[16,21,16,22],[16,24,16,27],[16,28,16,31],[16,32,16,33],[17,2,17,5],[17,6,17,7],[17,8,17,9],[17,10,17,11],[17,12,17,13],[17,14,17,15],[17,16,17,18],[17,19,17,20],[17,21,17,22],[17,24,17,27],[17,28,17,31],[17,32,17,33],[20,2,20,5],[20,6,20,7],[20,8,20,9],[20,10,20,11],[20,12,20,13],[20,14,20,15],[20,16,20,18],[20,19,20,20],[20,21,20,22],[20,24,20,27],[20,28,20,31],[20,32,20,33],[21,2,21,5],[21,6,21,7],[21,8,21,9],[21,10,21,11],[21,12,21,13],[21,14,21,15],[21,16,21,18],[21,19,21,20],[21,21,21,22],[21,24,21,27],[21,28,21,31],[21,32,21,33],[22,2,22,3],[22,4,22,5],[22,6,22,7],[22,8,22,9],[22,10,22,11],[22,12,22,13],[22,14,22,15],[22,17,22,18],[22,19,22,20],[22,21,22,22],[22,24,22,27],[22,28,22,31],[22,32,22,33],[23,14,23,15],[23,16,23,18],[23,19,23,20],[23,21,23,22],[23,24,23,25],[23,26,23,27],[23,28,23,29],[23,30,23,31],[27,1,27,2],[27,3,27,5],[28,3,28,5],[29,3,29,5],[32,3,32,5],[33,3,33,5],[34,3,34,5],[37,2,37,5],[37,6,37,7],[37,8,37,9],[38,2,38,5],[38,6,38,7],[38,8,38,9],[41,2,41,5],[41,6,41,7],[41,8,41,9],[42,2,42,5],[42,6,42,7],[42,8,42,9],[43,2,43,3],[43,4,43,5],[43,6,43,7],[43,8,43,9],[46,3,46,6],[46,7,46,10],[46,11,46,14],[46,15,46,18],[46,19,46,22],[46,23,46,26],[46,27,46,30],[46,31,46,34],[46,35,46,38],[46,39,46,42],[46,43,46,46],[46,47,46,50],[46,51,46,54],[46,55,46,58],[46,59,46,62],[46,63,46,66],[46,67,46,70],[46,71,46,74],[46,75,46,78],[46,79,46,82],[47,1,48,2],[47,3,47,4],[47,5,47,6],[47,7,47,8],[47,9,47,10],[47,11,47,12],[47,13,47,14],[47,15,47,16],[47,17,47,18],[47,19,47,20],[47,21,47,22],[47,23,47,24],[47,25,47,26],[47,27,47,28],[47,29,47,30],[47,31,47,32],[47,33,47,34],[47,35,47,36],[47,37,47,38],[47,39,47,40],[47,41,47,42],[47,43,47,44],[47,45,47,46],[47,47,47,48],[47,49,47,50],[47,51,47,52],[47,53,47,54],[47,55,47,56],[47,57,47,58],[47,59,47,60],[47,61,47,62],[47,63,47,64],[47,65,47,66],[47,67,47,68],[47,69,47,70],[47,71,47,72],[47,73,47,74],[47,75,47,76],[47,77,47,78],[47,79,47,80],[47,81,47,82],[47,83,47,84],[48,3,48,4],[48,5,48,6],[48,7,48,8],[48,9,48,10],[48,11,48,12],[48,13,48,14],[48,15,48,16],[48,17,48,18],[48,19,48,20],[48,21,48,22],[48,23,48,24],[48,25,48,26],[48,27,48,28],[48,29,48,30],[48,31,48,32],[48,33,48,34],[48,35,48,36],[48,37,48,38],[48,39,48,40],[48,41,48,42],[48,43,48,44],[48,45,48,46],[48,47,48,48],[48,49,48,50],[48,51,48,52],[48,53,48,54],[48,55,48,56],[48,57,48,58],[48,59,48,60],[48,61,48,62],[48,63,48,64],[48,65,48,66],[48,67,48,68],[48,69,48,70],[48,71,48,72],[48,73,48,74],[48,75,48,76],[48,77,48,78],[48,79,48,80],[48,81,48,82],[48,83,48,84],[49,3,49,4],[49,5,49,6],[49,7,49,8],[49,9,49,10],[49,11,49,12],[49,13,49,14],[49,15,49,16],[49,17,49,18],[49,19,49,20],[49,21,49,22],[49,23,49,24],[49,25,49,26],[49,27,49,28],[49,29,49,30],[49,31,49,32],[49,33,49,34],[49,35,49,36],[49,37,49,38],[49,39,49,40],[49,41,49,42],[49,43,49,44],[49,45,49,46],[49,47,49,48],[49,49,49,50],[49,51,49,52],[49,53,49,54],[49,55,49,56],[49,57,49,58],[49,59,49,60],[49,61,49,62],[49,63,49,64],[49,65,49,66],[49,67,49,68],[49,69,49,70],[49,71,49,72],[49,73,49,74],[49,75,49,76],[49,77,49,78],[49,79,49,80],[49,81,49,82],[49,83,49,84],[52,3,52,4],[52,5,52,6],[52,7,52,8],[52,9,52,10],[52,11,52,12],[52,13,52,14],[52,15,52,16],[52,17,52,18],[52,19,52,20],[52,21,52,22],[52,23,52,24],[52,25,52,26],[52,27,52,28],[52,29,52,30],[52,31,52,32],[52,33,52,34],[52,35,52,36],[52,37,52,38],[52,39,52,40],[52,41,52,42],[52,43,52,44],[52,45,52,46],[52,47,52,48],[52,49,52,50],[52,51,52,52],[52,53,52,54],[52,55,52,56],[52,57,52,58],[52,59,52,60],[52,61,52,62],[52,63,52,64],[52,65,52,66],[52,67,52,68],[52,69,52,70],[52,71,52,72],[52,73,52,74],[52,75,52,76],[52,77,52,78],[52,79,52,80],[52,81,52,82],[52,83,52,84],[53,3,53,4],[53,5,53,6],[53,7,53,8],[53,9,53,10],[53,11,53,12],[53,13,53,14],[53,15,53,16],[53,17,53,18],[53,19,53,20],[53,21,53,22],[53,23,53,24],[53,25,53,26],[53,27,53,28],[53,29,53,30],[53,31,53,32],[53,33,53,34],[53,35,53,36],[53,37,53,38],[53,39,53,40],[53,41,53,42],[53,43,53,44],[53,45,53,46],[53,47,53,48],[53,49,53,50],[53,51,53,52],[53,53,53,54],[53,55,53,56],[53,57,53,58],[53,59,53,60],[53,61,53,62],[53,63,53,64],[53,65,53,66],[53,67,53,68],[53,69,53,70],[53,71,53,72],[53,73,53,74],[53,75,53,76],[53,77,53,78],[53,79,53,80],[53,81,53,82],[53,83,53,84],[54,3,54,4],[54,5,54,6],[54,7,54,8],[54,9,54,10],[54,11,54,12],[54,13,54,14],[54,15,54,16],[54,17,54,18],[54,19,54,20],[54,21,54,22],[54,23,54,24],[54,25,54,26],[54,27,54,28],[54,29,54,30],[54,31,54,32],[54,33,54,34],[54,35,54,36],[54,37,54,38],[54,39,54,40],[54,41,54,42],[54,43,54,44],[54,45,54,46],[54,47,54,48],[54,49,54,50],[54,51,54,52],[54,53,54,54],[54,55,54,56],[54,57,54,58],[54,59,54,60],[54,61,54,62],[54,63,54,64],[54,65,54,66],[54,67,54,68],[54,69,54,70],[54,71,54,72],[54,73,54,74],[54,75,54,76],[54,77,54,78],[54,79,54,80],[54,81,54,82],[54,83,54,84],[57,2,57,5],[57,6,57,7],[57,8,57,9],[57,10,57,11],[57,12,57,13],[57,14,57,15],[58,2,58,5],[58,6,58,7],[58,8,58,9],[58,10,58,11],[58,12,58,13],[58,14,58,15],[61,2,61,5],[61,6,61,7],[61,8,61,9],[61,10,61,11],[61,12,61,13],[61,14,61,15],[62,2,62,5],[62,6,62,7],[62,8,62,9],[62,10,62,11],[62,12,62,13],[62,14,62,15],[63,2,63,3],[63,4,63,5],[63,6,63,7],[63,8,63,9],[63,10,63,11],[63,12,63,13],[63,14,63,15],[67,1,67,2],[67,3,67,4],[67,5,67,6],[67,7,67,8],[67,9,67,10],[67,11,67,12],[67,13,67,14],[67,15,67,16],[67,17,67,18],[67,19,67,20],[67,21,67,22],[67,23,67,24],[67,25,67,26],[68,3,68,4],[68,5,68,6],[68,7,68,8],[68,9,68,10],[68,11,68,12],[68,13,68,14],[68,15,68,16],[68,17,68,18],[68,19,68,20],[68,21,68,22],[68,23,68,24],[68,25,68,26],[69,3,69,4],[69,5,69,6],[69,7,69,8],[69,9,69,10],[69,11,69,12],[69,13,69,14],[69,15,69,16],[69,17,69,18],[69,19,69,20],[69,21,69,22],[69,23,69,24],[69,25,69,26],[72,3,72,4],[72,5,72,6],[72,7,72,8],[72,9,72,10],[72,11,72,12],[72,13,72,14],[72,15,72,16],[72,17,72,18],[72,19,72,20],[72,21,72,22],[72,23,72,24],[72,25,72,26],[73,3,73,4],[73,5,73,6],[73,7,73,8],[73,9,73,10],[73,11,73,12],[73,13,73,14],[73,15,73,16],[73,17,73,18],[73,19,73,20],[73,21,73,22],[73,23,73,24],[73,25,73,26],[77,2,77,5],[78,2,78,5],[79,2,79,5],[80,2,80,5],[81,2,81,5],[82,2,82,5],[83,2,83,5],[86,2,86,5],[90,2,90,5],[91,2,91,5],[92,2,92,3],[92,4,92,5],[95,2,95,5],[95,6,95,9],[95,10,95,13],[96,2,96,5],[96,6,96,9],[96,10,96,13],[99,2,99,5],[99,6,99,9],[99,10,99,13],[100,2,100,5],[100,6,100,9],[100,10,100,13],[101,2,101,3],[101,4,101,5],[101,6,101,9],[101,10,101,13],[102,6,102,7],[102,8,102,9],[102,10,102,11],[102,12,102,13],[109,1,109,2],[109,3,109,4],[109,5,109,6],[109,7,109,8],[109,9,109,10],[109,11,109,12],[109,13,109,14],[110,3,110,4],[110,5,110,6],[110,7,110,8],[110,9,110,10],[110,11,110,12],[110,13,110,14],[111,3,111,4],[111,5,111,6],[111,7,111,8],[111,9,111,10],[111,11,111,12],[111,13,111,14],[112,3,112,4],[112,5,112,6],[112,7,112,8],[112,9,112,10],[112,11,112,12],[112,13,112,14],[115,3,115,4],[115,5,115,6],[115,7,115,8],[115,9,115,10],[115,11,115,12],[115,13,115,14],[116,3,116,4],[116,5,116,6],[116,7,116,8],[116,9,116,10],[116,11,116,12],[116,13,116,14],[117,3,117,4],[117,5,117,6],[117,7,117,8],[117,9,117,10],[117,11,117,12],[117,13,117,14],[119,2,119,5],[119,6,119,9],[119,10,119,13],[120,2,120,5],[120,6,120,9],[120,10,120,13],[123,2,123,5],[123,6,123,9],[123,10,123,13],[124,2,124,5],[124,6,124,9],[124,10,124,13],[125,2,125,3],[125,4,125,5],[125,6,125,9],[125,10,125,13],[126,6,126,7],[126,8,126,9],[126,10,126,11],[126,12,126,13],[130,0,130,3],[130,22,130,23],[131,3,131,5]]}
[null,null,null,null,null,{"$f":"TRANSPOSE(K131:K142)","v":145},null,null,null,null,null,null,null,null,1,2,3,4,5,6,7,8,9,10,11,12]
["01h\n1","ID TRAMA","ID Estación",null,"Nro de Paquete",null,"Fecha",null,null,null,"Longitud Total de la Trama",null,"Grupo de tramas de cada Equipo","Checksum",{"$f":"K133","v":"CTD Datos"},{"$f":"K134","v":{"$error":"#NAME?"}},{"$f":"K135","v":{"$error":"#NAME?"}},{"$f":"K136","v":{"$error":"#NAME?"}},{"$f":"K137","v":{"$error":"#NAME?"}},{"$f":"K138","v":{"$error":"#NAME?"}},{"$f":"K139","v":{"$error":"#NAME?"}},{"$f":"K140","v":{"$error":"#NAME?"}},{"$f":"K141","v":{"$error":"#NAME?"}},{"$f":"K142","v":{"$error":"#NAME?"}},{"$f":"K143","v":{"$error":"#NAME?"}},{"$f":"K144","v":{"$error":"#NAME?"}}]
["Unidad","Id de la Trama","Id de la Estación",null,"Contador",null,"DDMMAAhhmm",null,null,null,"Longitud desde el byte 12 hasta antes del *del checksum",null,"Definido en la configuración de cada sensor","Suma de todos los bytes",{"$f":"TRANSPOSE(T133:T144)","v":"05:59:00"},{"$error":"#NAME?"},{"$error":"#NAME?"},{"$error":"#NAME?"},{"$error":"#NAME?"},{"$error":"#NAME?"},{"$error":"#NAME?"},{"$error":"#NAME?"},{"$error":"#NAME?"},{"$error":"#NAME?"},{"$error":"#NAME?"},{"$error":"#NAME?"}]
[null,1,2,3,4,5,6,7,8,9,10,11,12,13,14,15,16,17,18,19,20,21,22,23,24,25,26,27,28,29,30,31,32,33,34,35,36,37,38,39,40,41,42,43,44,45,46,47,48,49,50,51,52,53,54,55,56,57,58,59,60,61,62,63,64,65,66,67,68,69,70,71,72,73,74,75,76,77,78,79,80,81,82,83,84,85,86,87,88,89,90,91,92,93,94,95,96,97,98,99,100,101,102,103,104,105,106,107,108,109,110,111,112,113,114,115,116,117,118,119,120,121,122,123,124,125,126,127,128,129,130,131,132,133,134,135,136,137,138,139,140,141,142,143,144,145,146,147,148,149,150,151,152,153,154,155,156,157,158,159,160,161,162,163,164,165,166,167,168,169,170,171,172,173,174,175,176,177,178,179,180,181,182,183,184,185,186,187,188,189,190,191,192,193,194,195,196,197,198,199,200,201,202,203,204,205,206,207,208,209,210,211,212,213,214,215,216,217,218,219,220,221,222,223,224,225,226,227,228,229,230,231,232,233,234,235,236,237,238,239,240,241,242,243,244,245,246,247,248,249,250,251,252,253,254,255,256,257,258,259,260,261,262,263,264,265,266,267,268,269,270,271,272,273,274,275,276,277,278,279,280,281,282,283,284,285,286,287,288,289,290,291,292,293,294,295,296,297,298]
["01",1,0,5,0,24,77,"A3","E8",44,0,90,"1E","1B",0,0,"0C",50,"1B",1,79,0,"FF",1,56,"FF","C0",2,"D9","FE",74,"FE","2B","FB","AA","FF",82,"FE","8D","FF","F9","FE","B8",0,53,"FE","B0",0,"8F",0,56,"FE","E6","FE","C8",1,70,"FD",18,0,"1D","FF","AC",0,6,"FF",0,"FF","FA","FD",55,"FF",75,"FE",8,1,"BE","FE","8A",2,"C2","FD","AB",0,"D9","FC",94,1,69,"FE",45,2,83,"FD","8C",1,5,"FD","7B","0B","2D","7A","1C",0,"8D",0,16,0,98,0,"2E",27,"B3",1,29,"A0","1C",0,15,0,2,0,2,0,2,0,2,1,21,1,0,0,"8E",0,98,0,"AE","0C","D5",2,"C0",64,64,38,87,"<CR><LF>"]
["HEX",{"$f":"TEXT(B5,\"00\")","v":"01"},{"$f":"CONCATENATE(TEXT(C5,\"00\"),TEXT(D5,\"00\"))","v":"0005"},null,{"$f":"CONCATENATE(TEXT(E5,\"00\"),TEXT(F5,\"00\"))","v":"0024"},null,{"$f":"CONCATENATE(TEXT(G5,\"00\"),TEXT(H5,\"00\"),TEXT(I5,\"00\"),TEXT(J5,\"00\"))","v":"77A3E844"},null,null,null,{"$f":"CONCATENATE(TEXT(K5,\"00\"),TEXT(L5,\"00\"))","v":"0090"},null,{"$f":"TEXT(M5,\"00\")","v":"1E"},{"$f":"TEXT(N5,\"00\")","v":"1B"},{"$f":"CONCATENATE(O5,P5)","v":"00"},null,{"$f":"CONCATENATE(Q5,R5)","v":"0C50"},null,{"$f":"CONCATENATE(S5,T5)","v":"1B1"},null,{"$f":"CONCATENATE(U5,V5)","v":"790"},null,{"$f":"CONCATENATE(W5,X5)","v":"FF1"}]
["DEC",{"$f":"HEX2DEC(B6)","v":1},{"$f":"HEX2DEC(C6)","v":5},null,{"$f":"HEX2DEC(E6)","v":36},null,{"$f":"TEXT(HEX2DEC(G6),\"0000000000\")","v":"2007230532"},null,null,null,{"$f":"HEX2DEC(K6)","v":144},null,{"$f":"HEX2DEC(M6)","v":30},{"$f":"HEX2DEC(N6)","v":27},{"$f":"HEX2DEC(O6)","v":0},null,{"$f":"HEX2DEC(Q6)","v":3152},null,{"$f":"HEX2DEC(S6)","v":433},null,{"$f":"HEX2DEC(U6)","v":1936},null,{"$f":"HEX2DEC(W6)","v":4081}]
[null,{"$f":"B7","v":1},{"$f":"C7","v":5},null,{"$f":"E7","v":36},null,{"$f":"DATE(MID(G7,5,2)+100,MID(G7,3,2),MID(G7,1,2))","v":"2023-07-20"},null,{"$f":"TIME(LEFT(RIGHT(G7,4),2),RIGHT(RIGHT(G7,4),2),)","v":"05:32:00"},null,{"$f":"K7","v":144},null,{"$f":"M7","v":30},{"$f":"N7","v":27},{"$f":"O7","v":0},null,{"$f":"Q7","v":3152},null,{"$f":"S7","v":433},null,{"$f":"U7","v":1936},null,{"$f":"W7","v":4081}]
[]
[]
[]
["0Ah\n10","MMB03 ESTADO",null,null,null,null,"Volt.Batería",null,"V1",null,"V2",null,"V3",null,"I.Total",null,"Alarmas",null,null,"Estado de las Entradas",null,"Estado Sinc",null,"Memoria","Latitud",null,null,null,"Longitud",null,null,null,"Radio de Borneo",null,"Checksum\n(solo cuando es un telemando individual)"]
["Unidad","Id de la Trama","DDMMAAhhmm",null,null,null,"Definido en la configuración",null,"Definido en la configuración",null,"Definido en la configuración",null,"Definido en la configuración",null,"Definido en la configuración",null,"B0=Bat. Baja\nB1=Tensión V1\nB2=Tensión V2\nB3=Tensión V3\nB4=Corriente I\nB5=Intrusión \nB6=MFGPS\nB7=Impacto Leve\n","B8=Impacto Grave\nB9=COM1 MTX\nB10=COM2 CTD\nB11=COM3 MBW3\nB12=COM4 EMA\nB13=COM5 \nB14=COM6 ADCP\nB15=COM7 ","B16=COM8\nB17=COM9\nB18=COM10\nB19=Offposition\nB20=\nB21=\nB22=\nB23=","B0 =Ent.ext.2\n      (Edo. MF12)\n        0= Alarma\n        1= Vivo\nB1 =Ent.ext. 1\n    (Día/Noc.MF12)\n        0= Noche\n        1= Día\nB2 =Ent.ext.3\nB3 =Ent.ext.4\nB4 =Ent.ext.5","B5 =Ent.ext.6\nB6 =Ent.ext.7\nB7 =Ent.ext.8\nB8 =Ent.ext.9\nB9 =Ent.ext.10\nB10 =Ent.ext.11\nB11 =Ent.ext.12\nB12 =Ent.ext.13 MMB viva\nB13 =Ent.ext.14\nB14 =Ent.ext.15\nB15 =Ent.ext.16","Byte 21= Modo sincronizacion:\n         0 =No sincronizada\n         1 =Sincr. por Waves\n         2 =Sincr. por MFSINCLOC\n         3 =Sincr. por Telemando\n         4 =Sincr. por EMA\n         5 =Sincr. por AIS\n\nByte 22=Enable/Disable Intrusion\n(1= Enable / 0= Disable)",null,"% SD  Usada\n(0-100)\nSi no hay tarjeta =255","Definido en la configuración",null,null,null,"Definido en la configuración",null,null,null,"Definido en la configuración",null,"Cantidad"]
["Valor Min.",10,"0101200000",null,null,null,0,null,0,null,0,null,0,null,0,null,0,null,null,0,null,0,null,0,-900000000,null,null,null,-1799999999,null,null,null,0]
["Valor Max.",29,3112992359,null,null,null,65535,null,65535,null,65535,null,65535,null,65535,null,65535,null,null,65535,null,65535,null,65535,"900000000",null,null,null,1800000000,null,null,null,65534]
["Posición trama a tx",1,{"$f":"B16+B17","v":2},null,null,null,{"$f":"C16+C17","v":6},null,{"$f":"G17+G16","v":8},null,{"$f":"I17+I16","v":10},null,{"$f":"K17+K16","v":12},null,{"$f":"M17+M16","v":14},null,{"$f":"O17+O16","v":16},null,null,{"$f":"Q17+Q16","v":19},null,{"$f":"T17+T16","v":21},null,{"$f":"V17+V16","v":23},{"$f":"X16+X17","v":24},null,null,null,{"$f":"Y17+Y16","v":28},null,null,null,{"$f":"AC16+AC17","v":32},null,{"$f":"AG16+AG17","v":34}]
["bytes a tx",1,4,null,null,null,2,null,2,null,2,null,2,null,2,null,3,null,null,2,null,2,null,1,4,null,null,null,4,null,null,null,2]
["Ejm. completo",10,3103221345,null,null,null,1235,null,1244,null,1253,null,1262,null,1234,null,{"$f":"Q24","v":{"$error":"#NAME?"}},null,null,{"$f":"T24","v":{"$error":"#NAME?"}},null,null,null,99,4587765432,null,null,null,-15612345678,null,null,null,1234,null,"4F"]
["Posición byte",1,2,3,4,5,6,7,8,9,10,11,12,13,14,15,16,17,18,19,20,21,22,23,24,25,26,27,28,29,30,31,32,33,34]
["0A",{"$f":"IF(_xlfn.xlookup($A20,$L$133:$L$144,$R$133:$R$144)=0,INDEX($A$5:$ZZ$5,1,_xlfn.xlookup($A20,$L$133:$L$144,$N$133:$N$144)+B19-1))","v":{"$error":"#NAME?"}},{"$f":"IF(_xlfn.xlookup($A20,$L$133:$L$144,$R$133:$R$144)=0,INDEX($A$5:$ZZ$5,1,_xlfn.xlookup($A20,$L$133:$L$144,$N$133:$N$144)+C19-1))","v":{"$error":"#NAME?"}},{"$f":"IF(_xlfn.xlookup($A20,$L$133:$L$144,$R$133:$R$144)=0,INDEX($A$5:$ZZ$5,1,_xlfn.xlookup($A20,$L$133:$L$144,$N$133:$N$144)+D19-1))","v":{"$error":"#NAME?"}},{"$f":"IF(_xlfn.xlookup($A20,$L$133:$L$144,$R$133:$R$144)=0,INDEX($A$5:$ZZ$5,1,_xlfn.xlookup($A20,$L$133:$L$144,$N$133:$N$144)+E19-1))","v":{"$error":"#NAME?"}},{"$f":"IF(_xlfn.xlookup($A20,$L$133:$L$144,$R$133:$R$144)=0,INDEX($A$5:$ZZ$5,1,_xlfn.xlookup($A20,$L$133:$L$144,$N$133:$N$144)+F19-1))","v":{"$error":"#NAME?"}},{"$f":"IF(_xlfn.xlookup($A20,$L$133:$L$144,$R$133:$R$144)=0,INDEX($A$5:$ZZ$5,1,_xlfn.xlookup($A20,$L$133:$L$144,$N$133:$N$144)+G19-1))","v":{"$error":"#NAME?"}},{"$f":"IF(_xlfn.xlookup($A20,$L$133:$L$144,$R$133:$R$144)=0,INDEX($A$5:$ZZ$5,1,_xlfn.xlookup($A20,$L$133:$L$144,$N$133:$N$144)+H19-1))","v":{"$error":"#NAME?"}},{"$f":"IF(_xlfn.xlookup($A20,$L$133:$L$144,$R$133:$R$144)=0,INDEX($A$5:$ZZ$5,1,_xlfn.xlookup($A20,$L$133:$L$144,$N$133:$N$144)+I19-1))","v":{"$error":"#NAME?"}},{"$f":"IF(_xlfn.xlookup($A20,$L$133:$L$144,$R$133:$R$144)=0,INDEX($A$5:$ZZ$5,1,_xlfn.xlookup($A20,$L$133:$L$144,$N$133:$N$144)+J19-1))","v":{"$error":"#NAME?"}},{"$f":"IF(_xlfn.xlookup($A20,$L$133:$L$144,$R$133:$R$144)=0,INDEX($A$5:$ZZ$5,1,_xlfn.xlookup($A20,$L$133:$L$144,$N$133:$N$144)+K19-1))","v":{"$error":"#NAME?"}},{"$f":"IF(_xlfn.xlookup($A20,$L$133:$L$144,$R$133:$R$144)=0,INDEX($A$5:$ZZ$5,1,_xlfn.xlookup($A20,$L$133:$L$144,$N$133:$N$144)+L19-1))","v":{"$error":"#NAME?"}},{"$f":"IF(_xlfn.xlookup($A20,$L$133:$L$144,$R$133:$R$144)=0,INDEX($A$5:$ZZ$5,1,_xlfn.xlookup($A20,$L$133:$L$144,$N$133:$N$144)+M19-1))","v":{"$error":"#NAME?"}},{"$f":"IF(_xlfn.xlookup($A20,$L$133:$L$144,$R$133:$R$144)=0,INDEX($A$5:$ZZ$5,1,_xlfn.xlookup($A20,$L$133:$L$144,$N$133:$N$144)+N19-1))","v":{"$error":"#NAME?"}},{"$f":"IF(_xlfn.xlookup($A20,$L$133:$L$144,$R$133:$R$144)=0,INDEX($A$5:$ZZ$5,1,_xlfn.xlookup($A20,$L$133:$L$144,$N$133:$N$144)+O19-1))","v":{"$error":"#NAME?"}},{"$f":"IF(_xlfn.xlookup($A20,$L$133:$L$144,$R$133:$R$144)=0,INDEX($A$5:$ZZ$5,1,_xlfn.xlookup($A20,$L$133:$L$144,$N$133:$N$144)+P19-1))","v":{"$error":"#NAME?"}},{"$f":"IF(_xlfn.xlookup($A20,$L$133:$L$144,$R$133:$R$144)=0,INDEX($A$5:$ZZ$5,1,_xlfn.xlookup($A20,$L$133:$L$144,$N$133:$N$144)+Q19-1))","v":{"$error":"#NAME?"}},{"$f":"IF(_xlfn.xlookup($A20,$L$133:$L$144,$R$133:$R$144)=0,INDEX($A$5:$ZZ$5,1,_xlfn.xlookup($A20,$L$133:$L$144,$N$133:$N$144)+R19-1))","v":{"$error":"#NAME?"}},{"$f":"IF(_xlfn.xlookup($A20,$L$133:$L$144,$R$133:$R$144)=0,INDEX($A$5:$ZZ$5,1,_xlfn.xlookup($A20,$L$133:$L$144,$N$133:$N$144)+S19-1))","v":{"$error":"#NAME?"}},{"$f":"IF(_xlfn.xlookup($A20,$L$133:$L$144,$R$133:$R$144)=0,INDEX($A$5:$ZZ$5,1,_xlfn.xlookup($A20,$L$133:$L$144,$N$133:$N$144)+T19-1))","v":{"$error":"#NAME?"}},{"$f":"IF(_xlfn.xlookup($A20,$L$133:$L$144,$R$133:$R$144)=0,INDEX($A$5:$ZZ$5,1,_xlfn.xlookup($A20,$L$133:$L$144,$N$133:$N$144)+U19-1))","v":{"$error":"#NAME?"}},{"$f":"IF(_xlfn.xlookup($A20,$L$133:$L$144,$R$133:$R$144)=0,INDEX($A$5:$ZZ$5,1,_xlfn.xlookup($A20,$L$133:$L$144,$N$133:$N$144)+V19-1))","v":{"$error":"#NAME?"}},{"$f":"IF(_xlfn.xlookup($A20,$L$133:$L$144,$R$133:$R$144)=0,INDEX($A$5:$ZZ$5,1,_xlfn.xlookup($A20,$L$133:$L$144,$N$133:$N$144)+W19-1))","v":{"$error":"#NAME?"}},{"$f":"IF(_xlfn.xlookup($A20,$L$133:$L$144,$R$133:$R$144)=0,INDEX($A$5:$ZZ$5,1,_xlfn.xlookup($A20,$L$133:$L$144,$N$133:$N$144)+X19-1))","v":{"$error":"#NAME?"}},{"$f":"IF(_xlfn.xlookup($A20,$L$133:$L$144,$R$133:$R$144)=0,INDEX($A$5:$ZZ$5,1,_xlfn.xlookup($A20,$L$133:$L$144,$N$133:$N$144)+Y19-1))","v":{"$error":"#NAME?"}},{"$f":"IF(_xlfn.xlookup($A20,$L$133:$L$144,$R$133:$R$144)=0,INDEX($A$5:$ZZ$5,1,_xlfn.xlookup($A20,$L$133:$L$144,$N$133:$N$144)+Z19-1))","v":{"$error":"#NAME?"}},{"$f":"IF(_xlfn.xlookup($A20,$L$133:$L$144,$R$133:$R$144)=0,INDEX($A$5:$ZZ$5,1,_xlfn.xlookup($A20,$L$133:$L$144,$N$133:$N$144)+AA19-1))","v":{"$error":"#NAME?"}},{"$f":"IF(_xlfn.xlookup($A20,$L$133:$L$144,$R$133:$R$144)=0,INDEX($A$5:$ZZ$5,1,_xlfn.xlookup($A20,$L$133:$L$144,$N$133:$N$144)+AB19-1))","v":{"$error":"#NAME?"}},{"$f":"IF(_xlfn.xlookup($A20,$L$133:$L$144,$R$133:$R$144)=0,INDEX($A$5:$ZZ$5,1,_xlfn.xlookup($A20,$L$133:$L$144,$N$133:$N$144)+AC19-1))","v":{"$error":"#NAME?"}},{"$f":"IF(_xlfn.xlookup($A20,$L$133:$L$144,$R$133:$R$144)=0,INDEX($A$5:$ZZ$5,1,_xlfn.xlookup($A20,$L$133:$L$144,$N$133:$N$144)+AD19-1))","v":{"$error":"#NAME?"}},{"$f":"IF(_xlfn.xlookup($A20,$L$133:$L$144,$R$133:$R$144)=0,INDEX($A$5:$ZZ$5,1,_xlfn.xlookup($A20,$L$133:$L$144,$N$133:$N$144)+AE19-1))","v":{"$error":"#NAME?"}},{"$f":"IF(_xlfn.xlookup($A20,$L$133:$L$144,$R$133:$R$144)=0,INDEX($A$5:$ZZ$5,1,_xlfn.xlookup($A20,$L$133:$L$144,$N$133:$N$144)+AF19-1))","v":{"$error":"#NAME?"}},{"$f":"IF(_xlfn.xlookup($A20,$L$133:$L$144,$R$133:$R$144)=0,INDEX($A$5:$ZZ$5,1,_xlfn.xlookup($A20,$L$133:$L$144,$N$133:$N$144)+AG19-1))","v":{"$error":"#NAME?"}},{"$f":"IF(_xlfn.xlookup($A20,$L$133:$L$144,$R$133:$R$144)=0,INDEX($A$5:$ZZ$5,1,_xlfn.xlookup($A20,$L$133:$L$144,$N$133:$N$144)+AH19-1))","v":{"$error":"#NAME?"}}]
["HEX",{"$f":"TEXT(B20,\"00\")","v":{"$error":"#NAME?"}},{"$f":"CONCATENATE(TEXT(C20,\"00\"),TEXT(D20,\"00\"),TEXT(E20,\"00\"),TEXT(F20,\"00\"))","v":{"$error":"#NAME?"}},null,null,null,{"$f":"CONCATENATE(TEXT(G20,\"00\"),TEXT(H20,\"00\"))","v":{"$error":"#NAME?"}},null,{"$f":"CONCATENATE(TEXT(I20,\"00\"),TEXT(J20,\"00\"))","v":{"$error":"#NAME?"}},null,{"$f":"CONCATENATE(TEXT(K20,\"00\"),TEXT(L20,\"00\"))","v":{"$error":"#NAME?"}},null,{"$f":"CONCATENATE(TEXT(M20,\"00\"),TEXT(N20,\"00\"))","v":{"$error":"#NAME?"}},null,{"$f":"CONCATENATE(TEXT(O20,\"00\"),TEXT(P20,\"00\"))","v":{"$error":"#NAME?"}},null,{"$f":"CONCATENATE(TEXT(Q20,\"00\"),TEXT(R20,\"00\"),TEXT(S20,\"00\"))","v":{"$error":"#NAME?"}},null,null,{"$f":"CONCATENATE(TEXT(T20,\"00\"),TEXT(U20,\"00\"))","v":{"$error":"#NAME?"}},null,{"$f":"CONCATENATE(TEXT(V20,\"00\"),TEXT(W20,\"00\"))","v":{"$error":"#NAME?"}},null,{"$f":"TEXT(X20,\"00\")","v":{"$error":"#NAME?"}},{"$f":"CONCATENATE(TEXT(Y20,\"00\"),TEXT(Z20,\"00\"),TEXT(AA20,\"00\"),TEXT(AB20,\"00\"))","v":{"$error":"#NAME?"}},null,null,null,{"$f":"CONCATENATE(TEXT(AC20,\"00\"),TEXT(AD20,\"00\"),TEXT(AE20,\"00\"),TEXT(AF20,\"00\"))","v":{"$error":"#NAME?"}},null,null,null,{"$f":"CONCATENATE(TEXT(AG20,\"00\"),TEXT(AH20,\"00\"))","v":{"$error":"#NAME?"}}]
["DEC",{"$f":"HEX2DEC(B21)","v":{"$error":"#NAME?"}},{"$f":"TEXT(HEX2DEC(C21),\"0000000000\")","v":{"$error":"#NAME?"}},null,null,null,{"$f":"HEX2DEC(G21)","v":{"$error":"#NAME?"}},null,{"$f":"IF(HEX2DEC(I21)>(32769),HEX2DEC(I21)-65536,HEX2DEC(I21))","v":{"$error":"#NAME?"}},null,{"$f":"IF(HEX2DEC(K21)>(32769),HEX2DEC(K21)-65536,HEX2DEC(K21))","v":{"$error":"#NAME?"}},null,{"$f":"IF(HEX2DEC(M21)>(32769),HEX2DEC(M21)-65536,HEX2DEC(M21))","v":{"$error":"#NAME?"}},null,{"$f":"IF(HEX2DEC(O21)>(32769),HEX2DEC(O21)-65536,HEX2DEC(O21))","v":{"$error":"#NAME?"}},null,{"$f":"HEX2DEC(Q21)","v":{"$error":"#NAME?"}},null,null,{"$f":"IF(HEX2DEC(T21)>(32769),HEX2DEC(T21)-65536,HEX2DEC(T21))","v":{"$error":"#NAME?"}},null,{"$f":"IF(HEX2DEC(V21)>(32769),HEX2DEC(V21)-65536,HEX2DEC(V21))","v":{"$error":"#NAME?"}},null,{"$f":"HEX2DEC(X21)","v":{"$error":"#NAME?"}},{"$f":"(IF(HEX2DEC(Y21)>(2147483647),HEX2DEC(Y21)-4294967296,HEX2DEC(Y21)))","v":{"$error":"#NAME?"}},null,null,null,{"$f":"(IF(HEX2DEC(AC21)>(2147483647),HEX2DEC(AC21)-4294967296,HEX2DEC(AC21)))","v":{"$error":"#NAME?"}},null,null,null,{"$f":"IF(HEX2DEC(AG21)>(32767),HEX2DEC(AG21)-65536,HEX2DEC(AG21))","v":{"$error":"#NAME?"}}]
[null,{"$f":"B22","v":{"$error":"#NAME?"}},{"$f":"DATE(MID(C22,5,2)+100,MID(C22,3,2),MID(C22,1,2))","v":{"$error":"#NAME?"}},null,{"$f":"(RIGHT(C22,4))","v":{"$error":"#NAME?"}},null,{"$f":"G22/100","v":{"$error":"#NAME?"}},null,{"$f":"I22/100","v":{"$error":"#NAME?"}},null,{"$f":"K22/100","v":{"$error":"#NAME?"}},null,{"$f":"M22/100","v":{"$error":"#NAME?"}},null,{"$f":"O22/100","v":{"$error":"#NAME?"}},null,null,null,null,null,null,null,null,{"$f":"X22","v":{"$error":"#NAME?"}},{"$f":"(IF(HEX2DEC(Y21)>(2147483647),HEX2DEC(Y21)-4294967296,HEX2DEC(Y21)))*10^-7","v":{"$error":"#NAME?"}},null,null,null,{"$f":"(IF(HEX2DEC(AC21)>(2147483647),HEX2DEC(AC21)-4294967296,HEX2DEC(AC21)))*10^-7","v":{"$error":"#NAME?"}},null,null,null,{"$f":"AG22","v":{"$error":"#NAME?"}}]
[null,null,null,null,null,null,null,null,null,null,null,null,null,null,null,null,{"$f":"TEXT(DEC2BIN(QUOTIENT(Q22,256^2),8)&DEC2BIN(QUOTIENT(MOD(Q22,256^2),256),8)&DEC2BIN(MOD(Q22,256),8),\"00000000 00000000 00000000\")","v":{"$error":"#NAME?"}},null,null,{"$f":"TEXT(DEC2BIN(T22/256,8)&DEC2BIN(MOD(T22,256),8),\"00000000 00000000\")","v":{"$error":"#NAME?"}},null,null,null,null,{"$f":"TRUNC(Y23,0)","v":{"$error":"#NAME?"}},null,{"$f":"(Y23-Y24)*60","v":{"$error":"#NAME?"}},null,{"$f":"TRUNC(AC23,0)","v":{"$error":"#NAME?"}},null,{"$f":"(AC23-AC24)*60","v":{"$error":"#NAME?"}}]
[]
[]
[]
["1Eh","CTD (N/A)",null,"TURB"]
[30]
["Unidad","Id de la Trama","minutos \n(pos.y neg.)","Turbidez\nNTU"]
["Posición byte",1,2,3,4,5]
["1E",{"$f":"IF(_xlfn.xlookup($A32,$L$133:$L$144,$R$133:$R$144)=0,INDEX($A$5:$ZZ$5,1,_xlfn.xlookup($A32,$L$133:$L$144,$N$133:$N$144)+B31-1))","v":{"$error":"#NAME?"}},{"$f":"IF(_xlfn.xlookup($A32,$L$133:$L$144,$R$133:$R$144)=0,INDEX($A$5:$ZZ$5,1,_xlfn.xlookup($A32,$L$133:$L$144,$N$133:$N$144)+C31-1))","v":{"$error":"#NAME?"}},{"$f":"IF(_xlfn.xlookup($A32,$L$133:$L$144,$R$133:$R$144)=0,INDEX($A$5:$ZZ$5,1,_xlfn.xlookup($A32,$L$133:$L$144,$N$133:$N$144)+D31-1))","v":{"$error":"#NAME?"}},{"$f":"IF(_xlfn.xlookup($A32,$L$133:$L$144,$R$133:$R$144)=0,INDEX($A$5:$ZZ$5,1,_xlfn.xlookup($A32,$L$133:$L$144,$N$133:$N$144)+E31-1))","v":{"$error":"#NAME?"}},{"$f":"IF(_xlfn.xlookup($A32,$L$133:$L$144,$R$133:$R$144)=0,INDEX($A$5:$ZZ$5,1,_xlfn.xlookup($A32,$L$133:$L$144,$N$133:$N$144)+F31-1))","v":{"$error":"#NAME?"}}]
["HEX",{"$f":"TEXT(B32,\"00\")","v":{"$error":"#NAME?"}},{"$f":"TEXT(C32,\"00\")","v":{"$error":"#NAME?"}},{"$f":"CONCATENATE(TEXT(D32,\"00\"),TEXT(E32,\"00\"),TEXT(F32,\"00\"))","v":{"$error":"#NAME?"}}]
["DEC",{"$f":"HEX2DEC(B33)","v":{"$error":"#NAME?"}},{"$f":"IF(HEX2DEC(C33)>(127),HEX2DEC(C33)-256,HEX2DEC(C33))","v":{"$error":"#NAME?"}},{"$f":"HEX2DEC(D33)","v":{"$error":"#NAME?"}}]
[null,{"$f":"$G$8","v":"2023-07-20"},{"$f":"($I$8+C34/24/60)","v":{"$error":"#NAME?"}},{"$f":"D34/100","v":{"$error":"#NAME?"}}]
[]
[]
["1F\n31","ID TRAMA","Fecha CTD",null,null,null,"V1",null,"V2",null,"Cant.Sensores","Ocupación SD","Archivos en memoria"]
["Unidad","Id de la Trama","DDMMAAhhmm\n(Telemandos date y time)",null,null,null,"Line V",null,"Bat V",null,"AD","%","AD"]
["Posición byte",1,2,3,4,5,6,7,8,9,10,11,12,13]
["1F",{"$f":"IF(_xlfn.xlookup($A41,$L$133:$L$144,$R$133:$R$144)=0,INDEX($A$5:$ZZ$5,1,_xlfn.xlookup($A41,$L$133:$L$144,$N$133:$N$144)+B40-1))","v":{"$error":"#NAME?"}},{"$f":"IF(_xlfn.xlookup($A41,$L$133:$L$144,$R$133:$R$144)=0,INDEX($A$5:$ZZ$5,1,_xlfn.xlookup($A41,$L$133:$L$144,$N$133:$N$144)+C40-1))","v":{"$error":"#NAME?"}},{"$f":"IF(_xlfn.xlookup($A41,$L$133:$L$144,$R$133:$R$144)=0,INDEX($A$5:$ZZ$5,1,_xlfn.xlookup($A41,$L$133:$L$144,$N$133:$N$144)+D40-1))","v":{"$error":"#NAME?"}},{"$f":"IF(_xlfn.xlookup($A41,$L$133:$L$144,$R$133:$R$144)=0,INDEX($A$5:$ZZ$5,1,_xlfn.xlookup($A41,$L$133:$L$144,$N$133:$N$144)+E40-1))","v":{"$error":"#NAME?"}},{"$f":"IF(_xlfn.xlookup($A41,$L$133:$L$144,$R$133:$R$144)=0,INDEX($A$5:$ZZ$5,1,_xlfn.xlookup($A41,$L$133:$L$144,$N$133:$N$144)+F40-1))","v":{"$error":"#NAME?"}},{"$f":"IF(_xlfn.xlookup($A41,$L$133:$L$144,$R$133:$R$144)=0,INDEX($A$5:$ZZ$5,1,_xlfn.xlookup($A41,$L$133:$L$144,$N$133:$N$144)+G40-1))","v":{"$error":"#NAME?"}},{"$f":"IF(_xlfn.xlookup($A41,$L$133:$L$144,$R$133:$R$144)=0,INDEX($A$5:$ZZ$5,1,_xlfn.xlookup($A41,$L$133:$L$144,$N$133:$N$144)+H40-1))","v":{"$error":"#NAME?"}},{"$f":"IF(_xlfn.xlookup($A41,$L$133:$L$144,$R$133:$R$144)=0,INDEX($A$5:$ZZ$5,1,_xlfn.xlookup($A41,$L$133:$L$144,$N$133:$N$144)+I40-1))","v":{"$error":"#NAME?"}},{"$f":"IF(_xlfn.xlookup($A41,$L$133:$L$144,$R$133:$R$144)=0,INDEX($A$5:$ZZ$5,1,_xlfn.xlookup($A41,$L$133:$L$144,$N$133:$N$144)+J40-1))","v":{"$error":"#NAME?"}},{"$f":"IF(_xlfn.xlookup($A41,$L$133:$L$144,$R$133:$R$144)=0,INDEX($A$5:$ZZ$5,1,_xlfn.xlookup($A41,$L$133:$L$144,$N$133:$N$144)+K40-1))","v":{"$error":"#NAME?"}},{"$f":"IF(_xlfn.xlookup($A41,$L$133:$L$144,$R$133:$R$144)=0,INDEX($A$5:$ZZ$5,1,_xlfn.xlookup($A41,$L$133:$L$144,$N$133:$N$144)+L40-1))","v":{"$error":"#NAME?"}},{"$f":"IF(_xlfn.xlookup($A41,$L$133:$L$144,$R$133:$R$144)=0,INDEX($A$5:$ZZ$5,1,_xlfn.xlookup($A41,$L$133:$L$144,$N$133:$N$144)+M40-1))","v":{"$error":"#NAME?"}}]
["HEX",{"$f":"TEXT(B41,\"00\")","v":{"$error":"#NAME?"}},{"$f":"CONCATENATE(TEXT(C41,\"00\"),TEXT(D41,\"00\"),TEXT(E41,\"00\"),TEXT(F41,\"00\"))","v":{"$error":"#NAME?"}},null,null,null,{"$f":"CONCATENATE(TEXT(G41,\"00\"),TEXT(H41,\"00\"))","v":{"$error":"#NAME?"}},null,{"$f":"CONCATENATE(TEXT(I41,\"00\"),TEXT(J41,\"00\"))","v":{"$error":"#NAME?"}},null,{"$f":"TEXT(K41,\"00\")","v":{"$error":"#NAME?"}},{"$f":"TEXT(L41,\"00\")","v":{"$error":"#NAME?"}},{"$f":"TEXT(M41,\"00\")","v":{"$error":"#NAME?"}},{"$f":"TEXT(N41,\"00\")","v":"00"}]
["DEC",{"$f":"HEX2DEC(B42)","v":{"$error":"#NAME?"}},{"$f":"TEXT(HEX2DEC(C42),\"0000000000\")","v":{"$error":"#NAME?"}},null,null,null,{"$f":"HEX2DEC(G42)","v":{"$error":"#NAME?"}},null,{"$f":"HEX2DEC(I42)","v":{"$error":"#NAME?"}},null,{"$f":"HEX2DEC(K42)","v":{"$error":"#NAME?"}},{"$f":"HEX2DEC(L42)","v":{"$error":"#NAME?"}},{"$f":"HEX2DEC(M42)","v":{"$error":"#NAME?"}},{"$f":"HEX2DEC(N42)","v":0}]
[null,{"$f":"B43","v":{"$error":"#NAME?"}},{"$f":"DATE(MID(C43,5,2)+100,MID(C43,3,2),MID(C43,1,2))","v":{"$error":"#NAME?"}},null,{"$f":"(RIGHT(C43,4))","v":{"$error":"#NAME?"}},null,{"$f":"G43*10^-2","v":{"$error":"#NAME?"}},null,{"$f":"I43*10^-2","v":{"$error":"#NAME?"}},null,{"$f":"K43","v":{"$error":"#NAME?"}},{"$f":"L43","v":{"$error":"#NAME?"}},{"$f":"M43","v":{"$error":"#NAME?"}},{"$f":"N43","v":0}]
[]
[]
[null,null,null,1,null,null,null,2,null,null,null,3,null,null,null,4,null,null,null,5,null,null,null,6,null,null,null,7,null,null,null,8,null,null,null,9,null,null,null,10,null,null,null,11,null,null,null,12,null,null,null,13,null,null,null,14,null,null,null,15,null,null,null,16,null,null,null,17,null,null,null,18,null,null,null,19,null,null,null,20]
["50h","ADCP (N/A)",null,"EWCT",null,"NSCT",null,"EWCT",null,"NSCT",null,"EWCT",null,"NSCT",null,"EWCT",null,"NSCT",null,"EWCT",null,"NSCT",null,"EWCT",null,"NSCT",null,"EWCT",null,"NSCT",null,"EWCT",null,"NSCT",null,"EWCT",null,"NSCT",null,"EWCT",null,"NSCT",null,"EWCT",null,"NSCT",null,"EWCT",null,"NSCT",null,"EWCT",null,"NSCT",null,"EWCT",null,"NSCT",null,"EWCT",null,"NSCT",null,"EWCT",null,"NSCT",null,"EWCT",null,"NSCT",null,"EWCT",null,"NSCT",null,"EWCT",null,"NSCT",null,"EWCT",null,"NSCT",null,"TEMP"]
[80,null,null,"Vel. Este celda",null,"Vel. Norte celda",null,"Vel. Este celda",null,"Vel. Norte celda",null,"Vel. Este celda",null,"Vel. Norte celda",null,"Vel. Este celda",null,"Vel. Norte celda",null,"Vel. Este celda",null,"Vel. Norte celda",null,"Vel. Este celda",null,"Vel. Norte celda",null,"Vel. Este celda",null,"Vel. Norte celda",null,"Vel. Este celda",null,"Vel. Norte celda",null,"Vel. Este celda",null,"Vel. Norte celda",null,"Vel. Este celda",null,"Vel. Norte celda",null,"Vel. Este celda",null,"Vel. Norte celda",null,"Vel. Este celda",null,"Vel. Norte celda",null,"Vel. Este celda",null,"Vel. Norte celda",null,"Vel. Este celda",null,"Vel. Norte celda",null,"Vel. Este celda",null,"Vel. Norte celda",null,"Vel. Este celda",null,"Vel. Norte celda",null,"Vel. Este celda",null,"Vel. Norte celda",null,"Vel. Este celda",null,"Vel. Norte celda",null,"Vel. Este celda",null,"Vel. Norte celda",null,"Vel. Este celda",null,"Vel. Norte celda",null,"Temperatura",null,"Checksum"]
["Unidad","Id de la Trama","minutos \n(pos.y neg.)","mm/s\n(pos.y neg.)",null,"mm/s\n(pos.y neg.)",null,"mm/s\n(pos.y neg.)",null,"mm/s\n(pos.y neg.)",null,"mm/s\n(pos.y neg.)",null,"mm/s\n(pos.y neg.)",null,"mm/s\n(pos.y neg.)",null,"mm/s\n(pos.y neg.)",null,"mm/s\n(pos.y neg.)",null,"mm/s\n(pos.y neg.)",null,"mm/s\n(pos.y neg.)",null,"mm/s\n(pos.y neg.)",null,"mm/s\n(pos.y neg.)",null,"mm/s\n(pos.y neg.)",null,"mm/s\n(pos.y neg.)",null,"mm/s\n(pos.y neg.)",null,"mm/s\n(pos.y neg.)",null,"mm/s\n(pos.y neg.)",null,"mm/s\n(pos.y neg.)",null,"mm/s\n(pos.y neg.)",null,"mm/s\n(pos.y neg.)",null,"mm/s\n(pos.y neg.)",null,"mm/s\n(pos.y neg.)",null,"mm/s\n(pos.y neg.)",null,"mm/s\n(pos.y neg.)",null,"mm/s\n(pos.y neg.)",null,"mm/s\n(pos.y neg.)",null,"mm/s\n(pos.y neg.)",null,"mm/s\n(pos.y neg.)",null,"mm/s\n(pos.y neg.)",null,"mm/s\n(pos.y neg.)",null,"mm/s\n(pos.y neg.)",null,"mm/s\n(pos.y neg.)",null,"mm/s\n(pos.y neg.)",null,"mm/s\n(pos.y neg.)",null,"mm/s\n(pos.y neg.)",null,"mm/s\n(pos.y neg.)",null,"mm/s\n(pos.y neg.)",null,"mm/s\n(pos.y neg.)",null,"mm/s\n(pos.y neg.)",null,"ºC x10-2",null,"Suma de todos los bytes"]
["Posición byte",1,2,3,4,5,6,7,8,9,10,11,12,13,14,15,16,17,18,19,20,21,22,23,24,25,26,27,28,29,30,31,32,33,34,35,36,37,38,39,40,41,42,43,44,45,46,47,48,49,50,51,52,53,54,55,56,57,58,59,60,61,62,63,64,65,66,67,68,69,70,71,72,73,74,75,76,77,78,79,80,81,82,83,84]
[50,{"$f":"IF(_xlfn.xlookup($A52,$L$133:$L$144,$R$133:$R$144)=0,INDEX($A$5:$ZZ$5,1,_xlfn.xlookup($A52,$L$133:$L$144,$N$133:$N$144)+B51-1))","v":{"$error":"#NAME?"}},{"$f":"IF(_xlfn.xlookup($A52,$L$133:$L$144,$R$133:$R$144)=0,INDEX($A$5:$ZZ$5,1,_xlfn.xlookup($A52,$L$133:$L$144,$N$133:$N$144)+C51-1))","v":{"$error":"#NAME?"}},{"$f":"IF(_xlfn.xlookup($A52,$L$133:$L$144,$R$133:$R$144)=0,INDEX($A$5:$ZZ$5,1,_xlfn.xlookup($A52,$L$133:$L$144,$N$133:$N$144)+D51-1))","v":{"$error":"#NAME?"}},{"$f":"IF(_xlfn.xlookup($A52,$L$133:$L$144,$R$133:$R$144)=0,INDEX($A$5:$ZZ$5,1,_xlfn.xlookup($A52,$L$133:$L$144,$N$133:$N$144)+E51-1))","v":{"$error":"#NAME?"}},{"$f":"IF(_xlfn.xlookup($A52,$L$133:$L$144,$R$133:$R$144)=0,INDEX($A$5:$ZZ$5,1,_xlfn.xlookup($A52,$L$133:$L$144,$N$133:$N$144)+F51-1))","v":{"$error":"#NAME?"}},{"$f":"IF(_xlfn.xlookup($A52,$L$133:$L$144,$R$133:$R$144)=0,INDEX($A$5:$ZZ$5,1,_xlfn.xlookup($A52,$L$133:$L$144,$N$133:$N$144)+G51-1))","v":{"$error":"#NAME?"}},{"$f":"IF(_xlfn.xlookup($A52,$L$133:$L$144,$R$133:$R$144)=0,INDEX($A$5:$ZZ$5,1,_xlfn.xlookup($A52,$L$133:$L$144,$N$133:$N$144)+H51-1))","v":{"$error":"#NAME?"}},{"$f":"IF(_xlfn.xlookup($A52,$L$133:$L$144,$R$133:$R$144)=0,INDEX($A$5:$ZZ$5,1,_xlfn.xlookup($A52,$L$133:$L$144,$N$133:$N$144)+I51-1))","v":{"$error":"#NAME?"}},{"$f":"IF(_xlfn.xlookup($A52,$L$133:$L$144,$R$133:$R$144)=0,INDEX($A$5:$ZZ$5,1,_xlfn.xlookup($A52,$L$133:$L$144,$N$133:$N$144)+J51-1))","v":{"$error":"#NAME?"}},{"$f":"IF(_xlfn.xlookup($A52,$L$133:$L$144,$R$133:$R$144)=0,INDEX($A$5:$ZZ$5,1,_xlfn.xlookup($A52,$L$133:$L$144,$N$133:$N$144)+K51-1))","v":{"$error":"#NAME?"}},{"$f":"IF(_xlfn.xlookup($A52,$L$133:$L$144,$R$133:$R$144)=0,INDEX($A$5:$ZZ$5,1,_xlfn.xlookup($A52,$L$133:$L$144,$N$133:$N$144)+L51-1))","v":{"$error":"#NAME?"}},{"$f":"IF(_xlfn.xlookup($A52,$L$133:$L$144,$R$133:$R$144)=0,INDEX($A$5:$ZZ$5,1,_xlfn.xlookup($A52,$L$133:$L$144,$N$133:$N$144)+M51-1))","v":{"$error":"#NAME?"}},{"$f":"IF(_xlfn.xlookup($A52,$L$133:$L$144,$R$133:$R$144)=0,INDEX($A$5:$ZZ$5,1,_xlfn.xlookup($A52,$L$133:$L$144,$N$133:$N$144)+N51-1))","v":{"$error":"#NAME?"}},{"$f":"IF(_xlfn.xlookup($A52,$L$133:$L$144,$R$133:$R$144)=0,INDEX($A$5:$ZZ$5,1,_xlfn.xlookup($A52,$L$133:$L$144,$N$133:$N$144)+O51-1))","v":{"$error":"#NAME?"}},{"$f":"IF(_xlfn.xlookup($A52,$L$133:$L$144,$R$133:$R$144)=0,INDEX($A$5:$ZZ$5,1,_xlfn.xlookup($A52,$L$133:$L$144,$N$133:$N$144)+P51-1))","v":{"$error":"#NAME?"}},{"$f":"IF(_xlfn.xlookup($A52,$L$133:$L$144,$R$133:$R$144)=0,INDEX($A$5:$ZZ$5,1,_xlfn.xlookup($A52,$L$133:$L$144,$N$133:$N$144)+Q51-1))","v":{"$error":"#NAME?"}},{"$f":"IF(_xlfn.xlookup($A52,$L$133:$L$144,$R$133:$R$144)=0,INDEX($A$5:$ZZ$5,1,_xlfn.xlookup($A52,$L$133:$L$144,$N$133:$N$144)+R51-1))","v":{"$error":"#NAME?"}},{"$f":"IF(_xlfn.xlookup($A52,$L$133:$L$144,$R$133:$R$144)=0,INDEX($A$5:$ZZ$5,1,_xlfn.xlookup($A52,$L$133:$L$144,$N$133:$N$144)+S51-1))","v":{"$error":"#NAME?"}},{"$f":"IF(_xlfn.xlookup($A52,$L$133:$L$144,$R$133:$R$144)=0,INDEX($A$5:$ZZ$5,1,_xlfn.xlookup($A52,$L$133:$L$144,$N$133:$N$144)+T51-1))","v":{"$error":"#NAME?"}},{"$f":"IF(_xlfn.xlookup($A52,$L$133:$L$144,$R$133:$R$144)=0,INDEX($A$5:$ZZ$5,1,_xlfn.xlookup($A52,$L$133:$L$144,$N$133:$N$144)+U51-1))","v":{"$error":"#NAME?"}},{"$f":"IF(_xlfn.xlookup($A52,$L$133:$L$144,$R$133:$R$144)=0,INDEX($A$5:$ZZ$5,1,_xlfn.xlookup($A52,$L$133:$L$144,$N$133:$N$144)+V51-1))","v":{"$error":"#NAME?"}},{"$f":"IF(_xlfn.xlookup($A52,$L$133:$L$144,$R$133:$R$144)=0,INDEX($A$5:$ZZ$5,1,_xlfn.xlookup($A52,$L$133:$L$144,$N$133:$N$144)+W51-1))","v":{"$error":"#NAME?"}},{"$f":"IF(_xlfn.xlookup($A52,$L$133:$L$144,$R$133:$R$144)=0,INDEX($A$5:$ZZ$5,1,_xlfn.xlookup($A52,$L$133:$L$144,$N$133:$N$144)+X51-1))","v":{"$error":"#NAME?"}},{"$f":"IF(_xlfn.xlookup($A52,$L$133:$L$144,$R$133:$R$144)=0,INDEX($A$5:$ZZ$5,1,_xlfn.xlookup($A52,$L$133:$L$144,$N$133:$N$144)+Y51-1))","v":{"$error":"#NAME?"}},{"$f":"IF(_xlfn.xlookup($A52,$L$133:$L$144,$R$133:$R$144)=0,INDEX($A$5:$ZZ$5,1,_xlfn.xlookup($A52,$L$133:$L$144,$N$133:$N$144)+Z51-1))","v":{"$error":"#NAME?"}},{"$f":"IF(_xlfn.xlookup($A52,$L$133:$L$144,$R$133:$R$144)=0,INDEX($A$5:$ZZ$5,1,_xlfn.xlookup($A52,$L$133:$L$144,$N$133:$N$144)+AA51-1))","v":{"$error":"#NAME?"}},{"$f":"IF(_xlfn.xlookup($A52,$L$133:$L$144,$R$133:$R$144)=0,INDEX($A$5:$ZZ$5,1,_xlfn.xlookup($A52,$L$133:$L$144,$N$133:$N$144)+AB51-1))","v":{"$error":"#NAME?"}},{"$f":"IF(_xlfn.xlookup($A52,$L$133:$L$144,$R$133:$R$144)=0,INDEX($A$5:$ZZ$5,1,_xlfn.xlookup($A52,$L$133:$L$144,$N$133:$N$144)+AC51-1))","v":{"$error":"#NAME?"}},{"$f":"IF(_xlfn.xlookup($A52,$L$133:$L$144,$R$133:$R$144)=0,INDEX($A$5:$ZZ$5,1,_xlfn.xlookup($A52,$L$133:$L$144,$N$133:$N$144)+AD51-1))","v":{"$error":"#NAME?"}},{"$f":"IF(_xlfn.xlookup($A52,$L$133:$L$144,$R$133:$R$144)=0,INDEX($A$5:$ZZ$5,1,_xlfn.xlookup($A52,$L$133:$L$144,$N$133:$N$144)+AE51-1))","v":{"$error":"#NAME?"}},{"$f":"IF(_xlfn.xlookup($A52,$L$133:$L$144,$R$133:$R$144)=0,INDEX($A$5:$ZZ$5,1,_xlfn.xlookup($A52,$L$133:$L$144,$N$133:$N$144)+AF51-1))","v":{"$error":"#NAME?"}},{"$f":"IF(_xlfn.xlookup($A52,$L$133:$L$144,$R$133:$R$144)=0,INDEX($A$5:$ZZ$5,1,_xlfn.xlookup($A52,$L$133:$L$144,$N$133:$N$144)+AG51-1))","v":{"$error":"#NAME?"}},{"$f":"IF(_xlfn.xlookup($A52,$L$133:$L$144,$R$133:$R$144)=0,INDEX($A$5:$ZZ$5,1,_xlfn.xlookup($A52,$L$133:$L$144,$N$133:$N$144)+AH51-1))","v":{"$error":"#NAME?"}},{"$f":"IF(_xlfn.xlookup($A52,$L$133:$L$144,$R$133:$R$144)=0,INDEX($A$5:$ZZ$5,1,_xlfn.xlookup($A52,$L$133:$L$144,$N$133:$N$144)+AI51-1))","v":{"$error":"#NAME?"}},{"$f":"IF(_xlfn.xlookup($A52,$L$133:$L$144,$R$133:$R$144)=0,INDEX($A$5:$ZZ$5,1,_xlfn.xlookup($A52,$L$133:$L$144,$N$133:$N$144)+AJ51-1))","v":{"$error":"#NAME?"}},{"$f":"IF(_xlfn.xlookup($A52,$L$133:$L$144,$R$133:$R$144)=0,INDEX($A$5:$ZZ$5,1,_xlfn.xlookup($A52,$L$133:$L$144,$N$133:$N$144)+AK51-1))","v":{"$error":"#NAME?"}},{"$f":"IF(_xlfn.xlookup($A52,$L$133:$L$144,$R$133:$R$144)=0,INDEX($A$5:$ZZ$5,1,_xlfn.xlookup($A52,$L$133:$L$144,$N$133:$N$144)+AL51-1))","v":{"$error":"#NAME?"}},{"$f":"IF(_xlfn.xlookup($A52,$L$133:$L$144,$R$133:$R$144)=0,INDEX($A$5:$ZZ$5,1,_xlfn.xlookup($A52,$L$133:$L$144,$N$133:$N$144)+AM51-1))","v":{"$error":"#NAME?"}},{"$f":"IF(_xlfn.xlookup($A52,$L$133:$L$144,$R$133:$R$144)=0,INDEX($A$5:$ZZ$5,1,_xlfn.xlookup($A52,$L$133:$L$144,$N$133:$N$144)+AN51-1))","v":{"$error":"#NAME?"}},{"$f":"IF(_xlfn.xlookup($A52,$L$133:$L$144,$R$133:$R$144)=0,INDEX($A$5:$ZZ$5,1,_xlfn.xlookup($A52,$L$133:$L$144,$N$133:$N$144)+AO51-1))","v":{"$error":"#NAME?"}},{"$f":"IF(_xlfn.xlookup($A52,$L$133:$L$144,$R$133:$R$144)=0,INDEX($A$5:$ZZ$5,1,_xlfn.xlookup($A52,$L$133:$L$144,$N$133:$N$144)+AP51-1))","v":{"$error":"#NAME?"}},{"$f":"IF(_xlfn.xlookup($A52,$L$133:$L$144,$R$133:$R$144)=0,INDEX($A$5:$ZZ$5,1,_xlfn.xlookup($A52,$L$133:$L$144,$N$133:$N$144)+AQ51-1))","v":{"$error":"#NAME?"}},{"$f":"IF(_xlfn.xlookup($A52,$L$133:$L$144,$R$133:$R$144)=0,INDEX($A$5:$ZZ$5,1,_xlfn.xlookup($A52,$L$133:$L$144,$N$133:$N$144)+AR51-1))","v":{"$error":"#NAME?"}},{"$f":"IF(_xlfn.xlookup($A52,$L$133:$L$144,$R$133:$R$144)=0,INDEX($A$5:$ZZ$5,1,_xlfn.xlookup($A52,$L$133:$L$144,$N$133:$N$144)+AS51-1))","v":{"$error":"#NAME?"}},{"$f":"IF(_xlfn.xlookup($A52,$L$133:$L$144,$R$133:$R$144)=0,INDEX($A$5:$ZZ$5,1,_xlfn.xlookup($A52,$L$133:$L$144,$N$133:$N$144)+AT51-1))","v":{"$error":"#NAME?"}},{"$f":"IF(_xlfn.xlookup($A52,$L$133:$L$144,$R$133:$R$144)=0,INDEX($A$5:$ZZ$5,1,_xlfn.xlookup($A52,$L$133:$L$144,$N$133:$N$144)+AU51-1))","v":{"$error":"#NAME?"}},{"$f":"IF(_xlfn.xlookup($A52,$L$133:$L$144,$R$133:$R$144)=0,INDEX($A$5:$ZZ$5,1,_xlfn.xlookup($A52,$L$133:$L$144,$N$133:$N$144)+AV51-1))","v":{"$error":"#NAME?"}},{"$f":"IF(_xlfn.xlookup($A52,$L$133:$L$144,$R$133:$R$144)=0,INDEX($A$5:$ZZ$5,1,_xlfn.xlookup($A52,$L$133:$L$144,$N$133:$N$144)+AW51-1))","v":{"$error":"#NAME?"}},{"$f":"IF(_xlfn.xlookup($A52,$L$133:$L$144,$R$133:$R$144)=0,INDEX($A$5:$ZZ$5,1,_xlfn.xlookup($A52,$L$133:$L$144,$N$133:$N$144)+AX51-1))","v":{"$error":"#NAME?"}},{"$f":"IF(_xlfn.xlookup($A52,$L$133:$L$144,$R$133:$R$144)=0,INDEX($A$5:$ZZ$5,1,_xlfn.xlookup($A52,$L$133:$L$144,$N$133:$N$144)+AY51-1))","v":{"$error":"#NAME?"}},{"$f":"IF(_xlfn.xlookup($A52,$L$133:$L$144,$R$133:$R$144)=0,INDEX($A$5:$ZZ$5,1,_xlfn.xlookup($A52,$L$133:$L$144,$N$133:$N$144)+AZ51-1))","v":{"$error":"#NAME?"}},{"$f":"IF(_xlfn.xlookup($A52,$L$133:$L$144,$R$133:$R$144)=0,INDEX($A$5:$ZZ$5,1,_xlfn.xlookup($A52,$L$133:$L$144,$N$133:$N$144)+BA51-1))","v":{"$error":"#NAME?"}},{"$f":"IF(_xlfn.xlookup($A52,$L$133:$L$144,$R$133:$R$144)=0,INDEX($A$5:$ZZ$5,1,_xlfn.xlookup($A52,$L$133:$L$144,$N$133:$N$144)+BB51-1))","v":{"$error":"#NAME?"}},{"$f":"IF(_xlfn.xlookup($A52,$L$133:$L$144,$R$133:$R$144)=0,INDEX($A$5:$ZZ$5,1,_xlfn.xlookup($A52,$L$133:$L$144,$N$133:$N$144)+BC51-1))","v":{"$error":"#NAME?"}},{"$f":"IF(_xlfn.xlookup($A52,$L$133:$L$144,$R$133:$R$144)=0,INDEX($A$5:$ZZ$5,1,_xlfn.xlookup($A52,$L$133:$L$144,$N$133:$N$144)+BD51-1))","v":{"$error":"#NAME?"}},{"$f":"IF(_xlfn.xlookup($A52,$L$133:$L$144,$R$133:$R$144)=0,INDEX($A$5:$ZZ$5,1,_xlfn.xlookup($A52,$L$133:$L$144,$N$133:$N$144)+BE51-1))","v":{"$error":"#NAME?"}},{"$f":"IF(_xlfn.xlookup($A52,$L$133:$L$144,$R$133:$R$144)=0,INDEX($A$5:$ZZ$5,1,_xlfn.xlookup($A52,$L$133:$L$144,$N$133:$N$144)+BF51-1))","v":{"$error":"#NAME?"}},{"$f":"IF(_xlfn.xlookup($A52,$L$133:$L$144,$R$133:$R$144)=0,INDEX($A$5:$ZZ$5,1,_xlfn.xlookup($A52,$L$133:$L$144,$N$133:$N$144)+BG51-1))","v":{"$error":"#NAME?"}},{"$f":"IF(_xlfn.xlookup($A52,$L$133:$L$144,$R$133:$R$144)=0,INDEX($A$5:$ZZ$5,1,_xlfn.xlookup($A52,$L$133:$L$144,$N$133:$N$144)+BH51-1))","v":{"$error":"#NAME?"}},{"$f":"IF(_xlfn.xlookup($A52,$L$133:$L$144,$R$133:$R$144)=0,INDEX($A$5:$ZZ$5,1,_xlfn.xlookup($A52,$L$133:$L$144,$N$133:$N$144)+BI51-1))","v":{"$error":"#NAME?"}},{"$f":"IF(_xlfn.xlookup($A52,$L$133:$L$144,$R$133:$R$144)=0,INDEX($A$5:$ZZ$5,1,_xlfn.xlookup($A52,$L$133:$L$144,$N$133:$N$144)+BJ51-1))","v":{"$error":"#NAME?"}},{"$f":"IF(_xlfn.xlookup($A52,$L$133:$L$144,$R$133:$R$144)=0,INDEX($A$5:$ZZ$5,1,_xlfn.xlookup($A52,$L$133:$L$144,$N$133:$N$144)+BK51-1))","v":{"$error":"#NAME?"}},{"$f":"IF(_xlfn.xlookup($A52,$L$133:$L$144,$R$133:$R$144)=0,INDEX($A$5:$ZZ$5,1,_xlfn.xlookup($A52,$L$133:$L$144,$N$133:$N$144)+BL51-1))","v":{"$error":"#NAME?"}},{"$f":"IF(_xlfn.xlookup($A52,$L$133:$L$144,$R$133:$R$144)=0,INDEX($A$5:$ZZ$5,1,_xlfn.xlookup($A52,$L$133:$L$144,$N$133:$N$144)+BM51-1))","v":{"$error":"#NAME?"}},{"$f":"IF(_xlfn.xlookup($A52,$L$133:$L$144,$R$133:$R$144)=0,INDEX($A$5:$ZZ$5,1,_xlfn.xlookup($A52,$L$133:$L$144,$N$133:$N$144)+BN51-1))","v":{"$error":"#NAME?"}},{"$f":"IF(_xlfn.xlookup($A52,$L$133:$L$144,$R$133:$R$144)=0,INDEX($A$5:$ZZ$5,1,_xlfn.xlookup($A52,$L$133:$L$144,$N$133:$N$144)+BO51-1))","v":{"$error":"#NAME?"}},{"$f":"IF(_xlfn.xlookup($A52,$L$133:$L$144,$R$133:$R$144)=0,INDEX($A$5:$ZZ$5,1,_xlfn.xlookup($A52,$L$133:$L$144,$N$133:$N$144)+BP51-1))","v":{"$error":"#NAME?"}},{"$f":"IF(_xlfn.xlookup($A52,$L$133:$L$144,$R$133:$R$144)=0,INDEX($A$5:$ZZ$5,1,_xlfn.xlookup($A52,$L$133:$L$144,$N$133:$N$144)+BQ51-1))","v":{"$error":"#NAME?"}},{"$f":"IF(_xlfn.xlookup($A52,$L$133:$L$144,$R$133:$R$144)=0,INDEX($A$5:$ZZ$5,1,_xlfn.xlookup($A52,$L$133:$L$144,$N$133:$N$144)+BR51-1))","v":{"$error":"#NAME?"}},{"$f":"IF(_xlfn.xlookup($A52,$L$133:$L$144,$R$133:$R$144)=0,INDEX($A$5:$ZZ$5,1,_xlfn.xlookup($A52,$L$133:$L$144,$N$133:$N$144)+BS51-1))","v":{"$error":"#NAME?"}},{"$f":"IF(_xlfn.xlookup($A52,$L$133:$L$144,$R$133:$R$144)=0,INDEX($A$5:$ZZ$5,1,_xlfn.xlookup($A52,$L$133:$L$144,$N$133:$N$144)+BT51-1))","v":{"$error":"#NAME?"}},{"$f":"IF(_xlfn.xlookup($A52,$L$133:$L$144,$R$133:$R$144)=0,INDEX($A$5:$ZZ$5,1,_xlfn.xlookup($A52,$L$133:$L$144,$N$133:$N$144)+BU51-1))","v":{"$error":"#NAME?"}},{"$f":"IF(_xlfn.xlookup($A52,$L$133:$L$144,$R$133:$R$144)=0,INDEX($A$5:$ZZ$5,1,_xlfn.xlookup($A52,$L$133:$L$144,$N$133:$N$144)+BV51-1))","v":{"$error":"#NAME?"}},{"$f":"IF(_xlfn.xlookup($A52,$L$133:$L$144,$R$133:$R$144)=0,INDEX($A$5:$ZZ$5,1,_xlfn.xlookup($A52,$L$133:$L$144,$N$133:$N$144)+BW51-1))","v":{"$error":"#NAME?"}},{"$f":"IF(_xlfn.xlookup($A52,$L$133:$L$144,$R$133:$R$144)=0,INDEX($A$5:$ZZ$5,1,_xlfn.xlookup($A52,$L$133:$L$144,$N$133:$N$144)+BX51-1))","v":{"$error":"#NAME?"}},{"$f":"IF(_xlfn.xlookup($A52,$L$133:$L$144,$R$133:$R$144)=0,INDEX($A$5:$ZZ$5,1,_xlfn.xlookup($A52,$L$133:$L$144,$N$133:$N$144)+BY51-1))","v":{"$error":"#NAME?"}},{"$f":"IF(_xlfn.xlookup($A52,$L$133:$L$144,$R$133:$R$144)=0,INDEX($A$5:$ZZ$5,1,_xlfn.xlookup($A52,$L$133:$L$144,$N$133:$N$144)+BZ51-1))","v":{"$error":"#NAME?"}},{"$f":"IF(_xlfn.xlookup($A52,$L$133:$L$144,$R$133:$R$144)=0,INDEX($A$5:$ZZ$5,1,_xlfn.xlookup($A52,$L$133:$L$144,$N$133:$N$144)+CA51-1))","v":{"$error":"#NAME?"}},{"$f":"IF(_xlfn.xlookup($A52,$L$133:$L$144,$R$133:$R$144)=0,INDEX($A$5:$ZZ$5,1,_xlfn.xlookup($A52,$L$133:$L$144,$N$133:$N$144)+CB51-1))","v":{"$error":"#NAME?"}},{"$f":"IF(_xlfn.xlookup($A52,$L$133:$L$144,$R$133:$R$144)=0,INDEX($A$5:$ZZ$5,1,_xlfn.xlookup($A52,$L$133:$L$144,$N$133:$N$144)+CC51-1))","v":{"$error":"#NAME?"}},{"$f":"IF(_xlfn.xlookup($A52,$L$133:$L$144,$R$133:$R$144)=0,INDEX($A$5:$ZZ$5,1,_xlfn.xlookup($A52,$L$133:$L$144,$N$133:$N$144)+CD51-1))","v":{"$error":"#NAME?"}},{"$f":"IF(_xlfn.xlookup($A52,$L$133:$L$144,$R$133:$R$144)=0,INDEX($A$5:$ZZ$5,1,_xlfn.xlookup($A52,$L$133:$L$144,$N$133:$N$144)+CE51-1))","v":{"$error":"#NAME?"}},{"$f":"IF(_xlfn.xlookup($A52,$L$133:$L$144,$R$133:$R$144)=0,INDEX($A$5:$ZZ$5,1,_xlfn.xlookup($A52,$L$133:$L$144,$N$133:$N$144)+CF51-1))","v":{"$error":"#NAME?"}},{"$f":"IF(_xlfn.xlookup($A52,$L$133:$L$144,$R$133:$R$144)=0,INDEX($A$5:$ZZ$5,1,_xlfn.xlookup($A52,$L$133:$L$144,$N$133:$N$144)+CG51-1))","v":{"$error":"#NAME?"}}]
["HEX",{"$f":"TEXT(B52,\"00\")","v":{"$error":"#NAME?"}},{"$f":"TEXT(C52,\"00\")","v":{"$error":"#NAME?"}},{"$f":"CONCATENATE(TEXT(D52,\"00\"),TEXT(E52,\"00\"))","v":{"$error":"#NAME?"}},null,{"$f":"CONCATENATE(TEXT(F52,\"00\"),TEXT(G52,\"00\"))","v":{"$error":"#NAME?"}},null,{"$f":"CONCATENATE(TEXT(H52,\"00\"),TEXT(I52,\"00\"))","v":{"$error":"#NAME?"}},null,{"$f":"CONCATENATE(TEXT(J52,\"00\"),TEXT(K52,\"00\"))","v":{"$error":"#NAME?"}},null,{"$f":"CONCATENATE(TEXT(L52,\"00\"),TEXT(M52,\"00\"))","v":{"$error":"#NAME?"}},null,{"$f":"CONCATENATE(TEXT(N52,\"00\"),TEXT(O52,\"00\"))","v":{"$error":"#NAME?"}},null,{"$f":"CONCATENATE(TEXT(P52,\"00\"),TEXT(Q52,\"00\"))","v":{"$error":"#NAME?"}},null,{"$f":"CONCATENATE(TEXT(R52,\"00\"),TEXT(S52,\"00\"))","v":{"$error":"#NAME?"}},null,{"$f":"CONCATENATE(TEXT(T52,\"00\"),TEXT(U52,\"00\"))","v":{"$error":"#NAME?"}},null,{"$f":"CONCATENATE(TEXT(V52,\"00\"),TEXT(W52,\"00\"))","v":{"$error":"#NAME?"}},null,{"$f":"CONCATENATE(TEXT(X52,\"00\"),TEXT(Y52,\"00\"))","v":{"$error":"#NAME?"}},null,{"$f":"CONCATENATE(TEXT(Z52,\"00\"),TEXT(AA52,\"00\"))","v":{"$error":"#NAME?"}},null,{"$f":"CONCATENATE(TEXT(AB52,\"00\"),TEXT(AC52,\"00\"))","v":{"$error":"#NAME?"}},null,{"$f":"CONCATENATE(TEXT(AD52,\"00\"),TEXT(AE52,\"00\"))","v":{"$error":"#NAME?"}},null,{"$f":"CONCATENATE(TEXT(AF52,\"00\"),TEXT(AG52,\"00\"))","v":{"$error":"#NAME?"}},null,{"$f":"CONCATENATE(TEXT(AH52,\"00\"),TEXT(AI52,\"00\"))","v":{"$error":"#NAME?"}},null,{"$f":"CONCATENATE(TEXT(AJ52,\"00\"),TEXT(AK52,\"00\"))","v":{"$error":"#NAME?"}},null,{"$f":"CONCATENATE(TEXT(AL52,\"00\"),TEXT(AM52,\"00\"))","v":{"$error":"#NAME?"}},null,{"$f":"CONCATENATE(TEXT(AN52,\"00\"),TEXT(AO52,\"00\"))","v":{"$error":"#NAME?"}},null,{"$f":"CONCATENATE(TEXT(AP52,\"00\"),TEXT(AQ52,\"00\"))","v":{"$error":"#NAME?"}},null,{"$f":"CONCATENATE(TEXT(AR52,\"00\"),TEXT(AS52,\"00\"))","v":{"$error":"#NAME?"}},null,{"$f":"CONCATENATE(TEXT(AT52,\"00\"),TEXT(AU52,\"00\"))","v":{"$error":"#NAME?"}},null,{"$f":"CONCATENATE(TEXT(AV52,\"00\"),TEXT(AW52,\"00\"))","v":{"$error":"#NAME?"}},null,{"$f":"CONCATENATE(TEXT(AX52,\"00\"),TEXT(AY52,\"00\"))","v":{"$error":"#NAME?"}},null,{"$f":"CONCATENATE(TEXT(AZ52,\"00\"),TEXT(BA52,\"00\"))","v":{"$error":"#NAME?"}},null,{"$f":"CONCATENATE(TEXT(BB52,\"00\"),TEXT(BC52,\"00\"))","v":{"$error":"#NAME?"}},null,{"$f":"CONCATENATE(TEXT(BD52,\"00\"),TEXT(BE52,\"00\"))","v":{"$error":"#NAME?"}},null,{"$f":"CONCATENATE(TEXT(BF52,\"00\"),TEXT(BG52,\"00\"))","v":{"$error":"#NAME?"}},null,{"$f":"CONCATENATE(TEXT(BH52,\"00\"),TEXT(BI52,\"00\"))","v":{"$error":"#NAME?"}},null,{"$f":"CONCATENATE(TEXT(BJ52,\"00\"),TEXT(BK52,\"00\"))","v":{"$error":"#NAME?"}},null,{"$f":"CONCATENATE(TEXT(BL52,\"00\"),TEXT(BM52,\"00\"))","v":{"$error":"#NAME?"}},null,{"$f":"CONCATENATE(TEXT(BN52,\"00\"),TEXT(BO52,\"00\"))","v":{"$error":"#NAME?"}},null,{"$f":"CONCATENATE(TEXT(BP52,\"00\"),TEXT(BQ52,\"00\"))","v":{"$error":"#NAME?"}},null,{"$f":"CONCATENATE(TEXT(BR52,\"00\"),TEXT(BS52,\"00\"))","v":{"$error":"#NAME?"}},null,{"$f":"CONCATENATE(TEXT(BT52,\"00\"),TEXT(BU52,\"00\"))","v":{"$error":"#NAME?"}},null,{"$f":"CONCATENATE(TEXT(BV52,\"00\"),TEXT(BW52,\"00\"))","v":{"$error":"#NAME?"}},null,{"$f":"CONCATENATE(TEXT(BX52,\"00\"),TEXT(BY52,\"00\"))","v":{"$error":"#NAME?"}},null,{"$f":"CONCATENATE(TEXT(BZ52,\"00\"),TEXT(CA52,\"00\"))","v":{"$error":"#NAME?"}},null,{"$f":"CONCATENATE(TEXT(CB52,\"00\"),TEXT(CC52,\"00\"))","v":{"$error":"#NAME?"}},null,{"$f":"CONCATENATE(TEXT(CD52,\"00\"),TEXT(CE52,\"00\"))","v":{"$error":"#NAME?"}},null,{"$f":"CONCATENATE(TEXT(CF52,\"00\"),TEXT(CG52,\"00\"))","v":{"$error":"#NAME?"}}]
["DEC",{"$f":"HEX2DEC(B53)","v":{"$error":"#NAME?"}},{"$f":"IF(HEX2DEC(C53)>(127),HEX2DEC(C53)-256,HEX2DEC(C53))","v":{"$error":"#NAME?"}},{"$f":"IF(HEX2DEC(D53)>(32767),HEX2DEC(D53)-65536,HEX2DEC(D53))","v":{"$error":"#NAME?"}},null,{"$f":"IF(HEX2DEC(F53)>(32767),HEX2DEC(F53)-65536,HEX2DEC(F53))","v":{"$error":"#NAME?"}},null,{"$f":"IF(HEX2DEC(H53)>(32767),HEX2DEC(H53)-65536,HEX2DEC(H53))","v":{"$error":"#NAME?"}},null,{"$f":"IF(HEX2DEC(J53)>(32767),HEX2DEC(J53)-65536,HEX2DEC(J53))","v":{"$error":"#NAME?"}},null,{"$f":"IF(HEX2DEC(L53)>(32767),HEX2DEC(L53)-65536,HEX2DEC(L53))","v":{"$error":"#NAME?"}},null,{"$f":"IF(HEX2DEC(N53)>(32767),HEX2DEC(N53)-65536,HEX2DEC(N53))","v":{"$error":"#NAME?"}},null,{"$f":"IF(HEX2DEC(P53)>(32767),HEX2DEC(P53)-65536,HEX2DEC(P53))","v":{"$error":"#NAME?"}},null,{"$f":"IF(HEX2DEC(R53)>(32767),HEX2DEC(R53)-65536,HEX2DEC(R53))","v":{"$error":"#NAME?"}},null,{"$f":"IF(HEX2DEC(T53)>(32767),HEX2DEC(T53)-65536,HEX2DEC(T53))","v":{"$error":"#NAME?"}},null,{"$f":"IF(HEX2DEC(V53)>(32767),HEX2DEC(V53)-65536,HEX2DEC(V53))","v":{"$error":"#NAME?"}},null,{"$f":"IF(HEX2DEC(X53)>(32767),HEX2DEC(X53)-65536,HEX2DEC(X53))","v":{"$error":"#NAME?"}},null,{"$f":"IF(HEX2DEC(Z53)>(32767),HEX2DEC(Z53)-65536,HEX2DEC(Z53))","v":{"$error":"#NAME?"}},null,{"$f":"IF(HEX2DEC(AB53)>(32767),HEX2DEC(AB53)-65536,HEX2DEC(AB53))","v":{"$error":"#NAME?"}},null,{"$f":"IF(HEX2DEC(AD53)>(32767),HEX2DEC(AD53)-65536,HEX2DEC(AD53))","v":{"$error":"#NAME?"}},null,{"$f":"IF(HEX2DEC(AF53)>(32767),HEX2DEC(AF53)-65536,HEX2DEC(AF53))","v":{"$error":"#NAME?"}},null,{"$f":"IF(HEX2DEC(AH53)>(32767),HEX2DEC(AH53)-65536,HEX2DEC(AH53))","v":{"$error":"#NAME?"}},null,{"$f":"IF(HEX2DEC(AJ53)>(32767),HEX2DEC(AJ53)-65536,HEX2DEC(AJ53))","v":{"$error":"#NAME?"}},null,{"$f":"IF(HEX2DEC(AL53)>(32767),HEX2DEC(AL53)-65536,HEX2DEC(AL53))","v":{"$error":"#NAME?"}},null,{"$f":"IF(HEX2DEC(AN53)>(32767),HEX2DEC(AN53)-65536,HEX2DEC(AN53))","v":{"$error":"#NAME?"}},null,{"$f":"IF(HEX2DEC(AP53)>(32767),HEX2DEC(AP53)-65536,HEX2DEC(AP53))","v":{"$error":"#NAME?"}},null,{"$f":"IF(HEX2DEC(AR53)>(32767),HEX2DEC(AR53)-65536,HEX2DEC(AR53))","v":{"$error":"#NAME?"}},null,{"$f":"IF(HEX2DEC(AT53)>(32767),HEX2DEC(AT53)-65536,HEX2DEC(AT53))","v":{"$error":"#NAME?"}},null,{"$f":"IF(HEX2DEC(AV53)>(32767),HEX2DEC(AV53)-65536,HEX2DEC(AV53))","v":{"$error":"#NAME?"}},null,{"$f":"IF(HEX2DEC(AX53)>(32767),HEX2DEC(AX53)-65536,HEX2DEC(AX53))","v":{"$error":"#NAME?"}},null,{"$f":"IF(HEX2DEC(AZ53)>(32767),HEX2DEC(AZ53)-65536,HEX2DEC(AZ53))","v":{"$error":"#NAME?"}},null,{"$f":"IF(HEX2DEC(BB53)>(32767),HEX2DEC(BB53)-65536,HEX2DEC(BB53))","v":{"$error":"#NAME?"}},null,{"$f":"IF(HEX2DEC(BD53)>(32767),HEX2DEC(BD53)-65536,HEX2DEC(BD53))","v":{"$error":"#NAME?"}},null,{"$f":"IF(HEX2DEC(BF53)>(32767),HEX2DEC(BF53)-65536,HEX2DEC(BF53))","v":{"$error":"#NAME?"}},null,{"$f":"IF(HEX2DEC(BH53)>(32767),HEX2DEC(BH53)-65536,HEX2DEC(BH53))","v":{"$error":"#NAME?"}},null,{"$f":"IF(HEX2DEC(BJ53)>(32767),HEX2DEC(BJ53)-65536,HEX2DEC(BJ53))","v":{"$error":"#NAME?"}},null,{"$f":"IF(HEX2DEC(BL53)>(32767),HEX2DEC(BL53)-65536,HEX2DEC(BL53))","v":{"$error":"#NAME?"}},null,{"$f":"IF(HEX2DEC(BN53)>(32767),HEX2DEC(BN53)-65536,HEX2DEC(BN53))","v":{"$error":"#NAME?"}},null,{"$f":"IF(HEX2DEC(BP53)>(32767),HEX2DEC(BP53)-65536,HEX2DEC(BP53))","v":{"$error":"#NAME?"}},null,{"$f":"IF(HEX2DEC(BR53)>(32767),HEX2DEC(BR53)-65536,HEX2DEC(BR53))","v":{"$error":"#NAME?"}},null,{"$f":"IF(HEX2DEC(BT53)>(32767),HEX2DEC(BT53)-65536,HEX2DEC(BT53))","v":{"$error":"#NAME?"}},null,{"$f":"IF(HEX2DEC(BV53)>(32767),HEX2DEC(BV53)-65536,HEX2DEC(BV53))","v":{"$error":"#NAME?"}},null,{"$f":"IF(HEX2DEC(BX53)>(32767),HEX2DEC(BX53)-65536,HEX2DEC(BX53))","v":{"$error":"#NAME?"}},null,{"$f":"IF(HEX2DEC(BZ53)>(32767),HEX2DEC(BZ53)-65536,HEX2DEC(BZ53))","v":{"$error":"#NAME?"}},null,{"$f":"IF(HEX2DEC(CB53)>(32767),HEX2DEC(CB53)-65536,HEX2DEC(CB53))","v":{"$error":"#NAME?"}},null,{"$f":"IF(HEX2DEC(CD53)>(32767),HEX2DEC(CD53)-65536,HEX2DEC(CD53))","v":{"$error":"#NAME?"}},null,{"$f":"IF(HEX2DEC(CF53)>(32767),HEX2DEC(CF53)-65536,HEX2DEC(CF53))","v":{"$error":"#NAME?"}}]
[null,{"$f":"$G$8","v":"2023-07-20"},{"$f":"($I$8+C54/24/60)","v":{"$error":"#NAME?"}},{"$f":"(((D54^2)+(F54^2))^0.5)/1000","v":{"$error":"#NAME?"}},null,{"$f":"IF(AND(F54>0,D54>0),DEGREES(ATAN(ABS(D54)/ABS(F54))),(IF(AND(F54<0,D54>0),180-DEGREES(ATAN(ABS(D54)/ABS(F54))),((IF(AND(F54>0,D54<0),360-DEGREES(ATAN(ABS(D54)/ABS(F54))),180+DEGREES(ATAN(ABS(D54)/ABS(F54)))))))))","v":{"$error":"#NAME?"}},null,{"$f":"(((H54^2)+(J54^2))^0.5)/1000","v":{"$error":"#NAME?"}},null,{"$f":"IF(AND(J54>0,H54>0),DEGREES(ATAN(ABS(H54)/ABS(J54))),(IF(AND(J54<0,H54>0),180-DEGREES(ATAN(ABS(H54)/ABS(J54))),((IF(AND(J54>0,H54<0),360-DEGREES(ATAN(ABS(H54)/ABS(J54))),180+DEGREES(ATAN(ABS(H54)/ABS(J54)))))))))","v":{"$error":"#NAME?"}},null,{"$f":"(((L54^2)+(N54^2))^0.5)/1000","v":{"$error":"#NAME?"}},null,{"$f":"IF(AND(N54>0,L54>0),DEGREES(ATAN(ABS(L54)/ABS(N54))),(IF(AND(N54<0,L54>0),180-DEGREES(ATAN(ABS(L54)/ABS(N54))),((IF(AND(N54>0,L54<0),360-DEGREES(ATAN(ABS(L54)/ABS(N54))),180+DEGREES(ATAN(ABS(L54)/ABS(N54)))))))))","v":{"$error":"#NAME?"}},null,{"$f":"(((P54^2)+(R54^2))^0.5)/1000","v":{"$error":"#NAME?"}},null,{"$f":"IF(AND(R54>0,P54>0),DEGREES(ATAN(ABS(P54)/ABS(R54))),(IF(AND(R54<0,P54>0),180-DEGREES(ATAN(ABS(P54)/ABS(R54))),((IF(AND(R54>0,P54<0),360-DEGREES(ATAN(ABS(P54)/ABS(R54))),180+DEGREES(ATAN(ABS(P54)/ABS(R54)))))))))","v":{"$error":"#NAME?"}},null,{"$f":"(((T54^2)+(V54^2))^0.5)/1000","v":{"$error":"#NAME?"}},null,{"$f":"IF(AND(V54>0,T54>0),DEGREES(ATAN(ABS(T54)/ABS(V54))),(IF(AND(V54<0,T54>0),180-DEGREES(ATAN(ABS(T54)/ABS(V54))),((IF(AND(V54>0,T54<0),360-DEGREES(ATAN(ABS(T54)/ABS(V54))),180+DEGREES(ATAN(ABS(T54)/ABS(V54)))))))))","v":{"$error":"#NAME?"}},null,{"$f":"(((X54^2)+(Z54^2))^0.5)/1000","v":{"$error":"#NAME?"}},null,{"$f":"IF(AND(Z54>0,X54>0),DEGREES(ATAN(ABS(X54)/ABS(Z54))),(IF(AND(Z54<0,X54>0),180-DEGREES(ATAN(ABS(X54)/ABS(Z54))),((IF(AND(Z54>0,X54<0),360-DEGREES(ATAN(ABS(X54)/ABS(Z54))),180+DEGREES(ATAN(ABS(X54)/ABS(Z54)))))))))","v":{"$error":"#NAME?"}},null,{"$f":"(((AB54^2)+(AD54^2))^0.5)/1000","v":{"$error":"#NAME?"}},null,{"$f":"IF(AND(AD54>0,AB54>0),DEGREES(ATAN(ABS(AB54)/ABS(AD54))),(IF(AND(AD54<0,AB54>0),180-DEGREES(ATAN(ABS(AB54)/ABS(AD54))),((IF(AND(AD54>0,AB54<0),360-DEGREES(ATAN(ABS(AB54)/ABS(AD54))),180+DEGREES(ATAN(ABS(AB54)/ABS(AD54)))))))))","v":{"$error":"#NAME?"}},null,{"$f":"(((AF54^2)+(AH54^2))^0.5)/1000","v":{"$error":"#NAME?"}},null,{"$f":"IF(AND(AH54>0,AF54>0),DEGREES(ATAN(ABS(AF54)/ABS(AH54))),(IF(AND(AH54<0,AF54>0),180-DEGREES(ATAN(ABS(AF54)/ABS(AH54))),((IF(AND(AH54>0,AF54<0),360-DEGREES(ATAN(ABS(AF54)/ABS(AH54))),180+DEGREES(ATAN(ABS(AF54)/ABS(AH54)))))))))","v":{"$error":"#NAME?"}},null,{"$f":"(((AJ54^2)+(AL54^2))^0.5)/1000","v":{"$error":"#NAME?"}},null,{"$f":"IF(AND(AL54>0,AJ54>0),DEGREES(ATAN(ABS(AJ54)/ABS(AL54))),(IF(AND(AL54<0,AJ54>0),180-DEGREES(ATAN(ABS(AJ54)/ABS(AL54))),((IF(AND(AL54>0,AJ54<0),360-DEGREES(ATAN(ABS(AJ54)/ABS(AL54))),180+DEGREES(ATAN(ABS(AJ54)/ABS(AL54)))))))))","v":{"$error":"#NAME?"}},null,{"$f":"(((AN54^2)+(AP54^2))^0.5)/1000","v":{"$error":"#NAME?"}},null,{"$f":"IF(AND(AP54>0,AN54>0),DEGREES(ATAN(ABS(AN54)/ABS(AP54))),(IF(AND(AP54<0,AN54>0),180-DEGREES(ATAN(ABS(AN54)/ABS(AP54))),((IF(AND(AP54>0,AN54<0),360-DEGREES(ATAN(ABS(AN54)/ABS(AP54))),180+DEGREES(ATAN(ABS(AN54)/ABS(AP54)))))))))","v":{"$error":"#NAME?"}},null,{"$f":"(((AR54^2)+(AT54^2))^0.5)/1000","v":{"$error":"#NAME?"}},null,{"$f":"IF(AND(AT54>0,AR54>0),DEGREES(ATAN(ABS(AR54)/ABS(AT54))),(IF(AND(AT54<0,AR54>0),180-DEGREES(ATAN(ABS(AR54)/ABS(AT54))),((IF(AND(AT54>0,AR54<0),360-DEGREES(ATAN(ABS(AR54)/ABS(AT54))),180+DEGREES(ATAN(ABS(AR54)/ABS(AT54)))))))))","v":{"$error":"#NAME?"}},null,{"$f":"(((AV54^2)+(AX54^2))^0.5)/1000","v":{"$error":"#NAME?"}},null,{"$f":"IF(AND(AX54>0,AV54>0),DEGREES(ATAN(ABS(AV54)/ABS(AX54))),(IF(AND(AX54<0,AV54>0),180-DEGREES(ATAN(ABS(AV54)/ABS(AX54))),((IF(AND(AX54>0,AV54<0),360-DEGREES(ATAN(ABS(AV54)/ABS(AX54))),180+DEGREES(ATAN(ABS(AV54)/ABS(AX54)))))))))","v":{"$error":"#NAME?"}},null,{"$f":"(((AZ54^2)+(BB54^2))^0.5)/1000","v":{"$error":"#NAME?"}},null,{"$f":"IF(AND(BB54>0,AZ54>0),DEGREES(ATAN(ABS(AZ54)/ABS(BB54))),(IF(AND(BB54<0,AZ54>0),180-DEGREES(ATAN(ABS(AZ54)/ABS(BB54))),((IF(AND(BB54>0,AZ54<0),360-DEGREES(ATAN(ABS(AZ54)/ABS(BB54))),180+DEGREES(ATAN(ABS(AZ54)/ABS(BB54)))))))))","v":{"$error":"#NAME?"}},null,{"$f":"(((BD54^2)+(BF54^2))^0.5)/1000","v":{"$error":"#NAME?"}},null,{"$f":"IF(AND(BF54>0,BD54>0),DEGREES(ATAN(ABS(BD54)/ABS(BF54))),(IF(AND(BF54<0,BD54>0),180-DEGREES(ATAN(ABS(BD54)/ABS(BF54))),((IF(AND(BF54>0,BD54<0),360-DEGREES(ATAN(ABS(BD54)/ABS(BF54))),180+DEGREES(ATAN(ABS(BD54)/ABS(BF54)))))))))","v":{"$error":"#NAME?"}},null,{"$f":"(((BH54^2)+(BJ54^2))^0.5)/1000","v":{"$error":"#NAME?"}},null,{"$f":"IF(AND(BJ54>0,BH54>0),DEGREES(ATAN(ABS(BH54)/ABS(BJ54))),(IF(AND(BJ54<0,BH54>0),180-DEGREES(ATAN(ABS(BH54)/ABS(BJ54))),((IF(AND(BJ54>0,BH54<0),360-DEGREES(ATAN(ABS(BH54)/ABS(BJ54))),180+DEGREES(ATAN(ABS(BH54)/ABS(BJ54)))))))))","v":{"$error":"#NAME?"}},null,{"$f":"(((BL54^2)+(BN54^2))^0.5)/1000","v":{"$error":"#NAME?"}},null,{"$f":"IF(AND(BN54>0,BL54>0),DEGREES(ATAN(ABS(BL54)/ABS(BN54))),(IF(AND(BN54<0,BL54>0),180-DEGREES(ATAN(ABS(BL54)/ABS(BN54))),((IF(AND(BN54>0,BL54<0),360-DEGREES(ATAN(ABS(BL54)/ABS(BN54))),180+DEGREES(ATAN(ABS(BL54)/ABS(BN54)))))))))","v":{"$error":"#NAME?"}},null,{"$f":"(((BP54^2)+(BR54^2))^0.5)/1000","v":{"$error":"#NAME?"}},null,{"$f":"IF(AND(BR54>0,BP54>0),DEGREES(ATAN(ABS(BP54)/ABS(BR54))),(IF(AND(BR54<0,BP54>0),180-DEGREES(ATAN(ABS(BP54)/ABS(BR54))),((IF(AND(BR54>0,BP54<0),360-DEGREES(ATAN(ABS(BP54)/ABS(BR54))),180+DEGREES(ATAN(ABS(BP54)/ABS(BR54)))))))))","v":{"$error":"#NAME?"}},null,{"$f":"(((BT54^2)+(BV54^2))^0.5)/1000","v":{"$error":"#NAME?"}},null,{"$f":"IF(AND(BV54>0,BT54>0),DEGREES(ATAN(ABS(BT54)/ABS(BV54))),(IF(AND(BV54<0,BT54>0),180-DEGREES(ATAN(ABS(BT54)/ABS(BV54))),((IF(AND(BV54>0,BT54<0),360-DEGREES(ATAN(ABS(BT54)/ABS(BV54))),180+DEGREES(ATAN(ABS(BT54)/ABS(BV54)))))))))","v":{"$error":"#NAME?"}},null,{"$f":"(((BX54^2)+(BZ54^2))^0.5)/1000","v":{"$error":"#NAME?"}},null,{"$f":"IF(AND(BZ54>0,BX54>0),DEGREES(ATAN(ABS(BX54)/ABS(BZ54))),(IF(AND(BZ54<0,BX54>0),180-DEGREES(ATAN(ABS(BX54)/ABS(BZ54))),((IF(AND(BZ54>0,BX54<0),360-DEGREES(ATAN(ABS(BX54)/ABS(BZ54))),180+DEGREES(ATAN(ABS(BX54)/ABS(BZ54)))))))))","v":{"$error":"#NAME?"}},null,{"$f":"(((CB54^2)+(CD54^2))^0.5)/1000","v":{"$error":"#NAME?"}},null,{"$f":"IF(AND(CD54>0,CB54>0),DEGREES(ATAN(ABS(CB54)/ABS(CD54))),(IF(AND(CD54<0,CB54>0),180-DEGREES(ATAN(ABS(CB54)/ABS(CD54))),((IF(AND(CD54>0,CB54<0),360-DEGREES(ATAN(ABS(CB54)/ABS(CD54))),180+DEGREES(ATAN(ABS(CB54)/ABS(CD54)))))))))","v":{"$error":"#NAME?"}},null,{"$f":"CF54/100","v":{"$error":"#NAME?"}}]
[]
[]
["51h\n81","ID TRAMA","Fecha ADCP",null,null,null,"V1",null,"Presion ",null,"Compass heading",null,"Compass Pitch",null,"Compass Roll"]
["Unidad","Id de la Trama","DDMMAAhhmm\n(Telemando RC)",null,null,null,"Line V \n(Telemando BV)",null,"dBar",null,"º",null,"º",null,"º"]
["Posición byte",1,2,3,4,5,6,7,8,9,10,11,12,13,14,15]
[51,{"$f":"IF(_xlfn.xlookup($A61,$L$133:$L$144,$R$133:$R$144)=0,INDEX($A$5:$ZZ$5,1,_xlfn.xlookup($A61,$L$133:$L$144,$N$133:$N$144)+B60-1))","v":{"$error":"#NAME?"}},{"$f":"IF(_xlfn.xlookup($A61,$L$133:$L$144,$R$133:$R$144)=0,INDEX($A$5:$ZZ$5,1,_xlfn.xlookup($A61,$L$133:$L$144,$N$133:$N$144)+C60-1))","v":{"$error":"#NAME?"}},{"$f":"IF(_xlfn.xlookup($A61,$L$133:$L$144,$R$133:$R$144)=0,INDEX($A$5:$ZZ$5,1,_xlfn.xlookup($A61,$L$133:$L$144,$N$133:$N$144)+D60-1))","v":{"$error":"#NAME?"}},{"$f":"IF(_xlfn.xlookup($A61,$L$133:$L$144,$R$133:$R$144)=0,INDEX($A$5:$ZZ$5,1,_xlfn.xlookup($A61,$L$133:$L$144,$N$133:$N$144)+E60-1))","v":{"$error":"#NAME?"}},{"$f":"IF(_xlfn.xlookup($A61,$L$133:$L$144,$R$133:$R$144)=0,INDEX($A$5:$ZZ$5,1,_xlfn.xlookup($A61,$L$133:$L$144,$N$133:$N$144)+F60-1))","v":{"$error":"#NAME?"}},{"$f":"IF(_xlfn.xlookup($A61,$L$133:$L$144,$R$133:$R$144)=0,INDEX($A$5:$ZZ$5,1,_xlfn.xlookup($A61,$L$133:$L$144,$N$133:$N$144)+G60-1))","v":{"$error":"#NAME?"}},{"$f":"IF(_xlfn.xlookup($A61,$L$133:$L$144,$R$133:$R$144)=0,INDEX($A$5:$ZZ$5,1,_xlfn.xlookup($A61,$L$133:$L$144,$N$133:$N$144)+H60-1))","v":{"$error":"#NAME?"}},{"$f":"IF(_xlfn.xlookup($A61,$L$133:$L$144,$R$133:$R$144)=0,INDEX($A$5:$ZZ$5,1,_xlfn.xlookup($A61,$L$133:$L$144,$N$133:$N$144)+I60-1))","v":{"$error":"#NAME?"}},{"$f":"IF(_xlfn.xlookup($A61,$L$133:$L$144,$R$133:$R$144)=0,INDEX($A$5:$ZZ$5,1,_xlfn.xlookup($A61,$L$133:$L$144,$N$133:$N$144)+J60-1))","v":{"$error":"#NAME?"}},{"$f":"IF(_xlfn.xlookup($A61,$L$133:$L$144,$R$133:$R$144)=0,INDEX($A$5:$ZZ$5,1,_xlfn.xlookup($A61,$L$133:$L$144,$N$133:$N$144)+K60-1))","v":{"$error":"#NAME?"}},{"$f":"IF(_xlfn.xlookup($A61,$L$133:$L$144,$R$133:$R$144)=0,INDEX($A$5:$ZZ$5,1,_xlfn.xlookup($A61,$L$133:$L$144,$N$133:$N$144)+L60-1))","v":{"$error":"#NAME?"}},{"$f":"IF(_xlfn.xlookup($A61,$L$133:$L$144,$R$133:$R$144)=0,INDEX($A$5:$ZZ$5,1,_xlfn.xlookup($A61,$L$133:$L$144,$N$133:$N$144)+M60-1))","v":{"$error":"#NAME?"}},{"$f":"IF(_xlfn.xlookup($A61,$L$133:$L$144,$R$133:$R$144)=0,INDEX($A$5:$ZZ$5,1,_xlfn.xlookup($A61,$L$133:$L$144,$N$133:$N$144)+N60-1))","v":{"$error":"#NAME?"}},{"$f":"IF(_xlfn.xlookup($A61,$L$133:$L$144,$R$133:$R$144)=0,INDEX($A$5:$ZZ$5,1,_xlfn.xlookup($A61,$L$133:$L$144,$N$133:$N$144)+O60-1))","v":{"$error":"#NAME?"}},{"$f":"IF(_xlfn.xlookup($A61,$L$133:$L$144,$R$133:$R$144)=0,INDEX($A$5:$ZZ$5,1,_xlfn.xlookup($A61,$L$133:$L$144,$N$133:$N$144)+P60-1))","v":{"$error":"#NAME?"}}]
["HEX",{"$f":"TEXT(B61,\"00\")","v":{"$error":"#NAME?"}},{"$f":"CONCATENATE(TEXT(C61,\"00\"),TEXT(D61,\"00\"),TEXT(E61,\"00\"),TEXT(F61,\"00\"))","v":{"$error":"#NAME?"}},null,null,null,{"$f":"CONCATENATE(TEXT(G61,\"00\"),TEXT(H61,\"00\"))","v":{"$error":"#NAME?"}},null,{"$f":"CONCATENATE(TEXT(I61,\"00\"),TEXT(J61,\"00\"))","v":{"$error":"#NAME?"}},null,{"$f":"CONCATENATE(TEXT(K61,\"00\"),TEXT(L61,\"00\"))","v":{"$error":"#NAME?"}},null,{"$f":"CONCATENATE(TEXT(M61,\"00\"),TEXT(N61,\"00\"))","v":{"$error":"#NAME?"}},null,{"$f":"CONCATENATE(TEXT(O61,\"00\"),TEXT(P61,\"00\"))","v":{"$error":"#NAME?"}}]
["DEC",{"$f":"HEX2DEC(B62)","v":{"$error":"#NAME?"}},{"$f":"TEXT(HEX2DEC(C62),\"0000000000\")","v":{"$error":"#NAME?"}},null,null,null,{"$f":"HEX2DEC(G62)","v":{"$error":"#NAME?"}},null,{"$f":"HEX2DEC(I62)","v":{"$error":"#NAME?"}},null,{"$f":"IF(HEX2DEC(K62)>(32767),HEX2DEC(K62)-65536,HEX2DEC(K62))","v":{"$error":"#NAME?"}},null,{"$f":"IF(HEX2DEC(M62)>(32767),HEX2DEC(M62)-65536,HEX2DEC(M62))","v":{"$error":"#NAME?"}},null,{"$f":"IF(HEX2DEC(O62)>(32767),HEX2DEC(O62)-65536,HEX2DEC(O62))","v":{"$error":"#NAME?"}}]
[null,{"$f":"B63","v":{"$error":"#NAME?"}},{"$f":"DATE(MID(C63,5,2)+100,MID(C63,3,2),MID(C63,1,2))","v":{"$error":"#NAME?"}},null,{"$f":"(RIGHT(C63,4))","v":{"$error":"#NAME?"}},null,{"$f":"G63/1000","v":{"$error":"#NAME?"}},null,{"$f":"I63/1000","v":{"$error":"#NAME?"}},null,{"$f":"K63/10","v":{"$error":"#NAME?"}},null,{"$f":"M63/10","v":{"$error":"#NAME?"}},null,{"$f":"O63/10","v":{"$error":"#NAME?"}}]
[]
[]
[]
["A0h","WAVE",null,"VQTY",null,"VMXL",null,"VH110",null,"VAVH",null,"VHM0",null,"VTMX",null,"VTPK",null,"VT110",null,"VAVT",null,"VGTA",null,"VDIR",null,"VPSP",null,"VFL1","VFL2"]
[160,"ID TRAMA","DIF FECHA","NRO DE OLAS",null,"H.MAX.",null,"HSIG/10",null,"HSIG/3",null,"HMED",null,"TMAX",null,"TPICO",null,"TSIG/10",null,"TSIG/3",null,"TMED",null,"DIR",null,"DESV",null,"FLAG1","FLAG2"]
["Unidad","Id de la Trama","minutos \n(pos.y neg.)","Definido en la configuración",null,"Altura Máxima\ncm",null,"Altura Significativa H/10\ncm",null,"Altura Significativa H/3\ncm",null,"Altura Media\ncm",null,"Período Máximo\nseg x 10-1",null,"Período Pico\nseg x 10-1",null,"Período Significativo H/10\nseg x 10-1",null,"Período  Significativo H/3\nseg x 10-1",null,"Período Medio\nseg x 10-1",null,"Dirección\ngrados x 10-1",null,"Disperción\ngrados x 10-2",null,"Definido en la configuración","Definido en la configuración"]
["Posición byte",1,2,3,4,5,6,7,8,9,10,11,12,13,14,15,16,17,18,19,20,21,22,23,24,25,26,27,28]
["A0",{"$f":"IF(_xlfn.xlookup($A72,$L$133:$L$144,$R$133:$R$144)=0,INDEX($A$5:$ZZ$5,1,_xlfn.xlookup($A72,$L$133:$L$144,$N$133:$N$144)+B71-1))","v":{"$error":"#NAME?"}},{"$f":"IF(_xlfn.xlookup($A72,$L$133:$L$144,$R$133:$R$144)=0,INDEX($A$5:$ZZ$5,1,_xlfn.xlookup($A72,$L$133:$L$144,$N$133:$N$144)+C71-1))","v":{"$error":"#NAME?"}},{"$f":"IF(_xlfn.xlookup($A72,$L$133:$L$144,$R$133:$R$144)=0,INDEX($A$5:$ZZ$5,1,_xlfn.xlookup($A72,$L$133:$L$144,$N$133:$N$144)+D71-1))","v":{"$error":"#NAME?"}},{"$f":"IF(_xlfn.xlookup($A72,$L$133:$L$144,$R$133:$R$144)=0,INDEX($A$5:$ZZ$5,1,_xlfn.xlookup($A72,$L$133:$L$144,$N$133:$N$144)+E71-1))","v":{"$error":"#NAME?"}},{"$f":"IF(_xlfn.xlookup($A72,$L$133:$L$144,$R$133:$R$144)=0,INDEX($A$5:$ZZ$5,1,_xlfn.xlookup($A72,$L$133:$L$144,$N$133:$N$144)+F71-1))","v":{"$error":"#NAME?"}},{"$f":"IF(_xlfn.xlookup($A72,$L$133:$L$144,$R$133:$R$144)=0,INDEX($A$5:$ZZ$5,1,_xlfn.xlookup($A72,$L$133:$L$144,$N$133:$N$144)+G71-1))","v":{"$error":"#NAME?"}},{"$f":"IF(_xlfn.xlookup($A72,$L$133:$L$144,$R$133:$R$144)=0,INDEX($A$5:$ZZ$5,1,_xlfn.xlookup($A72,$L$133:$L$144,$N$133:$N$144)+H71-1))","v":{"$error":"#NAME?"}},{"$f":"IF(_xlfn.xlookup($A72,$L$133:$L$144,$R$133:$R$144)=0,INDEX($A$5:$ZZ$5,1,_xlfn.xlookup($A72,$L$133:$L$144,$N$133:$N$144)+I71-1))","v":{"$error":"#NAME?"}},{"$f":"IF(_xlfn.xlookup($A72,$L$133:$L$144,$R$133:$R$144)=0,INDEX($A$5:$ZZ$5,1,_xlfn.xlookup($A72,$L$133:$L$144,$N$133:$N$144)+J71-1))","v":{"$error":"#NAME?"}},{"$f":"IF(_xlfn.xlookup($A72,$L$133:$L$144,$R$133:$R$144)=0,INDEX($A$5:$ZZ$5,1,_xlfn.xlookup($A72,$L$133:$L$144,$N$133:$N$144)+K71-1))","v":{"$error":"#NAME?"}},{"$f":"IF(_xlfn.xlookup($A72,$L$133:$L$144,$R$133:$R$144)=0,INDEX($A$5:$ZZ$5,1,_xlfn.xlookup($A72,$L$133:$L$144,$N$133:$N$144)+L71-1))","v":{"$error":"#NAME?"}},{"$f":"IF(_xlfn.xlookup($A72,$L$133:$L$144,$R$133:$R$144)=0,INDEX($A$5:$ZZ$5,1,_xlfn.xlookup($A72,$L$133:$L$144,$N$133:$N$144)+M71-1))","v":{"$error":"#NAME?"}},{"$f":"IF(_xlfn.xlookup($A72,$L$133:$L$144,$R$133:$R$144)=0,INDEX($A$5:$ZZ$5,1,_xlfn.xlookup($A72,$L$133:$L$144,$N$133:$N$144)+N71-1))","v":{"$error":"#NAME?"}},{"$f":"IF(_xlfn.xlookup($A72,$L$133:$L$144,$R$133:$R$144)=0,INDEX($A$5:$ZZ$5,1,_xlfn.xlookup($A72,$L$133:$L$144,$N$133:$N$144)+O71-1))","v":{"$error":"#NAME?"}},{"$f":"IF(_xlfn.xlookup($A72,$L$133:$L$144,$R$133:$R$144)=0,INDEX($A$5:$ZZ$5,1,_xlfn.xlookup($A72,$L$133:$L$144,$N$133:$N$144)+P71-1))","v":{"$error":"#NAME?"}},{"$f":"IF(_xlfn.xlookup($A72,$L$133:$L$144,$R$133:$R$144)=0,INDEX($A$5:$ZZ$5,1,_xlfn.xlookup($A72,$L$133:$L$144,$N$133:$N$144)+Q71-1))","v":{"$error":"#NAME?"}},{"$f":"IF(_xlfn.xlookup($A72,$L$133:$L$144,$R$133:$R$144)=0,INDEX($A$5:$ZZ$5,1,_xlfn.xlookup($A72,$L$133:$L$144,$N$133:$N$144)+R71-1))","v":{"$error":"#NAME?"}},{"$f":"IF(_xlfn.xlookup($A72,$L$133:$L$144,$R$133:$R$144)=0,INDEX($A$5:$ZZ$5,1,_xlfn.xlookup($A72,$L$133:$L$144,$N$133:$N$144)+S71-1))","v":{"$error":"#NAME?"}},{"$f":"IF(_xlfn.xlookup($A72,$L$133:$L$144,$R$133:$R$144)=0,INDEX($A$5:$ZZ$5,1,_xlfn.xlookup($A72,$L$133:$L$144,$N$133:$N$144)+T71-1))","v":{"$error":"#NAME?"}},{"$f":"IF(_xlfn.xlookup($A72,$L$133:$L$144,$R$133:$R$144)=0,INDEX($A$5:$ZZ$5,1,_xlfn.xlookup($A72,$L$133:$L$144,$N$133:$N$144)+U71-1))","v":{"$error":"#NAME?"}},{"$f":"IF(_xlfn.xlookup($A72,$L$133:$L$144,$R$133:$R$144)=0,INDEX($A$5:$ZZ$5,1,_xlfn.xlookup($A72,$L$133:$L$144,$N$133:$N$144)+V71-1))","v":{"$error":"#NAME?"}},{"$f":"IF(_xlfn.xlookup($A72,$L$133:$L$144,$R$133:$R$144)=0,INDEX($A$5:$ZZ$5,1,_xlfn.xlookup($A72,$L$133:$L$144,$N$133:$N$144)+W71-1))","v":{"$error":"#NAME?"}},{"$f":"IF(_xlfn.xlookup($A72,$L$133:$L$144,$R$133:$R$144)=0,INDEX($A$5:$ZZ$5,1,_xlfn.xlookup($A72,$L$133:$L$144,$N$133:$N$144)+X71-1))","v":{"$error":"#NAME?"}},{"$f":"IF(_xlfn.xlookup($A72,$L$133:$L$144,$R$133:$R$144)=0,INDEX($A$5:$ZZ$5,1,_xlfn.xlookup($A72,$L$133:$L$144,$N$133:$N$144)+Y71-1))","v":{"$error":"#NAME?"}},{"$f":"IF(_xlfn.xlookup($A72,$L$133:$L$144,$R$133:$R$144)=0,INDEX($A$5:$ZZ$5,1,_xlfn.xlookup($A72,$L$133:$L$144,$N$133:$N$144)+Z71-1))","v":{"$error":"#NAME?"}},{"$f":"IF(_xlfn.xlookup($A72,$L$133:$L$144,$R$133:$R$144)=0,INDEX($A$5:$ZZ$5,1,_xlfn.xlookup($A72,$L$133:$L$144,$N$133:$N$144)+AA71-1))","v":{"$error":"#NAME?"}},{"$f":"IF(_xlfn.xlookup($A72,$L$133:$L$144,$R$133:$R$144)=0,INDEX($A$5:$ZZ$5,1,_xlfn.xlookup($A72,$L$133:$L$144,$N$133:$N$144)+AB71-1))","v":{"$error":"#NAME?"}},{"$f":"IF(_xlfn.xlookup($A72,$L$133:$L$144,$R$133:$R$144)=0,INDEX($A$5:$ZZ$5,1,_xlfn.xlookup($A72,$L$133:$L$144,$N$133:$N$144)+AC71-1))","v":{"$error":"#NAME?"}}]
["HEX",{"$f":"TEXT(B72,\"00\")","v":{"$error":"#NAME?"}},{"$f":"TEXT(C72,\"00\")","v":{"$error":"#NAME?"}},{"$f":"CONCATENATE(TEXT(D72,\"00\"),TEXT(E72,\"00\"))","v":{"$error":"#NAME?"}},null,{"$f":"CONCATENATE(TEXT(F72,\"00\"),TEXT(G72,\"00\"))","v":{"$error":"#NAME?"}},null,{"$f":"CONCATENATE(TEXT(H72,\"00\"),TEXT(I72,\"00\"))","v":{"$error":"#NAME?"}},null,{"$f":"CONCATENATE(TEXT(J72,\"00\"),TEXT(K72,\"00\"))","v":{"$error":"#NAME?"}},null,{"$f":"CONCATENATE(TEXT(L72,\"00\"),TEXT(M72,\"00\"))","v":{"$error":"#NAME?"}},null,{"$f":"CONCATENATE(TEXT(N72,\"00\"),TEXT(O72,\"00\"))","v":{"$error":"#NAME?"}},null,{"$f":"CONCATENATE(TEXT(P72,\"00\"),TEXT(Q72,\"00\"))","v":{"$error":"#NAME?"}},null,{"$f":"CONCATENATE(TEXT(R72,\"00\"),TEXT(S72,\"00\"))","v":{"$error":"#NAME?"}},null,{"$f":"CONCATENATE(TEXT(T72,\"00\"),TEXT(U72,\"00\"))","v":{"$error":"#NAME?"}},null,{"$f":"CONCATENATE(TEXT(V72,\"00\"),TEXT(W72,\"00\"))","v":{"$error":"#NAME?"}},null,{"$f":"CONCATENATE(TEXT(X72,\"00\"),TEXT(Y72,\"00\"))","v":{"$error":"#NAME?"}},null,{"$f":"CONCATENATE(TEXT(Z72,\"00\"),TEXT(AA72,\"00\"))","v":{"$error":"#NAME?"}},null,{"$f":"TEXT(AB72,\"00\")","v":{"$error":"#NAME?"}},{"$f":"TEXT(AC72,\"00\")","v":{"$error":"#NAME?"}}]
["DEC",{"$f":"HEX2DEC(B73)","v":{"$error":"#NAME?"}},{"$f":"IF(HEX2DEC(C73)>(127),HEX2DEC(C73)-256,HEX2DEC(C73))","v":{"$error":"#NAME?"}},{"$f":"IF(HEX2DEC(D73)>(32767),HEX2DEC(D73)-65536,HEX2DEC(D73))","v":{"$error":"#NAME?"}},null,{"$f":"IF(HEX2DEC(F73)>(32769),HEX2DEC(F73)-65536,HEX2DEC(F73))","v":{"$error":"#NAME?"}},null,{"$f":"IF(HEX2DEC(H73)>(32769),HEX2DEC(H73)-65536,HEX2DEC(H73))","v":{"$error":"#NAME?"}},null,{"$f":"IF(HEX2DEC(J73)>(32769),HEX2DEC(J73)-65536,HEX2DEC(J73))","v":{"$error":"#NAME?"}},null,{"$f":"IF(HEX2DEC(L73)>(32769),HEX2DEC(L73)-65536,HEX2DEC(L73))","v":{"$error":"#NAME?"}},null,{"$f":"IF(HEX2DEC(N73)>(32769),HEX2DEC(N73)-65536,HEX2DEC(N73))","v":{"$error":"#NAME?"}},null,{"$f":"IF(HEX2DEC(P73)>(32769),HEX2DEC(P73)-65536,HEX2DEC(P73))","v":{"$error":"#NAME?"}},null,{"$f":"IF(HEX2DEC(R73)>(32769),HEX2DEC(R73)-65536,HEX2DEC(R73))","v":{"$error":"#NAME?"}},null,{"$f":"IF(HEX2DEC(T73)>(32769),HEX2DEC(T73)-65536,HEX2DEC(T73))","v":{"$error":"#NAME?"}},null,{"$f":"IF(HEX2DEC(V73)>(32769),HEX2DEC(V73)-65536,HEX2DEC(V73))","v":{"$error":"#NAME?"}},null,{"$f":"IF(HEX2DEC(X73)>(32769),HEX2DEC(X73)-65536,HEX2DEC(X73))","v":{"$error":"#NAME?"}},null,{"$f":"IF(HEX2DEC(Z73)>(32769),HEX2DEC(Z73)-65536,HEX2DEC(Z73))","v":{"$error":"#NAME?"}},null,{"$f":"HEX2DEC(AB73)","v":{"$error":"#NAME?"}},{"$f":"HEX2DEC(AC73)","v":{"$error":"#NAME?"}}]
[null,{"$f":"$G$8","v":"2023-07-20"},{"$f":"($I$8+C74/24/60)","v":{"$error":"#NAME?"}}]
[]
[]
["A1h\n161","ID TRAMA","Fecha MBW3 \n(última ola)",null,null,null,"Ocupación SD","Nro. Reinicios","SBG/SD OK"]
["Unidad","Id de la Trama","DDMMAAhhmm",null,null,null,"%","Num","Estado del SBG y de la SD\nB0= Edo. SBG\nB1= Edo.  SD","Cantidad"]
["Valor Min.",161,"0101200000",null,null,null,0,0,0]
["Valor Max.",161,3112992359,null,null,null,100,255,3]
["Posición trama a tx",1,{"$f":"B82+B83","v":2},null,null,null,{"$f":"C82+C83","v":6},{"$f":"G82+G83","v":7},{"$f":"H82+H83","v":8},{"$f":"I82+I83","v":9}]
["bytes a tx",1,4,null,null,null,1,1,1]
["Ejm. completo",161,3103221345,null,null,null,61,4,3,"4F"]
[]
["EJEMPLO:","A1 3B EA 75 52 00 40 02 CF"]
["Unidad","Id de la Trama","DDMMAAhhmm",null,null,null,"%\n111= no se puede mirar el % \n112=no se tiene acceso a la SD (SD no presente)\n255= SD no inicializada","Num","Estado del SBG y de la SD\nB0 SBG: \n0 = no genera tramas. \n1 = Genera tramas\n\nB1 SD:\n0 = No se están escribiendo datos\n1 = Se están escribiendo datos"]
[null,"A1","4D","AD","B9",73,"FF","3F",2,"A2","4D","AD","B9",74,0,"3C",67,14,"FF","FF",30,"4C",5,3,"0D",31]
["Posición byte",1,2,3,4,5,6,7,8,null,null,null,null,null,null,null,null,null,null,null,null,null,null,null,null,null,null,null,null,null,null,null,null,null,0,64,64,"1D","D9","FA","EC","FD","BD","FF",17,"FF","8C","FB",91,2,"7A",9,"F4","1E",1,0,"5F",9,"F6",0,1,0,1,0,0,"A0","0A",0,2,0,2,0,2,0,2,0,2,1,16,0,"E0",1,16,1,16,0,"FB","0A",9,0,82,64,64,"2C","A6"]
["A1",{"$f":"IF(_xlfn.xlookup($A90,$L$133:$L$144,$R$133:$R$144)=0,INDEX($A$5:$ZZ$5,1,_xlfn.xlookup($A90,$L$133:$L$144,$N$133:$N$144)+B89-1))","v":{"$error":"#NAME?"}},{"$f":"IF(_xlfn.xlookup($A90,$L$133:$L$144,$R$133:$R$144)=0,INDEX($A$5:$ZZ$5,1,_xlfn.xlookup($A90,$L$133:$L$144,$N$133:$N$144)+C89-1))","v":{"$error":"#NAME?"}},{"$f":"IF(_xlfn.xlookup($A90,$L$133:$L$144,$R$133:$R$144)=0,INDEX($A$5:$ZZ$5,1,_xlfn.xlookup($A90,$L$133:$L$144,$N$133:$N$144)+D89-1))","v":{"$error":"#NAME?"}},{"$f":"IF(_xlfn.xlookup($A90,$L$133:$L$144,$R$133:$R$144)=0,INDEX($A$5:$ZZ$5,1,_xlfn.xlookup($A90,$L$133:$L$144,$N$133:$N$144)+E89-1))","v":{"$error":"#NAME?"}},{"$f":"IF(_xlfn.xlookup($A90,$L$133:$L$144,$R$133:$R$144)=0,INDEX($A$5:$ZZ$5,1,_xlfn.xlookup($A90,$L$133:$L$144,$N$133:$N$144)+F89-1))","v":{"$error":"#NAME?"}},{"$f":"IF(_xlfn.xlookup($A90,$L$133:$L$144,$R$133:$R$144)=0,INDEX($A$5:$ZZ$5,1,_xlfn.xlookup($A90,$L$133:$L$144,$N$133:$N$144)+G89-1))","v":{"$error":"#NAME?"}},{"$f":"IF(_xlfn.xlookup($A90,$L$133:$L$144,$R$133:$R$144)=0,INDEX($A$5:$ZZ$5,1,_xlfn.xlookup($A90,$L$133:$L$144,$N$133:$N$144)+H89-1))","v":{"$error":"#NAME?"}},{"$f":"IF(_xlfn.xlookup($A90,$L$133:$L$144,$R$133:$R$144)=0,INDEX($A$5:$ZZ$5,1,_xlfn.xlookup($A90,$L$133:$L$144,$N$133:$N$144)+I89-1))","v":{"$error":"#NAME?"}}]
["HEX",{"$f":"TEXT(B90,\"00\")","v":{"$error":"#NAME?"}},{"$f":"CONCATENATE(TEXT(C90,\"00\"),TEXT(D90,\"00\"),TEXT(E90,\"00\"),TEXT(F90,\"00\"))","v":{"$error":"#NAME?"}},null,null,null,{"$f":"TEXT(G90,\"00\")","v":{"$error":"#NAME?"}},{"$f":"TEXT(H90,\"00\")","v":{"$error":"#NAME?"}},{"$f":"TEXT(I90,\"00\")","v":{"$error":"#NAME?"}},{"$f":"TEXT(J90,\"00\")","v":"00"}]
["DEC",{"$f":"HEX2DEC(B91)","v":{"$error":"#NAME?"}},{"$f":"TEXT(HEX2DEC(C91),\"0000000000\")","v":{"$error":"#NAME?"}},null,null,null,{"$f":"HEX2DEC(G91)","v":{"$error":"#NAME?"}},{"$f":"HEX2DEC(H91)","v":{"$error":"#NAME?"}},{"$f":"HEX2DEC(I91)","v":{"$error":"#NAME?"}},{"$f":"HEX2DEC(J91)","v":0}]
[null,{"$f":"B92","v":{"$error":"#NAME?"}},{"$f":"DATE(MID(C92,5,2)+100,MID(C92,3,2),MID(C92,1,2))","v":{"$error":"#NAME?"}},null,{"$f":"(RIGHT(C92,4))","v":{"$error":"#NAME?"}},null,null,{"$f":"H92","v":{"$error":"#NAME?"}},{"$f":"DEC2BIN(I92)","v":{"$error":"#NAME?"}},{"$f":"J92","v":0}]
[]
[]
["A2h\n162","ID TRAMA","Fecha GPS MBW3",null,null,null,"Latitud",null,null,null,"Longitud",null,null,null,"Cant. Sat.","PDOP"]
["Unidad","Id de la Trama","DDMMAAhhmm",null,null,null,"Definido en la configuración",null,null,null,"Definido en la configuración",null,null,null,"Cantidad de Satélites","Calidad Posición"]
["Posición byte",1,2,3,4,5,6,7,8,9,10,11,12,13,14,15,16,null,null,null,null,null,null,null,null,null,null,null,null,null,null,null,null,null,0,2,0,"C8",0,"C8",0,"C8",0,"C8",0,"C8","0A","5E",0,0,64,64,"1D","D9","FA","EC","FD","BD","FF",17,"FF","8C","FB",91,2,"7A",9,"F4","1E",1,0,"5F",9,"F6",0,1,0,1,0,0,"A0","0A",0,2,0,2,0,2,0,2,0,2,1,16,0,"E0",1,16,1,16,0,"FB","0A",9,0,82,64,64,"2C","A6"]
["A2",{"$f":"IF(_xlfn.xlookup($A99,$L$133:$L$144,$R$133:$R$144)=0,INDEX($A$5:$ZZ$5,1,_xlfn.xlookup($A99,$L$133:$L$144,$N$133:$N$144)+B98-1))","v":{"$error":"#NAME?"}},{"$f":"IF(_xlfn.xlookup($A99,$L$133:$L$144,$R$133:$R$144)=0,INDEX($A$5:$ZZ$5,1,_xlfn.xlookup($A99,$L$133:$L$144,$N$133:$N$144)+C98-1))","v":{"$error":"#NAME?"}},{"$f":"IF(_xlfn.xlookup($A99,$L$133:$L$144,$R$133:$R$144)=0,INDEX($A$5:$ZZ$5,1,_xlfn.xlookup($A99,$L$133:$L$144,$N$133:$N$144)+D98-1))","v":{"$error":"#NAME?"}},{"$f":"IF(_xlfn.xlookup($A99,$L$133:$L$144,$R$133:$R$144)=0,INDEX($A$5:$ZZ$5,1,_xlfn.xlookup($A99,$L$133:$L$144,$N$133:$N$144)+E98-1))","v":{"$error":"#NAME?"}},{"$f":"IF(_xlfn.xlookup($A99,$L$133:$L$144,$R$133:$R$144)=0,INDEX($A$5:$ZZ$5,1,_xlfn.xlookup($A99,$L$133:$L$144,$N$133:$N$144)+F98-1))","v":{"$error":"#NAME?"}},{"$f":"IF(_xlfn.xlookup($A99,$L$133:$L$144,$R$133:$R$144)=0,INDEX($A$5:$ZZ$5,1,_xlfn.xlookup($A99,$L$133:$L$144,$N$133:$N$144)+G98-1))","v":{"$error":"#NAME?"}},{"$f":"IF(_xlfn.xlookup($A99,$L$133:$L$144,$R$133:$R$144)=0,INDEX($A$5:$ZZ$5,1,_xlfn.xlookup($A99,$L$133:$L$144,$N$133:$N$144)+H98-1))","v":{"$error":"#NAME?"}},{"$f":"IF(_xlfn.xlookup($A99,$L$133:$L$144,$R$133:$R$144)=0,INDEX($A$5:$ZZ$5,1,_xlfn.xlookup($A99,$L$133:$L$144,$N$133:$N$144)+I98-1))","v":{"$error":"#NAME?"}},{"$f":"IF(_xlfn.xlookup($A99,$L$133:$L$144,$R$133:$R$144)=0,INDEX($A$5:$ZZ$5,1,_xlfn.xlookup($A99,$L$133:$L$144,$N$133:$N$144)+J98-1))","v":{"$error":"#NAME?"}},{"$f":"IF(_xlfn.xlookup($A99,$L$133:$L$144,$R$133:$R$144)=0,INDEX($A$5:$ZZ$5,1,_xlfn.xlookup($A99,$L$133:$L$144,$N$133:$N$144)+K98-1))","v":{"$error":"#NAME?"}},{"$f":"IF(_xlfn.xlookup($A99,$L$133:$L$144,$R$133:$R$144)=0,INDEX($A$5:$ZZ$5,1,_xlfn.xlookup($A99,$L$133:$L$144,$N$133:$N$144)+L98-1))","v":{"$error":"#NAME?"}},{"$f":"IF(_xlfn.xlookup($A99,$L$133:$L$144,$R$133:$R$144)=0,INDEX($A$5:$ZZ$5,1,_xlfn.xlookup($A99,$L$133:$L$144,$N$133:$N$144)+M98-1))","v":{"$error":"#NAME?"}},{"$f":"IF(_xlfn.xlookup($A99,$L$133:$L$144,$R$133:$R$144)=0,INDEX($A$5:$ZZ$5,1,_xlfn.xlookup($A99,$L$133:$L$144,$N$133:$N$144)+N98-1))","v":{"$error":"#NAME?"}},{"$f":"IF(_xlfn.xlookup($A99,$L$133:$L$144,$R$133:$R$144)=0,INDEX($A$5:$ZZ$5,1,_xlfn.xlookup($A99,$L$133:$L$144,$N$133:$N$144)+O98-1))","v":{"$error":"#NAME?"}},{"$f":"IF(_xlfn.xlookup($A99,$L$133:$L$144,$R$133:$R$144)=0,INDEX($A$5:$ZZ$5,1,_xlfn.xlookup($A99,$L$133:$L$144,$N$133:$N$144)+P98-1))","v":{"$error":"#NAME?"}}]
["HEX",{"$f":"TEXT(B99,\"00\")","v":{"$error":"#NAME?"}},{"$f":"CONCATENATE(TEXT(C99,\"00\"),TEXT(D99,\"00\"),TEXT(E99,\"00\"),TEXT(F99,\"00\"))","v":{"$error":"#NAME?"}},null,null,null,{"$f":"CONCATENATE(TEXT(G99,\"00\"),TEXT(H99,\"00\"),TEXT(I99,\"00\"),TEXT(J99,\"00\"))","v":{"$error":"#NAME?"}},null,null,null,{"$f":"CONCATENATE(TEXT(K99,\"00\"),TEXT(L99,\"00\"),TEXT(M99,\"00\"),TEXT(N99,\"00\"))","v":{"$error":"#NAME?"}},null,null,null,{"$f":"TEXT(O99,\"00\")","v":{"$error":"#NAME?"}},{"$f":"TEXT(P99,\"00\")","v":{"$error":"#NAME?"}},{"$f":"TEXT(Q99,\"00\")","v":"00"},{"$f":"TEXT(R99,\"00\")","v":"00"},{"$f":"TEXT(S99,\"00\")","v":"00"},{"$f":"TEXT(T99,\"00\")","v":"00"}]
["DEC",{"$f":"HEX2DEC(B100)","v":{"$error":"#NAME?"}},{"$f":"TEXT(HEX2DEC(C100),\"0000000000\")","v":{"$error":"#NAME?"}},null,null,null,{"$f":"TEXT(HEX2DEC(G100),\"0000000000\")","v":{"$error":"#NAME?"}},null,null,null,{"$f":"TEXT(HEX2DEC(K100),\"0000000000\")","v":{"$error":"#NAME?"}},null,null,null,{"$f":"HEX2DEC(O100)","v":{"$error":"#NAME?"}},{"$f":"HEX2DEC(P100)","v":{"$error":"#NAME?"}},{"$f":"HEX2DEC(Q100)","v":0},{"$f":"HEX2DEC(R100)","v":0},{"$f":"HEX2DEC(S100)","v":0},{"$f":"HEX2DEC(T100)","v":0}]
[null,{"$f":"B101","v":{"$error":"#NAME?"}},{"$f":"DATE(MID(C101,5,2)+100,MID(C101,3,2),MID(C101,1,2))","v":{"$error":"#NAME?"}},null,{"$f":"(RIGHT(C101,4))","v":{"$error":"#NAME?"}},null,{"$f":"(IF(HEX2DEC(G100)>(2147483647),HEX2DEC(G100)-4294967296,HEX2DEC(G100)))*10^-7","v":{"$error":"#NAME?"}},null,null,null,{"$f":"(IF(HEX2DEC(K100)>(2147483647),HEX2DEC(K100)-4294967296,HEX2DEC(K100)))*10^-7","v":{"$error":"#NAME?"}},null,null,null,{"$f":"O101","v":{"$error":"#NAME?"}},{"$f":"P101","v":{"$error":"#NAME?"}},{"$f":"Q101","v":0},{"$f":"R101","v":0},{"$f":"S101","v":0},{"$f":"T101","v":0}]
[null,null,null,null,null,null,{"$f":"TRUNC(G102,0)","v":{"$error":"#NAME?"}},null,{"$f":"(G102-G103)*60","v":{"$error":"#NAME?"}},null,{"$f":"TRUNC(K102,0)","v":{"$error":"#NAME?"}},null,{"$f":"(K102-K103)*60","v":{"$error":"#NAME?"}}]
[]
[]
[]
[]
[]
[]
[null,"EMA",null,"WDIR",null,"WSPD",null,"GDIR",null,"GSPD",null,"ATMS",null,"DRYT"]
["7Ah\n122","ID TRAMA","DIF FECHA","Dirección del Viento",null,"Velocidad del Viento",null,"Dirección del Viento\nRáfaga",null,"Velocidad del Viento\nRáfaga",null,"Presión Atmosférica",null,"Temperatura"]
["Unidad","Id de la Trama","minutos \n(pos.y neg.)","º\n(pos)",null,"m/s x 10-2\n(pos)",null,"º\n(pos)",null,"m/s x 10-2\n(pos)",null,"hPa x 10-1\n(pos)",null,"ºC x 10-1\n(pos.y neg.)"]
["bytes a tx",1,1,2,null,2,null,2,null,2,null,2,null,2]
["Posición byte",1,2,3,4,5,6,7,8,9,10,11,12,13,14]
["7A",{"$f":"IF(_xlfn.xlookup($A115,$L$133:$L$144,$R$133:$R$144)=0,INDEX($A$5:$ZZ$5,1,_xlfn.xlookup($A115,$L$133:$L$144,$N$133:$N$144)+B114-1))","v":{"$error":"#NAME?"}},{"$f":"IF(_xlfn.xlookup($A115,$L$133:$L$144,$R$133:$R$144)=0,INDEX($A$5:$ZZ$5,1,_xlfn.xlookup($A115,$L$133:$L$144,$N$133:$N$144)+C114-1))","v":{"$error":"#NAME?"}},{"$f":"IF(_xlfn.xlookup($A115,$L$133:$L$144,$R$133:$R$144)=0,INDEX($A$5:$ZZ$5,1,_xlfn.xlookup($A115,$L$133:$L$144,$N$133:$N$144)+D114-1))","v":{"$error":"#NAME?"}},{"$f":"IF(_xlfn.xlookup($A115,$L$133:$L$144,$R$133:$R$144)=0,INDEX($A$5:$ZZ$5,1,_xlfn.xlookup($A115,$L$133:$L$144,$N$133:$N$144)+E114-1))","v":{"$error":"#NAME?"}},{"$f":"IF(_xlfn.xlookup($A115,$L$133:$L$144,$R$133:$R$144)=0,INDEX($A$5:$ZZ$5,1,_xlfn.xlookup($A115,$L$133:$L$144,$N$133:$N$144)+F114-1))","v":{"$error":"#NAME?"}},{"$f":"IF(_xlfn.xlookup($A115,$L$133:$L$144,$R$133:$R$144)=0,INDEX($A$5:$ZZ$5,1,_xlfn.xlookup($A115,$L$133:$L$144,$N$133:$N$144)+G114-1))","v":{"$error":"#NAME?"}},{"$f":"IF(_xlfn.xlookup($A115,$L$133:$L$144,$R$133:$R$144)=0,INDEX($A$5:$ZZ$5,1,_xlfn.xlookup($A115,$L$133:$L$144,$N$133:$N$144)+H114-1))","v":{"$error":"#NAME?"}},{"$f":"IF(_xlfn.xlookup($A115,$L$133:$L$144,$R$133:$R$144)=0,INDEX($A$5:$ZZ$5,1,_xlfn.xlookup($A115,$L$133:$L$144,$N$133:$N$144)+I114-1))","v":{"$error":"#NAME?"}},{"$f":"IF(_xlfn.xlookup($A115,$L$133:$L$144,$R$133:$R$144)=0,INDEX($A$5:$ZZ$5,1,_xlfn.xlookup($A115,$L$133:$L$144,$N$133:$N$144)+J114-1))","v":{"$error":"#NAME?"}},{"$f":"IF(_xlfn.xlookup($A115,$L$133:$L$144,$R$133:$R$144)=0,INDEX($A$5:$ZZ$5,1,_xlfn.xlookup($A115,$L$133:$L$144,$N$133:$N$144)+K114-1))","v":{"$error":"#NAME?"}},{"$f":"IF(_xlfn.xlookup($A115,$L$133:$L$144,$R$133:$R$144)=0,INDEX($A$5:$ZZ$5,1,_xlfn.xlookup($A115,$L$133:$L$144,$N$133:$N$144)+L114-1))","v":{"$error":"#NAME?"}},{"$f":"IF(_xlfn.xlookup($A115,$L$133:$L$144,$R$133:$R$144)=0,INDEX($A$5:$ZZ$5,1,_xlfn.xlookup($A115,$L$133:$L$144,$N$133:$N$144)+M114-1))","v":{"$error":"#NAME?"}},{"$f":"IF(_xlfn.xlookup($A115,$L$133:$L$144,$R$133:$R$144)=0,INDEX($A$5:$ZZ$5,1,_xlfn.xlookup($A115,$L$133:$L$144,$N$133:$N$144)+N114-1))","v":{"$error":"#NAME?"}},{"$f":"IF(_xlfn.xlookup($A115,$L$133:$L$144,$R$133:$R$144)=0,INDEX($A$5:$ZZ$5,1,_xlfn.xlookup($A115,$L$133:$L$144,$N$133:$N$144)+O114-1))","v":{"$error":"#NAME?"}}]
["HEX",{"$f":"TEXT(B115,\"00\")","v":{"$error":"#NAME?"}},{"$f":"TEXT(C115,\"00\")","v":{"$error":"#NAME?"}},{"$f":"CONCATENATE(TEXT(D115,\"00\"),TEXT(E115,\"00\"))","v":{"$error":"#NAME?"}},null,{"$f":"CONCATENATE(TEXT(F115,\"00\"),TEXT(G115,\"00\"))","v":{"$error":"#NAME?"}},null,{"$f":"CONCATENATE(TEXT(H115,\"00\"),TEXT(I115,\"00\"))","v":{"$error":"#NAME?"}},null,{"$f":"CONCATENATE(TEXT(J115,\"00\"),TEXT(K115,\"00\"))","v":{"$error":"#NAME?"}},null,{"$f":"CONCATENATE(TEXT(L115,\"00\"),TEXT(M115,\"00\"))","v":{"$error":"#NAME?"}},null,{"$f":"CONCATENATE(TEXT(N115,\"00\"),TEXT(O115,\"00\"))","v":{"$error":"#NAME?"}}]
["DEC",{"$f":"HEX2DEC(B116)","v":{"$error":"#NAME?"}},{"$f":"IF(HEX2DEC(C116)>(127),HEX2DEC(C116)-256,HEX2DEC(C116))","v":{"$error":"#NAME?"}},{"$f":"HEX2DEC(D116)","v":{"$error":"#NAME?"}},null,{"$f":"HEX2DEC(F116)","v":{"$error":"#NAME?"}},null,{"$f":"HEX2DEC(H116)","v":{"$error":"#NAME?"}},null,{"$f":"HEX2DEC(J116)","v":{"$error":"#NAME?"}},null,{"$f":"HEX2DEC(L116)","v":{"$error":"#NAME?"}},null,{"$f":"IF(HEX2DEC(N116)>(32767),HEX2DEC(N116)-65536,HEX2DEC(N116))","v":{"$error":"#NAME?"}}]
[null,{"$f":"$G$8","v":"2023-07-20"},{"$f":"($I$8+C117/24/60)","v":{"$error":"#NAME?"}},{"$f":"D117/1","v":{"$error":"#NAME?"}},null,{"$f":"F117/100","v":{"$error":"#NAME?"}},null,{"$f":"H117/1","v":{"$error":"#NAME?"}},null,{"$f":"J117/100","v":{"$error":"#NAME?"}},null,{"$f":"L117/10","v":{"$error":"#NAME?"}},null,{"$f":"N117/10","v":{"$error":"#NAME?"}}]
[]
["7Bh\n123","ID TRAMA","Fecha GPS MBW3",null,null,null,"Latitud",null,null,null,"Longitud",null,null,null,"Cant. Sat.","PDOP","Checksum\n(solo cuando es un telemando individual)"]
["Unidad","Id de la Trama","DDMMAAhhmm",null,null,null,"Definido en la configuración",null,null,null,"Definido en la configuración",null,null,null,"Cantidad de Satélites","Calidad Posición","Cantidad"]
["Posición byte",1,2,3,4,5,6,7,8,9,10,11,12,13,14,15,16]
["7B",{"$f":"IF(_xlfn.xlookup($A123,$L$133:$L$144,$R$133:$R$144)=0,INDEX($A$5:$ZZ$5,1,_xlfn.xlookup($A123,$L$133:$L$144,$N$133:$N$144)+B122-1))","v":{"$error":"#NAME?"}},{"$f":"IF(_xlfn.xlookup($A123,$L$133:$L$144,$R$133:$R$144)=0,INDEX($A$5:$ZZ$5,1,_xlfn.xlookup($A123,$L$133:$L$144,$N$133:$N$144)+C122-1))","v":{"$error":"#NAME?"}},{"$f":"IF(_xlfn.xlookup($A123,$L$133:$L$144,$R$133:$R$144)=0,INDEX($A$5:$ZZ$5,1,_xlfn.xlookup($A123,$L$133:$L$144,$N$133:$N$144)+D122-1))","v":{"$error":"#NAME?"}},{"$f":"IF(_xlfn.xlookup($A123,$L$133:$L$144,$R$133:$R$144)=0,INDEX($A$5:$ZZ$5,1,_xlfn.xlookup($A123,$L$133:$L$144,$N$133:$N$144)+E122-1))","v":{"$error":"#NAME?"}},{"$f":"IF(_xlfn.xlookup($A123,$L$133:$L$144,$R$133:$R$144)=0,INDEX($A$5:$ZZ$5,1,_xlfn.xlookup($A123,$L$133:$L$144,$N$133:$N$144)+F122-1))","v":{"$error":"#NAME?"}},{"$f":"IF(_xlfn.xlookup($A123,$L$133:$L$144,$R$133:$R$144)=0,INDEX($A$5:$ZZ$5,1,_xlfn.xlookup($A123,$L$133:$L$144,$N$133:$N$144)+G122-1))","v":{"$error":"#NAME?"}},{"$f":"IF(_xlfn.xlookup($A123,$L$133:$L$144,$R$133:$R$144)=0,INDEX($A$5:$ZZ$5,1,_xlfn.xlookup($A123,$L$133:$L$144,$N$133:$N$144)+H122-1))","v":{"$error":"#NAME?"}},{"$f":"IF(_xlfn.xlookup($A123,$L$133:$L$144,$R$133:$R$144)=0,INDEX($A$5:$ZZ$5,1,_xlfn.xlookup($A123,$L$133:$L$144,$N$133:$N$144)+I122-1))","v":{"$error":"#NAME?"}},{"$f":"IF(_xlfn.xlookup($A123,$L$133:$L$144,$R$133:$R$144)=0,INDEX($A$5:$ZZ$5,1,_xlfn.xlookup($A123,$L$133:$L$144,$N$133:$N$144)+J122-1))","v":{"$error":"#NAME?"}},{"$f":"IF(_xlfn.xlookup($A123,$L$133:$L$144,$R$133:$R$144)=0,INDEX($A$5:$ZZ$5,1,_xlfn.xlookup($A123,$L$133:$L$144,$N$133:$N$144)+K122-1))","v":{"$error":"#NAME?"}},{"$f":"IF(_xlfn.xlookup($A123,$L$133:$L$144,$R$133:$R$144)=0,INDEX($A$5:$ZZ$5,1,_xlfn.xlookup($A123,$L$133:$L$144,$N$133:$N$144)+L122-1))","v":{"$error":"#NAME?"}},{"$f":"IF(_xlfn.xlookup($A123,$L$133:$L$144,$R$133:$R$144)=0,INDEX($A$5:$ZZ$5,1,_xlfn.xlookup($A123,$L$133:$L$144,$N$133:$N$144)+M122-1))","v":{"$error":"#NAME?"}},{"$f":"IF(_xlfn.xlookup($A123,$L$133:$L$144,$R$133:$R$144)=0,INDEX($A$5:$ZZ$5,1,_xlfn.xlookup($A123,$L$133:$L$144,$N$133:$N$144)+N122-1))","v":{"$error":"#NAME?"}},{"$f":"IF(_xlfn.xlookup($A123,$L$133:$L$144,$R$133:$R$144)=0,INDEX($A$5:$ZZ$5,1,_xlfn.xlookup($A123,$L$133:$L$144,$N$133:$N$144)+O122-1))","v":{"$error":"#NAME?"}},{"$f":"IF(_xlfn.xlookup($A123,$L$133:$L$144,$R$133:$R$144)=0,INDEX($A$5:$ZZ$5,1,_xlfn.xlookup($A123,$L$133:$L$144,$N$133:$N$144)+P122-1))","v":{"$error":"#NAME?"}},{"$f":"IF(_xlfn.xlookup($A123,$L$133:$L$144,$R$133:$R$144)=0,INDEX($A$5:$ZZ$5,1,_xlfn.xlookup($A123,$L$133:$L$144,$N$133:$N$144)+Q122-1))","v":{"$error":"#NAME?"}}]
["HEX",{"$f":"TEXT(B123,\"00\")","v":{"$error":"#NAME?"}},{"$f":"CONCATENATE(TEXT(C123,\"00\"),TEXT(D123,\"00\"),TEXT(E123,\"00\"),TEXT(F123,\"00\"))","v":{"$error":"#NAME?"}},null,null,null,{"$f":"CONCATENATE(TEXT(G123,\"00\"),TEXT(H123,\"00\"),TEXT(I123,\"00\"),TEXT(J123,\"00\"))","v":{"$error":"#NAME?"}},null,null,null,{"$f":"CONCATENATE(TEXT(K123,\"00\"),TEXT(L123,\"00\"),TEXT(M123,\"00\"),TEXT(N123,\"00\"))","v":{"$error":"#NAME?"}},null,null,null,{"$f":"TEXT(O123,\"00\")","v":{"$error":"#NAME?"}},{"$f":"TEXT(P123,\"00\")","v":{"$error":"#NAME?"}},{"$f":"TEXT(Q123,\"00\")","v":{"$error":"#NAME?"}},{"$f":"TEXT(R123,\"00\")","v":"00"},{"$f":"TEXT(S123,\"00\")","v":"00"},{"$f":"TEXT(T123,\"00\")","v":"00"}]
["DEC",{"$f":"HEX2DEC(B124)","v":{"$error":"#NAME?"}},{"$f":"TEXT(HEX2DEC(C124),\"0000000000\")","v":{"$error":"#NAME?"}},null,null,null,{"$f":"TEXT(HEX2DEC(G124),\"0000000000\")","v":{"$error":"#NAME?"}},null,null,null,{"$f":"TEXT(HEX2DEC(K124),\"0000000000\")","v":{"$error":"#NAME?"}},null,null,null,{"$f":"HEX2DEC(O124)","v":{"$error":"#NAME?"}},{"$f":"HEX2DEC(P124)","v":{"$error":"#NAME?"}},{"$f":"HEX2DEC(Q124)","v":{"$error":"#NAME?"}},{"$f":"HEX2DEC(R124)","v":0},{"$f":"HEX2DEC(S124)","v":0},{"$f":"HEX2DEC(T124)","v":0}]
[null,{"$f":"B125","v":{"$error":"#NAME?"}},{"$f":"DATE(MID(C125,5,2)+100,MID(C125,3,2),MID(C125,1,2))","v":{"$error":"#NAME?"}},null,{"$f":"(RIGHT(C125,4))","v":{"$error":"#NAME?"}},null,{"$f":"(IF(HEX2DEC(G124)>(2147483647),HEX2DEC(G124)-4294967296,HEX2DEC(G124)))*10^-7","v":{"$error":"#NAME?"}},null,null,null,{"$f":"(IF(HEX2DEC(K124)>(2147483647),HEX2DEC(K124)-4294967296,HEX2DEC(K124)))*10^-7","v":{"$error":"#NAME?"}},null,null,null,{"$f":"O125","v":{"$error":"#NAME?"}},{"$f":"P125","v":{"$error":"#NAME?"}},{"$f":"Q125","v":{"$error":"#NAME?"}},{"$f":"R125","v":0},{"$f":"S125","v":0},{"$f":"T125","v":0}]
[null,null,null,null,null,null,{"$f":"TRUNC(G126,0)","v":{"$error":"#NAME?"}},null,{"$f":"(G126-G127)*60","v":{"$error":"#NAME?"}},null,{"$f":"TRUNC(K126,0)","v":{"$error":"#NAME?"}},null,{"$f":"(K126-K127)*60","v":{"$error":"#NAME?"}}]
[]
[]
[]
["Longitudes de tramas ",null,null,null,null,null,null,null,null,"Longitud total",{"$f":"COUNTA(B5:xfd5)","v":145},null,null,null,null,null,null,null,null,null,null,null,{"$f":"DATE(MID(W133,5,2)+100,MID(W133,3,2),MID(W133,1,2))","v":{"$error":"#VALUE!"}}]
["Nro (Dec)","Nro (Hex)","Longitud","Trama",null,null,"Nro (Hex)","Longitud","Ubicación","Trama","Equipo","ID Trama","Celda inicio","Col. de inicio","Longitud","Col de fin","Destino"]
[1,{"$f":"DEC2HEX(A133,2)","v":"01"},null,"Tx de datos desde la estación",null,null,"01",null,null,1,{"$f":"_xlfn.xlookup(L133,$G$133:$G$147,$D$133:$D$147)","v":"CTD Datos"},{"$f":"M5","v":"1E"},{"$f":"ADDRESS(5,N133)","v":"$M$5"},{"$f":"COLUMN(M5)","v":13},{"$f":"_xlfn.xlookup(L133,$G$133:$G$147,$H$133:$H$147)","v":5},{"$f":"O133+N133","v":18},{"$f":"_xlfn.xlookup(L133,$G$133:$G$147,$I$133:$I$147)","v":"B32"},{"$f":"COUNTIF(L133:Q133,\"#N/D\")","v":0},{"$f":"IF(RIGHT(K133,6)=\"Estado\",LEFT(TEXT(HEX2DEC(_xlfn.CONCAT((INDIRECT(ADDRESS(5,N133+1))),(INDIRECT(ADDRESS(5,N133+2))),(INDIRECT(ADDRESS(5,N133+3))),(INDIRECT(ADDRESS(5,N133+4))))),\"0000000000\"),6),$G$8)","v":"2023-07-20"},{"$f":"IF(RIGHT(K133,6)=\"Estado\",RIGHT(TEXT(HEX2DEC(_xlfn.CONCAT((INDIRECT(ADDRESS(5,N133+1))),(INDIRECT(ADDRESS(5,N133+2))),(INDIRECT(ADDRESS(5,N133+3))),(INDIRECT(ADDRESS(5,N133+4))))),\"0000000000\"),4),IF(K133=\"#N/D\",#N/A,($I$8+U133/24/60)))","v":"05:59:00"},{"$f":"IF(HEX2DEC(V133)>(127),HEX2DEC(V133)-256,HEX2DEC(V133))","v":27},{"$f":"(INDIRECT(ADDRESS(5,N133+1)))","v":"1B"},{"$f":"TEXT(HEX2DEC(_xlfn.CONCAT((INDIRECT(ADDRESS(5,N133+1))),(INDIRECT(ADDRESS(5,N133+2))),(INDIRECT(ADDRESS(5,N133+3))),(INDIRECT(ADDRESS(5,N133+4))))),0)","v":"1769484"}]
[2,{"$f":"DEC2HEX(A134,2)","v":"02"},null,"Telemando desde el Servidor",null,null,"02",null,null,2,{"$f":"_xlfn.xlookup(L134,$G$133:$G$147,$D$133:$D$147)","v":{"$error":"#NAME?"}},{"$f":"INDIRECT(M134)","v":50},{"$f":"ADDRESS(5,P133)","v":"$R$5"},{"$f":"P133","v":18},{"$f":"_xlfn.xlookup(L134,$G$133:$G$147,$H$133:$H$147)","v":{"$error":"#NAME?"}},{"$f":"O134+N134","v":{"$error":"#NAME?"}},{"$f":"_xlfn.xlookup(L134,$G$133:$G$147,$I$133:$I$147)","v":{"$error":"#NAME?"}},{"$f":"COUNTIF(L134:Q134,\"#N/D\")","v":0},{"$f":"IF(RIGHT(K134,6)=\"Estado\",LEFT(TEXT(HEX2DEC(_xlfn.CONCAT((INDIRECT(ADDRESS(5,N134+1))),(INDIRECT(ADDRESS(5,N134+2))),(INDIRECT(ADDRESS(5,N134+3))),(INDIRECT(ADDRESS(5,N134+4))))),\"0000000000\"),6),$G$8)","v":{"$error":"#NAME?"}},{"$f":"IF(RIGHT(K134,6)=\"Estado\",RIGHT(TEXT(HEX2DEC(_xlfn.CONCAT((INDIRECT(ADDRESS(5,N134+1))),(INDIRECT(ADDRESS(5,N134+2))),(INDIRECT(ADDRESS(5,N134+3))),(INDIRECT(ADDRESS(5,N134+4))))),\"0000000000\"),4),IF(K134=\"#N/D\",#N/A,($I$8+U134/24/60)))","v":{"$error":"#NAME?"}},{"$f":"IF(HEX2DEC(V134)>(127),HEX2DEC(V134)-256,HEX2DEC(V134))","v":27},{"$f":"(INDIRECT(ADDRESS(5,N134+1)))","v":"1B"},{"$f":"TEXT(HEX2DEC(_xlfn.CONCAT((INDIRECT(ADDRESS(5,N134+1))),(INDIRECT(ADDRESS(5,N134+2))),(INDIRECT(ADDRESS(5,N134+3))),(INDIRECT(ADDRESS(5,N134+4))))),0)","v":"1775504"}]
[3,{"$f":"DEC2HEX(A135,2)","v":"03"},null,"Respuesta de telemando desde la Estación",null,null,"03",null,null,3,{"$f":"_xlfn.xlookup(L135,$G$133:$G$147,$D$133:$D$147)","v":{"$error":"#NAME?"}},{"$f":"INDIRECT(M135)","v":{"$error":"#NAME?"}},{"$f":"ADDRESS(5,P134)","v":{"$error":"#NAME?"}},{"$f":"P134","v":{"$error":"#NAME?"}},{"$f":"_xlfn.xlookup(L135,$G$133:$G$147,$H$133:$H$147)","v":{"$error":"#NAME?"}},{"$f":"O135+N135","v":{"$error":"#NAME?"}},{"$f":"_xlfn.xlookup(L135,$G$133:$G$147,$I$133:$I$147)","v":{"$error":"#NAME?"}},{"$f":"COUNTIF(L135:Q135,\"#N/D\")","v":0},{"$f":"IF(RIGHT(K135,6)=\"Estado\",LEFT(TEXT(HEX2DEC(_xlfn.CONCAT((INDIRECT(ADDRESS(5,N135+1))),(INDIRECT(ADDRESS(5,N135+2))),(INDIRECT(ADDRESS(5,N135+3))),(INDIRECT(ADDRESS(5,N135+4))))),\"0000000000\"),6),$G$8)","v":{"$error":"#NAME?"}},{"$f":"IF(RIGHT(K135,6)=\"Estado\",RIGHT(TEXT(HEX2DEC(_xlfn.CONCAT((INDIRECT(ADDRESS(5,N135+1))),(INDIRECT(ADDRESS(5,N135+2))),(INDIRECT(ADDRESS(5,N135+3))),(INDIRECT(ADDRESS(5,N135+4))))),\"0000000000\"),4),IF(K135=\"#N/D\",#N/A,($I$8+U135/24/60)))","v":{"$error":"#NAME?"}},{"$f":"IF(HEX2DEC(V135)>(127),HEX2DEC(V135)-256,HEX2DEC(V135))","v":{"$error":"#NAME?"}},{"$f":"(INDIRECT(ADDRESS(5,N135+1)))","v":{"$error":"#NAME?"}},{"$f":"TEXT(HEX2DEC(_xlfn.CONCAT((INDIRECT(ADDRESS(5,N135+1))),(INDIRECT(ADDRESS(5,N135+2))),(INDIRECT(ADDRESS(5,N135+3))),(INDIRECT(ADDRESS(5,N135+4))))),0)","v":{"$error":"#NAME?"}}]
[10,{"$f":"DEC2HEX(A136,2)","v":"0A"},{"$f":"'Edo.MMB03'!D6","v":33},"MMB03 Estado",null,null,"0A",33,"B20",4,{"$f":"_xlfn.xlookup(L136,$G$133:$G$147,$D$133:$D$147)","v":{"$error":"#NAME?"}},{"$f":"INDIRECT(M136)","v":{"$error":"#NAME?"}},{"$f":"ADDRESS(5,P135)","v":{"$error":"#NAME?"}},{"$f":"P135","v":{"$error":"#NAME?"}},{"$f":"_xlfn.xlookup(L136,$G$133:$G$147,$H$133:$H$147)","v":{"$error":"#NAME?"}},{"$f":"O136+N136","v":{"$error":"#NAME?"}},{"$f":"_xlfn.xlookup(L136,$G$133:$G$147,$I$133:$I$147)","v":{"$error":"#NAME?"}},{"$f":"COUNTIF(L136:Q136,\"#N/D\")","v":0},{"$f":"IF(RIGHT(K136,6)=\"Estado\",LEFT(TEXT(HEX2DEC(_xlfn.CONCAT((INDIRECT(ADDRESS(5,N136+1))),(INDIRECT(ADDRESS(5,N136+2))),(INDIRECT(ADDRESS(5,N136+3))),(INDIRECT(ADDRESS(5,N136+4))))),\"0000000000\"),6),$G$8)","v":{"$error":"#NAME?"}},{"$f":"IF(RIGHT(K136,6)=\"Estado\",RIGHT(TEXT(HEX2DEC(_xlfn.CONCAT((INDIRECT(ADDRESS(5,N136+1))),(INDIRECT(ADDRESS(5,N136+2))),(INDIRECT(ADDRESS(5,N136+3))),(INDIRECT(ADDRESS(5,N136+4))))),\"0000000000\"),4),IF(K136=\"#N/D\",#N/A,($I$8+U136/24/60)))","v":{"$error":"#NAME?"}},{"$f":"IF(HEX2DEC(V136)>(127),HEX2DEC(V136)-256,HEX2DEC(V136))","v":{"$error":"#NAME?"}},{"$f":"(INDIRECT(ADDRESS(5,N136+1)))","v":{"$error":"#NAME?"}},{"$f":"TEXT(HEX2DEC(_xlfn.CONCAT((INDIRECT(ADDRESS(5,N136+1))),(INDIRECT(ADDRESS(5,N136+2))),(INDIRECT(ADDRESS(5,N136+3))),(INDIRECT(ADDRESS(5,N136+4))))),0)","v":{"$error":"#NAME?"}}]
[30,{"$f":"DEC2HEX(A137,2)","v":"1E"},{"$f":"'CTD Trimeter'!D8","v":5},"CTD Datos",null,null,"1E",5,"B32",5,{"$f":"_xlfn.xlookup(L137,$G$133:$G$147,$D$133:$D$147)","v":{"$error":"#NAME?"}},{"$f":"INDIRECT(M137)","v":{"$error":"#NAME?"}},{"$f":"ADDRESS(5,P136)","v":{"$error":"#NAME?"}},{"$f":"P136","v":{"$error":"#NAME?"}},{"$f":"_xlfn.xlookup(L137,$G$133:$G$147,$H$133:$H$147)","v":{"$error":"#NAME?"}},{"$f":"O137+N137","v":{"$error":"#NAME?"}},{"$f":"_xlfn.xlookup(L137,$G$133:$G$147,$I$133:$I$147)","v":{"$error":"#NAME?"}},{"$f":"COUNTIF(L137:Q137,\"#N/D\")","v":0},{"$f":"IF(RIGHT(K137,6)=\"Estado\",LEFT(TEXT(HEX2DEC(_xlfn.CONCAT((INDIRECT(ADDRESS(5,N137+1))),(INDIRECT(ADDRESS(5,N137+2))),(INDIRECT(ADDRESS(5,N137+3))),(INDIRECT(ADDRESS(5,N137+4))))),\"0000000000\"),6),$G$8)","v":{"$error":"#NAME?"}},{"$f":"IF(RIGHT(K137,6)=\"Estado\",TEXT(HEX2DEC(_xlfn.CONCAT((INDIRECT(ADDRESS(5,N137+1))),(INDIRECT(ADDRESS(5,N137+2))),(INDIRECT(ADDRESS(5,N137+3))),(INDIRECT(ADDRESS(5,N137+4))))),0),IF(K137=\"#N/D\",#N/A,($I$8+U137/24/60)))","v":{"$error":"#NAME?"}},{"$f":"IF(HEX2DEC(V137)>(127),HEX2DEC(V137)-256,HEX2DEC(V137))","v":{"$error":"#NAME?"}},{"$f":"(INDIRECT(ADDRESS(5,N137+1)))","v":{"$error":"#NAME?"}},{"$f":"IF(RIGHT(K137,6)=\"Estado\",1,0)","v":{"$error":"#NAME?"}}]
[31,{"$f":"DEC2HEX(A138,2)","v":"1F"},{"$f":"'Edo.CTD'!D3","v":12},"CTD Estado",null,null,"1F",12,"B41",6,{"$f":"_xlfn.xlookup(L138,$G$133:$G$147,$D$133:$D$147)","v":{"$error":"#NAME?"}},{"$f":"INDIRECT(M138)","v":{"$error":"#NAME?"}},{"$f":"ADDRESS(5,P137)","v":{"$error":"#NAME?"}},{"$f":"P137","v":{"$error":"#NAME?"}},{"$f":"_xlfn.xlookup(L138,$G$133:$G$147,$H$133:$H$147)","v":{"$error":"#NAME?"}},{"$f":"O138+N138","v":{"$error":"#NAME?"}},{"$f":"_xlfn.xlookup(L138,$G$133:$G$147,$I$133:$I$147)","v":{"$error":"#NAME?"}},{"$f":"COUNTIF(L138:Q138,\"#N/D\")","v":0},{"$f":"IF(RIGHT(K138,6)=\"Estado\",LEFT(TEXT(HEX2DEC(_xlfn.CONCAT((INDIRECT(ADDRESS(5,N138+1))),(INDIRECT(ADDRESS(5,N138+2))),(INDIRECT(ADDRESS(5,N138+3))),(INDIRECT(ADDRESS(5,N138+4))))),\"0000000000\"),6),$G$8)","v":{"$error":"#NAME?"}},{"$f":"IF(RIGHT(K138,6)=\"Estado\",TEXT(HEX2DEC(_xlfn.CONCAT((INDIRECT(ADDRESS(5,N138+1))),(INDIRECT(ADDRESS(5,N138+2))),(INDIRECT(ADDRESS(5,N138+3))),(INDIRECT(ADDRESS(5,N138+4))))),0),IF(K138=\"#N/D\",#N/A,($I$8+U138/24/60)))","v":{"$error":"#NAME?"}},{"$f":"IF(HEX2DEC(V138)>(127),HEX2DEC(V138)-256,HEX2DEC(V138))","v":{"$error":"#NAME?"}},{"$f":"(INDIRECT(ADDRESS(5,N138+1)))","v":{"$error":"#NAME?"}},{"$f":"IF(RIGHT(K138,6)=\"Estado\",1,0)","v":{"$error":"#NAME?"}}]
[80,{"$f":"DEC2HEX(A139,2)","v":"50"},{"$f":"ADCP!D17","v":44},"ADCP Datos",null,null,50,84,"B52",7,{"$f":"_xlfn.xlookup(L139,$G$133:$G$147,$D$133:$D$147)","v":{"$error":"#NAME?"}},{"$f":"INDIRECT(M139)","v":{"$error":"#NAME?"}},{"$f":"ADDRESS(5,P138)","v":{"$error":"#NAME?"}},{"$f":"P138","v":{"$error":"#NAME?"}},{"$f":"_xlfn.xlookup(L139,$G$133:$G$147,$H$133:$H$147)","v":{"$error":"#NAME?"}},{"$f":"O139+N139","v":{"$error":"#NAME?"}},{"$f":"_xlfn.xlookup(L139,$G$133:$G$147,$I$133:$I$147)","v":{"$error":"#NAME?"}},{"$f":"COUNTIF(L139:Q139,\"#N/D\")","v":0},{"$f":"IF(RIGHT(K139,6)=\"Estado\",LEFT(TEXT(HEX2DEC(_xlfn.CONCAT((INDIRECT(ADDRESS(5,N139+1))),(INDIRECT(ADDRESS(5,N139+2))),(INDIRECT(ADDRESS(5,N139+3))),(INDIRECT(ADDRESS(5,N139+4))))),\"0000000000\"),6),$G$8)","v":{"$error":"#NAME?"}},{"$f":"IF(RIGHT(K139,6)=\"Estado\",TEXT(HEX2DEC(_xlfn.CONCAT((INDIRECT(ADDRESS(5,N139+1))),(INDIRECT(ADDRESS(5,N139+2))),(INDIRECT(ADDRESS(5,N139+3))),(INDIRECT(ADDRESS(5,N139+4))))),0),IF(K139=\"#N/D\",#N/A,($I$8+U139/24/60)))","v":{"$error":"#NAME?"}},{"$f":"IF(HEX2DEC(V139)>(127),HEX2DEC(V139)-256,HEX2DEC(V139))","v":{"$error":"#NAME?"}},{"$f":"(INDIRECT(ADDRESS(5,N139+1)))","v":{"$error":"#NAME?"}},{"$f":"IF(RIGHT(K139,6)=\"Estado\",1,0)","v":{"$error":"#NAME?"}}]
[81,{"$f":"DEC2HEX(A140,2)","v":"51"},{"$f":"'ADCP Estado'!D3","v":15},"ADCP Estado",null,null,51,15,"B61",8,{"$f":"_xlfn.xlookup(L140,$G$133:$G$147,$D$133:$D$147)","v":{"$error":"#NAME?"}},{"$f":"INDIRECT(M140)","v":{"$error":"#NAME?"}},{"$f":"ADDRESS(5,P139)","v":{"$error":"#NAME?"}},{"$f":"P139","v":{"$error":"#NAME?"}},{"$f":"_xlfn.xlookup(L140,$G$133:$G$147,$H$133:$H$147)","v":{"$error":"#NAME?"}},{"$f":"O140+N140","v":{"$error":"#NAME?"}},{"$f":"_xlfn.xlookup(L140,$G$133:$G$147,$I$133:$I$147)","v":{"$error":"#NAME?"}},{"$f":"COUNTIF(L140:Q140,\"#N/D\")","v":0},{"$f":"IF(RIGHT(K140,6)=\"Estado\",LEFT(TEXT(HEX2DEC(_xlfn.CONCAT((INDIRECT(ADDRESS(5,N140+1))),(INDIRECT(ADDRESS(5,N140+2))),(INDIRECT(ADDRESS(5,N140+3))),(INDIRECT(ADDRESS(5,N140+4))))),\"0000000000\"),6),$G$8)","v":{"$error":"#NAME?"}},{"$f":"IF(RIGHT(K140,6)=\"Estado\",TEXT(HEX2DEC(_xlfn.CONCAT((INDIRECT(ADDRESS(5,N140+1))),(INDIRECT(ADDRESS(5,N140+2))),(INDIRECT(ADDRESS(5,N140+3))),(INDIRECT(ADDRESS(5,N140+4))))),0),IF(K140=\"#N/D\",#N/A,($I$8+U140/24/60)))","v":{"$error":"#NAME?"}},{"$f":"IF(HEX2DEC(V140)>(127),HEX2DEC(V140)-256,HEX2DEC(V140))","v":{"$error":"#NAME?"}},{"$f":"(INDIRECT(ADDRESS(5,N140+1)))","v":{"$error":"#NAME?"}},{"$f":"IF(RIGHT(K140,6)=\"Estado\",1,0)","v":{"$error":"#NAME?"}}]
[120,{"$f":"DEC2HEX(A141,2)","v":"78"},null,"EMA Gill Datos",null,null,"78",null,null,9,{"$f":"_xlfn.xlookup(L141,$G$133:$G$147,$D$133:$D$147)","v":{"$error":"#NAME?"}},{"$f":"INDIRECT(M141)","v":{"$error":"#NAME?"}},{"$f":"ADDRESS(5,P140)","v":{"$error":"#NAME?"}},{"$f":"P140","v":{"$error":"#NAME?"}},{"$f":"_xlfn.xlookup(L141,$G$133:$G$147,$H$133:$H$147)","v":{"$error":"#NAME?"}},{"$f":"O141+N141","v":{"$error":"#NAME?"}},{"$f":"_xlfn.xlookup(L141,$G$133:$G$147,$I$133:$I$147)","v":{"$error":"#NAME?"}},{"$f":"COUNTIF(L141:Q141,\"#N/D\")","v":0},{"$f":"IF(RIGHT(K141,6)=\"Estado\",LEFT(TEXT(HEX2DEC(_xlfn.CONCAT((INDIRECT(ADDRESS(5,N141+1))),(INDIRECT(ADDRESS(5,N141+2))),(INDIRECT(ADDRESS(5,N141+3))),(INDIRECT(ADDRESS(5,N141+4))))),\"0000000000\"),6),$G$8)","v":{"$error":"#NAME?"}},{"$f":"IF(RIGHT(K141,6)=\"Estado\",TEXT(HEX2DEC(_xlfn.CONCAT((INDIRECT(ADDRESS(5,N141+1))),(INDIRECT(ADDRESS(5,N141+2))),(INDIRECT(ADDRESS(5,N141+3))),(INDIRECT(ADDRESS(5,N141+4))))),0),IF(K141=\"#N/D\",#N/A,($I$8+U141/24/60)))","v":{"$error":"#NAME?"}},{"$f":"IF(HEX2DEC(V141)>(127),HEX2DEC(V141)-256,HEX2DEC(V141))","v":{"$error":"#NAME?"}},{"$f":"(INDIRECT(ADDRESS(5,N141+1)))","v":{"$error":"#NAME?"}},{"$f":"IF(RIGHT(K141,6)=\"Estado\",1,0)","v":{"$error":"#NAME?"}}]
[121,{"$f":"DEC2HEX(A142,2)","v":"79"},null,"EMA Gill Estado",null,null,"79",null,null,10,{"$f":"_xlfn.xlookup(L142,$G$133:$G$147,$D$133:$D$147)","v":{"$error":"#NAME?"}},{"$f":"INDIRECT(M142)","v":{"$error":"#NAME?"}},{"$f":"ADDRESS(5,P141)","v":{"$error":"#NAME?"}},{"$f":"P141","v":{"$error":"#NAME?"}},{"$f":"_xlfn.xlookup(L142,$G$133:$G$147,$H$133:$H$147)","v":{"$error":"#NAME?"}},{"$f":"O142+N142","v":{"$error":"#NAME?"}},{"$f":"_xlfn.xlookup(L142,$G$133:$G$147,$I$133:$I$147)","v":{"$error":"#NAME?"}},{"$f":"COUNTIF(L142:Q142,\"#N/D\")","v":0},{"$f":"IF(RIGHT(K142,6)=\"Estado\",LEFT(TEXT(HEX2DEC(_xlfn.CONCAT((INDIRECT(ADDRESS(5,N142+1))),(INDIRECT(ADDRESS(5,N142+2))),(INDIRECT(ADDRESS(5,N142+3))),(INDIRECT(ADDRESS(5,N142+4))))),\"0000000000\"),6),$G$8)","v":{"$error":"#NAME?"}},{"$f":"IF(RIGHT(K142,6)=\"Estado\",TEXT(HEX2DEC(_xlfn.CONCAT((INDIRECT(ADDRESS(5,N142+1))),(INDIRECT(ADDRESS(5,N142+2))),(INDIRECT(ADDRESS(5,N142+3))),(INDIRECT(ADDRESS(5,N142+4))))),0),IF(K142=\"#N/D\",#N/A,($I$8+U142/24/60)))","v":{"$error":"#NAME?"}},{"$f":"IF(HEX2DEC(V142)>(127),HEX2DEC(V142)-256,HEX2DEC(V142))","v":{"$error":"#NAME?"}},{"$f":"(INDIRECT(ADDRESS(5,N142+1)))","v":{"$error":"#NAME?"}}]
[122,{"$f":"DEC2HEX(A143,2)","v":"7A"},{"$f":"EMA!D8","v":14},"EMA AIRMAR Datos",null,null,"7A",14,"B115",11,{"$f":"_xlfn.xlookup(L143,$G$133:$G$147,$D$133:$D$147)","v":{"$error":"#NAME?"}},{"$f":"INDIRECT(M143)","v":{"$error":"#NAME?"}},{"$f":"ADDRESS(5,P142)","v":{"$error":"#NAME?"}},{"$f":"P142","v":{"$error":"#NAME?"}},{"$f":"_xlfn.xlookup(L143,$G$133:$G$147,$H$133:$H$147)","v":{"$error":"#NAME?"}},{"$f":"O143+N143","v":{"$error":"#NAME?"}},{"$f":"_xlfn.xlookup(L143,$G$133:$G$147,$I$133:$I$147)","v":{"$error":"#NAME?"}},{"$f":"COUNTIF(L143:Q143,\"#N/D\")","v":0},{"$f":"IF(RIGHT(K143,6)=\"Estado\",LEFT(TEXT(HEX2DEC(_xlfn.CONCAT((INDIRECT(ADDRESS(5,N143+1))),(INDIRECT(ADDRESS(5,N143+2))),(INDIRECT(ADDRESS(5,N143+3))),(INDIRECT(ADDRESS(5,N143+4))))),\"0000000000\"),6),$G$8)","v":{"$error":"#NAME?"}},{"$f":"IF(RIGHT(K143,6)=\"Estado\",TEXT(HEX2DEC(_xlfn.CONCAT((INDIRECT(ADDRESS(5,N143+1))),(INDIRECT(ADDRESS(5,N143+2))),(INDIRECT(ADDRESS(5,N143+3))),(INDIRECT(ADDRESS(5,N143+4))))),0),IF(K143=\"#N/D\",#N/A,($I$8+U143/24/60)))","v":{"$error":"#NAME?"}},{"$f":"IF(HEX2DEC(V143)>(127),HEX2DEC(V143)-256,HEX2DEC(V143))","v":{"$error":"#NAME?"}},{"$f":"(INDIRECT(ADDRESS(5,N143+1)))","v":{"$error":"#NAME?"}}]
[123,{"$f":"DEC2HEX(A144,2)","v":"7B"},{"$f":"'Edo.EMA'!D3","v":15},"EMA AIRMAR Estado",null,null,"7B",15,"B123",12,{"$f":"_xlfn.xlookup(L144,$G$133:$G$147,$D$133:$D$147)","v":{"$error":"#NAME?"}},{"$f":"INDIRECT(M144)","v":{"$error":"#NAME?"}},{"$f":"ADDRESS(5,P143)","v":{"$error":"#NAME?"}},{"$f":"P143","v":{"$error":"#NAME?"}},{"$f":"_xlfn.xlookup(L144,$G$133:$G$147,$H$133:$H$147)","v":{"$error":"#NAME?"}},{"$f":"O144+N144","v":{"$error":"#NAME?"}},{"$f":"_xlfn.xlookup(L144,$G$133:$G$147,$I$133:$I$147)","v":{"$error":"#NAME?"}},{"$f":"COUNTIF(L144:Q144,\"#N/D\")","v":0},{"$f":"IF(RIGHT(K144,6)=\"Estado\",LEFT(TEXT(HEX2DEC(_xlfn.CONCAT((INDIRECT(ADDRESS(5,N144+1))),(INDIRECT(ADDRESS(5,N144+2))),(INDIRECT(ADDRESS(5,N144+3))),(INDIRECT(ADDRESS(5,N144+4))))),\"0000000000\"),6),$G$8)","v":{"$error":"#NAME?"}},{"$f":"IF(RIGHT(K144,6)=\"Estado\",TEXT(HEX2DEC(_xlfn.CONCAT((INDIRECT(ADDRESS(5,N144+1))),(INDIRECT(ADDRESS(5,N144+2))),(INDIRECT(ADDRESS(5,N144+3))),(INDIRECT(ADDRESS(5,N144+4))))),0),IF(K144=\"#N/D\",#N/A,($I$8+U144/24/60)))","v":{"$error":"#NAME?"}},{"$f":"IF(HEX2DEC(V144)>(127),HEX2DEC(V144)-256,HEX2DEC(V144))","v":{"$error":"#NAME?"}},{"$f":"(INDIRECT(ADDRESS(5,N144+1)))","v":{"$error":"#NAME?"}}]
[160,{"$f":"DEC2HEX(A145,2)","v":"A0"},{"$f":"Waves!D12","v":28},"MBW3 Datos",null,null,"A0",28,"B72",13,{"$f":"_xlfn.xlookup(L145,$G$133:$G$147,$D$133:$D$147)","v":{"$error":"#NAME?"}},{"$f":"INDIRECT(M145)","v":{"$error":"#NAME?"}},{"$f":"ADDRESS(5,P144)","v":{"$error":"#NAME?"}},{"$f":"P144","v":{"$error":"#NAME?"}},{"$f":"_xlfn.xlookup(L145,$G$133:$G$147,$H$133:$H$147)","v":{"$error":"#NAME?"}},{"$f":"O145+N145","v":{"$error":"#NAME?"}},{"$f":"_xlfn.xlookup(L145,$G$133:$G$147,$I$133:$I$147)","v":{"$error":"#NAME?"}},{"$f":"COUNTIF(L145:Q145,\"#N/D\")","v":0},{"$f":"IF(RIGHT(K145,6)=\"Estado\",LEFT(TEXT(HEX2DEC(_xlfn.CONCAT((INDIRECT(ADDRESS(5,N145+1))),(INDIRECT(ADDRESS(5,N145+2))),(INDIRECT(ADDRESS(5,N145+3))),(INDIRECT(ADDRESS(5,N145+4))))),\"0000000000\"),6),$G$8)","v":{"$error":"#NAME?"}},{"$f":"IF(RIGHT(K145,6)=\"Estado\",TEXT(HEX2DEC(_xlfn.CONCAT((INDIRECT(ADDRESS(5,N145+1))),(INDIRECT(ADDRESS(5,N145+2))),(INDIRECT(ADDRESS(5,N145+3))),(INDIRECT(ADDRESS(5,N145+4))))),0),IF(K145=\"#N/D\",#N/A,($I$8+U145/24/60)))","v":{"$error":"#NAME?"}},{"$f":"IF(HEX2DEC(V145)>(127),HEX2DEC(V145)-256,HEX2DEC(V145))","v":{"$error":"#NAME?"}},{"$f":"(INDIRECT(ADDRESS(5,N145+1)))","v":{"$error":"#NAME?"}}]
[161,{"$f":"DEC2HEX(A146,2)","v":"A1"},{"$f":"'Edo.Wave'!D3","v":8},"MBW3 Estado",null,null,"A1",8,"B90",14,{"$f":"_xlfn.xlookup(L146,$G$133:$G$147,$D$133:$D$147)","v":{"$error":"#NAME?"}},{"$f":"INDIRECT(M146)","v":{"$error":"#NAME?"}},{"$f":"ADDRESS(5,P145)","v":{"$error":"#NAME?"}},{"$f":"P145","v":{"$error":"#NAME?"}},{"$f":"_xlfn.xlookup(L146,$G$133:$G$147,$H$133:$H$147)","v":{"$error":"#NAME?"}},{"$f":"O146+N146","v":{"$error":"#NAME?"}},{"$f":"_xlfn.xlookup(L146,$G$133:$G$147,$I$133:$I$147)","v":{"$error":"#NAME?"}},{"$f":"COUNTIF(L146:Q146,\"#N/D\")","v":0},{"$f":"IF(RIGHT(K146,6)=\"Estado\",LEFT(TEXT(HEX2DEC(_xlfn.CONCAT((INDIRECT(ADDRESS(5,N146+1))),(INDIRECT(ADDRESS(5,N146+2))),(INDIRECT(ADDRESS(5,N146+3))),(INDIRECT(ADDRESS(5,N146+4))))),\"0000000000\"),6),$G$8)","v":{"$error":"#NAME?"}},{"$f":"IF(RIGHT(K146,6)=\"Estado\",TEXT(HEX2DEC(_xlfn.CONCAT((INDIRECT(ADDRESS(5,N146+1))),(INDIRECT(ADDRESS(5,N146+2))),(INDIRECT(ADDRESS(5,N146+3))),(INDIRECT(ADDRESS(5,N146+4))))),0),IF(K146=\"#N/D\",#N/A,($I$8+U146/24/60)))","v":{"$error":"#NAME?"}},{"$f":"IF(HEX2DEC(V146)>(127),HEX2DEC(V146)-256,HEX2DEC(V146))","v":{"$error":"#NAME?"}},{"$f":"(INDIRECT(ADDRESS(5,N146+1)))","v":{"$error":"#NAME?"}}]
[162,{"$f":"DEC2HEX(A147,2)","v":"A2"},{"$f":"'Edo.GPS-Wave'!D3","v":15},"MBW3 GPS Estado",null,null,"A2",15,"B99",15,{"$f":"_xlfn.xlookup(L147,$G$133:$G$147,$D$133:$D$147)","v":{"$error":"#NAME?"}},{"$f":"INDIRECT(M147)","v":{"$error":"#NAME?"}},{"$f":"ADDRESS(5,P146)","v":{"$error":"#NAME?"}},{"$f":"P146","v":{"$error":"#NAME?"}},{"$f":"_xlfn.xlookup(L147,$G$133:$G$147,$H$133:$H$147)","v":{"$error":"#NAME?"}},{"$f":"O147+N147","v":{"$error":"#NAME?"}},{"$f":"_xlfn.xlookup(L147,$G$133:$G$147,$I$133:$I$147)","v":{"$error":"#NAME?"}},{"$f":"COUNTIF(L147:Q147,\"#N/D\")","v":0},{"$f":"IF(RIGHT(K147,6)=\"Estado\",LEFT(TEXT(HEX2DEC(_xlfn.CONCAT((INDIRECT(ADDRESS(5,N147+1))),(INDIRECT(ADDRESS(5,N147+2))),(INDIRECT(ADDRESS(5,N147+3))),(INDIRECT(ADDRESS(5,N147+4))))),\"0000000000\"),6),$G$8)","v":{"$error":"#NAME?"}},{"$f":"IF(RIGHT(K147,6)=\"Estado\",TEXT(HEX2DEC(_xlfn.CONCAT((INDIRECT(ADDRESS(5,N147+1))),(INDIRECT(ADDRESS(5,N147+2))),(INDIRECT(ADDRESS(5,N147+3))),(INDIRECT(ADDRESS(5,N147+4))))),0),IF(K147=\"#N/D\",#N/A,($I$8+U147/24/60)))","v":{"$error":"#NAME?"}},{"$f":"IF(HEX2DEC(V147)>(127),HEX2DEC(V147)-256,HEX2DEC(V147))","v":{"$error":"#NAME?"}},{"$f":"(INDIRECT(ADDRESS(5,N147+1)))","v":{"$error":"#NAME?"}}]
[null,null,null,null,null,null,null,null,null,16,{"$f":"_xlfn.xlookup(L148,$G$133:$G$147,$D$133:$D$147)","v":{"$error":"#NAME?"}},{"$f":"INDIRECT(M148)","v":{"$error":"#NAME?"}},{"$f":"ADDRESS(5,P147)","v":{"$error":"#NAME?"}},{"$f":"P147","v":{"$error":"#NAME?"}},{"$f":"_xlfn.xlookup(L148,$G$133:$G$147,$H$133:$H$147)","v":{"$error":"#NAME?"}},{"$f":"O148+N148","v":{"$error":"#NAME?"}},{"$f":"_xlfn.xlookup(L148,$G$133:$G$147,$I$133:$I$147)","v":{"$error":"#NAME?"}},{"$f":"COUNTIF(L148:Q148,\"#N/D\")","v":0},{"$f":"IF(RIGHT(K148,6)=\"Estado\",LEFT(TEXT(HEX2DEC(_xlfn.CONCAT((INDIRECT(ADDRESS(5,N148+1))),(INDIRECT(ADDRESS(5,N148+2))),(INDIRECT(ADDRESS(5,N148+3))),(INDIRECT(ADDRESS(5,N148+4))))),\"0000000000\"),6),$G$8)","v":{"$error":"#NAME?"}},{"$f":"IF(RIGHT(K148,6)=\"Estado\",TEXT(HEX2DEC(_xlfn.CONCAT((INDIRECT(ADDRESS(5,N148+1))),(INDIRECT(ADDRESS(5,N148+2))),(INDIRECT(ADDRESS(5,N148+3))),(INDIRECT(ADDRESS(5,N148+4))))),0),IF(K148=\"#N/D\",#N/A,($I$8+U148/24/60)))","v":{"$error":"#NAME?"}},{"$f":"IF(HEX2DEC(V148)>(127),HEX2DEC(V148)-256,HEX2DEC(V148))","v":{"$error":"#NAME?"}},{"$f":"(INDIRECT(ADDRESS(5,N148+1)))","v":{"$error":"#NAME?"}}]
[null,null,null,null,null,null,null,null,null,17,{"$f":"_xlfn.xlookup(L149,$G$133:$G$147,$D$133:$D$147)","v":{"$error":"#NAME?"}},{"$f":"INDIRECT(M149)","v":{"$error":"#NAME?"}},{"$f":"ADDRESS(5,P148)","v":{"$error":"#NAME?"}},{"$f":"P148","v":{"$error":"#NAME?"}},{"$f":"_xlfn.xlookup(L149,$G$133:$G$147,$H$133:$H$147)","v":{"$error":"#NAME?"}},{"$f":"O149+N149","v":{"$error":"#NAME?"}},{"$f":"_xlfn.xlookup(L149,$G$133:$G$147,$I$133:$I$147)","v":{"$error":"#NAME?"}},{"$f":"COUNTIF(L149:Q149,\"#N/D\")","v":0},{"$f":"IF(RIGHT(K149,6)=\"Estado\",LEFT(TEXT(HEX2DEC(_xlfn.CONCAT((INDIRECT(ADDRESS(5,N149+1))),(INDIRECT(ADDRESS(5,N149+2))),(INDIRECT(ADDRESS(5,N149+3))),(INDIRECT(ADDRESS(5,N149+4))))),\"0000000000\"),6),$G$8)","v":{"$error":"#NAME?"}},{"$f":"IF(RIGHT(K149,6)=\"Estado\",TEXT(HEX2DEC(_xlfn.CONCAT((INDIRECT(ADDRESS(5,N149+1))),(INDIRECT(ADDRESS(5,N149+2))),(INDIRECT(ADDRESS(5,N149+3))),(INDIRECT(ADDRESS(5,N149+4))))),0),IF(K149=\"#N/D\",#N/A,($I$8+U149/24/60)))","v":{"$error":"#NAME?"}},{"$f":"IF(HEX2DEC(V149)>(127),HEX2DEC(V149)-256,HEX2DEC(V149))","v":{"$error":"#NAME?"}},{"$f":"(INDIRECT(ADDRESS(5,N149+1)))","v":{"$error":"#NAME?"}}]
[null,null,null,null,null,null,null,null,null,18,{"$f":"_xlfn.xlookup(L150,$G$133:$G$147,$D$133:$D$147)","v":{"$error":"#NAME?"}},{"$f":"INDIRECT(M150)","v":{"$error":"#NAME?"}},{"$f":"ADDRESS(5,P149)","v":{"$error":"#NAME?"}},{"$f":"P149","v":{"$error":"#NAME?"}},{"$f":"_xlfn.xlookup(L150,$G$133:$G$147,$H$133:$H$147)","v":{"$error":"#NAME?"}},{"$f":"O150+N150","v":{"$error":"#NAME?"}},{"$f":"_xlfn.xlookup(L150,$G$133:$G$147,$I$133:$I$147)","v":{"$error":"#NAME?"}},{"$f":"COUNTIF(L150:Q150,\"#N/D\")","v":0},{"$f":"IF(RIGHT(K150,6)=\"Estado\",LEFT(TEXT(HEX2DEC(_xlfn.CONCAT((INDIRECT(ADDRESS(5,N150+1))),(INDIRECT(ADDRESS(5,N150+2))),(INDIRECT(ADDRESS(5,N150+3))),(INDIRECT(ADDRESS(5,N150+4))))),\"0000000000\"),6),$G$8)","v":{"$error":"#NAME?"}},{"$f":"IF(RIGHT(K150,6)=\"Estado\",TEXT(HEX2DEC(_xlfn.CONCAT((INDIRECT(ADDRESS(5,N150+1))),(INDIRECT(ADDRESS(5,N150+2))),(INDIRECT(ADDRESS(5,N150+3))),(INDIRECT(ADDRESS(5,N150+4))))),0),IF(K150=\"#N/D\",#N/A,($I$8+U150/24/60)))","v":{"$error":"#NAME?"}},{"$f":"IF(HEX2DEC(V150)>(127),HEX2DEC(V150)-256,HEX2DEC(V150))","v":{"$error":"#NAME?"}},{"$f":"(INDIRECT(ADDRESS(5,N150+1)))","v":{"$error":"#NAME?"}}]
[null,null,null,null,null,null,null,null,null,19,{"$f":"_xlfn.xlookup(L151,$G$133:$G$147,$D$133:$D$147)","v":{"$error":"#NAME?"}},{"$f":"INDIRECT(M151)","v":{"$error":"#NAME?"}},{"$f":"ADDRESS(5,P150)","v":{"$error":"#NAME?"}},{"$f":"P150","v":{"$error":"#NAME?"}},{"$f":"_xlfn.xlookup(L151,$G$133:$G$147,$H$133:$H$147)","v":{"$error":"#NAME?"}},{"$f":"O151+N151","v":{"$error":"#NAME?"}},{"$f":"_xlfn.xlookup(L151,$G$133:$G$147,$I$133:$I$147)","v":{"$error":"#NAME?"}},{"$f":"COUNTIF(L151:Q151,\"#N/D\")","v":0},{"$f":"IF(RIGHT(K151,6)=\"Estado\",LEFT(TEXT(HEX2DEC(_xlfn.CONCAT((INDIRECT(ADDRESS(5,N151+1))),(INDIRECT(ADDRESS(5,N151+2))),(INDIRECT(ADDRESS(5,N151+3))),(INDIRECT(ADDRESS(5,N151+4))))),\"0000000000\"),6),$G$8)","v":{"$error":"#NAME?"}},{"$f":"IF(RIGHT(K151,6)=\"Estado\",TEXT(HEX2DEC(_xlfn.CONCAT((INDIRECT(ADDRESS(5,N151+1))),(INDIRECT(ADDRESS(5,N151+2))),(INDIRECT(ADDRESS(5,N151+3))),(INDIRECT(ADDRESS(5,N151+4))))),0),IF(K151=\"#N/D\",#N/A,($I$8+U151/24/60)))","v":{"$error":"#NAME?"}},{"$f":"IF(HEX2DEC(V151)>(127),HEX2DEC(V151)-256,HEX2DEC(V151))","v":{"$error":"#NAME?"}},{"$f":"(INDIRECT(ADDRESS(5,N151+1)))","v":{"$error":"#NAME?"}}]
[null,null,null,null,null,null,null,null,null,20,{"$f":"_xlfn.xlookup(L152,$G$133:$G$147,$D$133:$D$147)","v":{"$error":"#NAME?"}},{"$f":"INDIRECT(M152)","v":{"$error":"#NAME?"}},{"$f":"ADDRESS(5,P151)","v":{"$error":"#NAME?"}},{"$f":"P151","v":{"$error":"#NAME?"}},{"$f":"_xlfn.xlookup(L152,$G$133:$G$147,$H$133:$H$147)","v":{"$error":"#NAME?"}},{"$f":"O152+N152","v":{"$error":"#NAME?"}},{"$f":"_xlfn.xlookup(L152,$G$133:$G$147,$I$133:$I$147)","v":{"$error":"#NAME?"}},{"$f":"COUNTIF(L152:Q152,\"#N/D\")","v":0},{"$f":"IF(RIGHT(K152,6)=\"Estado\",LEFT(TEXT(HEX2DEC(_xlfn.CONCAT((INDIRECT(ADDRESS(5,N152+1))),(INDIRECT(ADDRESS(5,N152+2))),(INDIRECT(ADDRESS(5,N152+3))),(INDIRECT(ADDRESS(5,N152+4))))),\"0000000000\"),6),$G$8)","v":{"$error":"#NAME?"}},{"$f":"IF(RIGHT(K152,6)=\"Estado\",TEXT(HEX2DEC(_xlfn.CONCAT((INDIRECT(ADDRESS(5,N152+1))),(INDIRECT(ADDRESS(5,N152+2))),(INDIRECT(ADDRESS(5,N152+3))),(INDIRECT(ADDRESS(5,N152+4))))),0),IF(K152=\"#N/D\",#N/A,($I$8+U152/24/60)))","v":{"$error":"#NAME?"}},{"$f":"IF(HEX2DEC(V152)>(127),HEX2DEC(V152)-256,HEX2DEC(V152))","v":{"$error":"#NAME?"}},{"$f":"(INDIRECT(ADDRESS(5,N152+1)))","v":{"$error":"#NAME?"}}]
[null,null,null,null,null,null,null,null,null,21,{"$f":"_xlfn.xlookup(L153,$G$133:$G$147,$D$133:$D$147)","v":{"$error":"#NAME?"}},{"$f":"INDIRECT(M153)","v":{"$error":"#NAME?"}},{"$f":"ADDRESS(5,P152)","v":{"$error":"#NAME?"}},{"$f":"P152","v":{"$error":"#NAME?"}},{"$f":"_xlfn.xlookup(L153,$G$133:$G$147,$H$133:$H$147)","v":{"$error":"#NAME?"}},{"$f":"O153+N153","v":{"$error":"#NAME?"}},{"$f":"_xlfn.xlookup(L153,$G$133:$G$147,$I$133:$I$147)","v":{"$error":"#NAME?"}},{"$f":"COUNTIF(L153:Q153,\"#N/D\")","v":0},{"$f":"IF(RIGHT(K153,6)=\"Estado\",LEFT(TEXT(HEX2DEC(_xlfn.CONCAT((INDIRECT(ADDRESS(5,N153+1))),(INDIRECT(ADDRESS(5,N153+2))),(INDIRECT(ADDRESS(5,N153+3))),(INDIRECT(ADDRESS(5,N153+4))))),\"0000000000\"),6),$G$8)","v":{"$error":"#NAME?"}},{"$f":"IF(RIGHT(K153,6)=\"Estado\",TEXT(HEX2DEC(_xlfn.CONCAT((INDIRECT(ADDRESS(5,N153+1))),(INDIRECT(ADDRESS(5,N153+2))),(INDIRECT(ADDRESS(5,N153+3))),(INDIRECT(ADDRESS(5,N153+4))))),0),IF(K153=\"#N/D\",#N/A,($I$8+U153/24/60)))","v":{"$error":"#NAME?"}},{"$f":"IF(HEX2DEC(V153)>(127),HEX2DEC(V153)-256,HEX2DEC(V153))","v":{"$error":"#NAME?"}},{"$f":"(INDIRECT(ADDRESS(5,N153+1)))","v":{"$error":"#NAME?"}}]
[null,null,null,null,null,null,null,null,null,22,{"$f":"_xlfn.xlookup(L154,$G$133:$G$147,$D$133:$D$147)","v":{"$error":"#NAME?"}},{"$f":"INDIRECT(M154)","v":{"$error":"#NAME?"}},{"$f":"ADDRESS(5,P153)","v":{"$error":"#NAME?"}},{"$f":"P153","v":{"$error":"#NAME?"}},{"$f":"_xlfn.xlookup(L154,$G$133:$G$147,$H$133:$H$147)","v":{"$error":"#NAME?"}},{"$f":"O154+N154","v":{"$error":"#NAME?"}},{"$f":"_xlfn.xlookup(L154,$G$133:$G$147,$I$133:$I$147)","v":{"$error":"#NAME?"}},{"$f":"COUNTIF(L154:Q154,\"#N/D\")","v":0},{"$f":"IF(RIGHT(K154,6)=\"Estado\",LEFT(TEXT(HEX2DEC(_xlfn.CONCAT((INDIRECT(ADDRESS(5,N154+1))),(INDIRECT(ADDRESS(5,N154+2))),(INDIRECT(ADDRESS(5,N154+3))),(INDIRECT(ADDRESS(5,N154+4))))),\"0000000000\"),6),$G$8)","v":{"$error":"#NAME?"}},{"$f":"IF(RIGHT(K154,6)=\"Estado\",TEXT(HEX2DEC(_xlfn.CONCAT((INDIRECT(ADDRESS(5,N154+1))),(INDIRECT(ADDRESS(5,N154+2))),(INDIRECT(ADDRESS(5,N154+3))),(INDIRECT(ADDRESS(5,N154+4))))),0),IF(K154=\"#N/D\",#N/A,($I$8+U154/24/60)))","v":{"$error":"#NAME?"}},{"$f":"IF(HEX2DEC(V154)>(127),HEX2DEC(V154)-256,HEX2DEC(V154))","v":{"$error":"#NAME?"}},{"$f":"(INDIRECT(ADDRESS(5,N154+1)))","v":{"$error":"#NAME?"}}]
[null,null,null,null,null,null,null,null,null,23,{"$f":"_xlfn.xlookup(L155,$G$133:$G$147,$D$133:$D$147)","v":{"$error":"#NAME?"}},{"$f":"INDIRECT(M155)","v":{"$error":"#NAME?"}},{"$f":"ADDRESS(5,P154)","v":{"$error":"#NAME?"}},{"$f":"P154","v":{"$error":"#NAME?"}},{"$f":"_xlfn.xlookup(L155,$G$133:$G$147,$H$133:$H$147)","v":{"$error":"#NAME?"}},{"$f":"O155+N155","v":{"$error":"#NAME?"}},{"$f":"_xlfn.xlookup(L155,$G$133:$G$147,$I$133:$I$147)","v":{"$error":"#NAME?"}},{"$f":"COUNTIF(L155:Q155,\"#N/D\")","v":0},{"$f":"IF(RIGHT(K155,6)=\"Estado\",LEFT(TEXT(HEX2DEC(_xlfn.CONCAT((INDIRECT(ADDRESS(5,N155+1))),(INDIRECT(ADDRESS(5,N155+2))),(INDIRECT(ADDRESS(5,N155+3))),(INDIRECT(ADDRESS(5,N155+4))))),\"0000000000\"),6),$G$8)","v":{"$error":"#NAME?"}},{"$f":"IF(RIGHT(K155,6)=\"Estado\",TEXT(HEX2DEC(_xlfn.CONCAT((INDIRECT(ADDRESS(5,N155+1))),(INDIRECT(ADDRESS(5,N155+2))),(INDIRECT(ADDRESS(5,N155+3))),(INDIRECT(ADDRESS(5,N155+4))))),0),IF(K155=\"#N/D\",#N/A,($I$8+U155/24/60)))","v":{"$error":"#NAME?"}},{"$f":"IF(HEX2DEC(V155)>(127),HEX2DEC(V155)-256,HEX2DEC(V155))","v":{"$error":"#NAME?"}},{"$f":"(INDIRECT(ADDRESS(5,N155+1)))","v":{"$error":"#NAME?"}}]
[646,"01 00 01 02 86 12 12 EF D4 00 E1 0A 12 12 EF E5 04 C8 00 00 00 00 00 00 00 00 00 00 1E 00 00 00 01 00 00 3C 34 82 FF FF 54 BB 00 0D 50 7F FE 2E FA C8 0E A9 01 F3 0E 5F EB 8E F3 69 F5 DA 06 9A 0D C0 13 22 F4 68 F9 88 F3 46 FF 8F 08 F7 0F 14 00 62 0A 78 EE 94 F8 26 FC 85 0B 1E 0B 9F 12 63 EF 97 F4 E4 F7 C6 01 83 0D 54 12 C0 F8 7D 02 24 F0 A4 FB 23 FF D5 0C C5 06 35 11 44 ED 8F 07 85 51 12 12 EF E3 2E 96 00 16 0C 63 06 8E F9 7F 7A 80 00 D8 00 28 00 F4 00 3F 27 C5 00 F5 7B 12 12 EF E3 00 3C 34 82 FF FF 54 BB 0B 08 A0 7F 00 22 00 03 00 02 00 02 00 02 01 2B 00 AC 00 E2 00 AC 00 B8 09 9A 02 E3 64 64 A1 12 12 EF EF 0D 52 03 A2 12 12 F0 18 00 3C 34 90 FF FF 54 B4 04 04 54 9B",null,null,null,null,null,null,null,24,{"$f":"_xlfn.xlookup(L156,$G$133:$G$147,$D$133:$D$147)","v":{"$error":"#NAME?"}},{"$f":"INDIRECT(M156)","v":{"$error":"#NAME?"}},{"$f":"ADDRESS(5,P155)","v":{"$error":"#NAME?"}},{"$f":"P155","v":{"$error":"#NAME?"}},{"$f":"_xlfn.xlookup(L156,$G$133:$G$147,$H$133:$H$147)","v":{"$error":"#NAME?"}},{"$f":"O156+N156","v":{"$error":"#NAME?"}},{"$f":"_xlfn.xlookup(L156,$G$133:$G$147,$I$133:$I$147)","v":{"$error":"#NAME?"}},{"$f":"COUNTIF(L156:Q156,\"#N/D\")","v":0},{"$f":"IF(RIGHT(K156,6)=\"Estado\",LEFT(TEXT(HEX2DEC(_xlfn.CONCAT((INDIRECT(ADDRESS(5,N156+1))),(INDIRECT(ADDRESS(5,N156+2))),(INDIRECT(ADDRESS(5,N156+3))),(INDIRECT(ADDRESS(5,N156+4))))),\"0000000000\"),6),$G$8)","v":{"$error":"#NAME?"}},{"$f":"IF(RIGHT(K156,6)=\"Estado\",TEXT(HEX2DEC(_xlfn.CONCAT((INDIRECT(ADDRESS(5,N156+1))),(INDIRECT(ADDRESS(5,N156+2))),(INDIRECT(ADDRESS(5,N156+3))),(INDIRECT(ADDRESS(5,N156+4))))),0),IF(K156=\"#N/D\",#N/A,($I$8+U156/24/60)))","v":{"$error":"#NAME?"}},{"$f":"IF(HEX2DEC(V156)>(127),HEX2DEC(V156)-256,HEX2DEC(V156))","v":{"$error":"#NAME?"}},{"$f":"(INDIRECT(ADDRESS(5,N156+1)))","v":{"$error":"#NAME?"}}]
[null,null,null,null,null,null,null,null,null,25,{"$f":"_xlfn.xlookup(L157,$G$133:$G$147,$D$133:$D$147)","v":{"$error":"#NAME?"}},{"$f":"INDIRECT(M157)","v":{"$error":"#NAME?"}},{"$f":"ADDRESS(5,P156)","v":{"$error":"#NAME?"}},{"$f":"P156","v":{"$error":"#NAME?"}},{"$f":"_xlfn.xlookup(L157,$G$133:$G$147,$H$133:$H$147)","v":{"$error":"#NAME?"}},{"$f":"O157+N157","v":{"$error":"#NAME?"}},{"$f":"_xlfn.xlookup(L157,$G$133:$G$147,$I$133:$I$147)","v":{"$error":"#NAME?"}},{"$f":"COUNTIF(L157:Q157,\"#N/D\")","v":0},{"$f":"IF(RIGHT(K157,6)=\"Estado\",LEFT(TEXT(HEX2DEC(_xlfn.CONCAT((INDIRECT(ADDRESS(5,N157+1))),(INDIRECT(ADDRESS(5,N157+2))),(INDIRECT(ADDRESS(5,N157+3))),(INDIRECT(ADDRESS(5,N157+4))))),\"0000000000\"),6),$G$8)","v":{"$error":"#NAME?"}},{"$f":"IF(RIGHT(K157,6)=\"Estado\",TEXT(HEX2DEC(_xlfn.CONCAT((INDIRECT(ADDRESS(5,N157+1))),(INDIRECT(ADDRESS(5,N157+2))),(INDIRECT(ADDRESS(5,N157+3))),(INDIRECT(ADDRESS(5,N157+4))))),0),IF(K157=\"#N/D\",#N/A,($I$8+U157/24/60)))","v":{"$error":"#NAME?"}},{"$f":"IF(HEX2DEC(V157)>(127),HEX2DEC(V157)-256,HEX2DEC(V157))","v":{"$error":"#NAME?"}},{"$f":"(INDIRECT(ADDRESS(5,N157+1)))","v":{"$error":"#NAME?"}}]
[null,null,null,null,null,null,null,null,null,26,{"$f":"_xlfn.xlookup(L158,$G$133:$G$147,$D$133:$D$147)","v":{"$error":"#NAME?"}},{"$f":"INDIRECT(M158)","v":{"$error":"#NAME?"}},{"$f":"ADDRESS(5,P157)","v":{"$error":"#NAME?"}},{"$f":"P157","v":{"$error":"#NAME?"}},{"$f":"_xlfn.xlookup(L158,$G$133:$G$147,$H$133:$H$147)","v":{"$error":"#NAME?"}},{"$f":"O158+N158","v":{"$error":"#NAME?"}},{"$f":"_xlfn.xlookup(L158,$G$133:$G$147,$I$133:$I$147)","v":{"$error":"#NAME?"}},{"$f":"COUNTIF(L158:Q158,\"#N/D\")","v":0},{"$f":"IF(RIGHT(K158,6)=\"Estado\",LEFT(TEXT(HEX2DEC(_xlfn.CONCAT((INDIRECT(ADDRESS(5,N158+1))),(INDIRECT(ADDRESS(5,N158+2))),(INDIRECT(ADDRESS(5,N158+3))),(INDIRECT(ADDRESS(5,N158+4))))),\"0000000000\"),6),$G$8)","v":{"$error":"#NAME?"}},{"$f":"IF(RIGHT(K158,6)=\"Estado\",TEXT(HEX2DEC(_xlfn.CONCAT((INDIRECT(ADDRESS(5,N158+1))),(INDIRECT(ADDRESS(5,N158+2))),(INDIRECT(ADDRESS(5,N158+3))),(INDIRECT(ADDRESS(5,N158+4))))),0),IF(K158=\"#N/D\",#N/A,($I$8+U158/24/60)))","v":{"$error":"#NAME?"}},{"$f":"IF(HEX2DEC(V158)>(127),HEX2DEC(V158)-256,HEX2DEC(V158))","v":{"$error":"#NAME?"}},{"$f":"(INDIRECT(ADDRESS(5,N158+1)))","v":{"$error":"#NAME?"}}]
[null,null,null,null,null,null,null,null,null,27,{"$f":"_xlfn.xlookup(L159,$G$133:$G$147,$D$133:$D$147)","v":{"$error":"#NAME?"}},{"$f":"INDIRECT(M159)","v":{"$error":"#NAME?"}},{"$f":"ADDRESS(5,P158)","v":{"$error":"#NAME?"}},{"$f":"P158","v":{"$error":"#NAME?"}},{"$f":"_xlfn.xlookup(L159,$G$133:$G$147,$H$133:$H$147)","v":{"$error":"#NAME?"}},{"$f":"O159+N159","v":{"$error":"#NAME?"}},{"$f":"_xlfn.xlookup(L159,$G$133:$G$147,$I$133:$I$147)","v":{"$error":"#NAME?"}},{"$f":"COUNTIF(L159:Q159,\"#N/D\")","v":0},{"$f":"IF(RIGHT(K159,6)=\"Estado\",LEFT(TEXT(HEX2DEC(_xlfn.CONCAT((INDIRECT(ADDRESS(5,N159+1))),(INDIRECT(ADDRESS(5,N159+2))),(INDIRECT(ADDRESS(5,N159+3))),(INDIRECT(ADDRESS(5,N159+4))))),\"0000000000\"),6),$G$8)","v":{"$error":"#NAME?"}},{"$f":"IF(RIGHT(K159,6)=\"Estado\",TEXT(HEX2DEC(_xlfn.CONCAT((INDIRECT(ADDRESS(5,N159+1))),(INDIRECT(ADDRESS(5,N159+2))),(INDIRECT(ADDRESS(5,N159+3))),(INDIRECT(ADDRESS(5,N159+4))))),0),IF(K159=\"#N/D\",#N/A,($I$8+U159/24/60)))","v":{"$error":"#NAME?"}},{"$f":"IF(HEX2DEC(V159)>(127),HEX2DEC(V159)-256,HEX2DEC(V159))","v":{"$error":"#NAME?"}},{"$f":"(INDIRECT(ADDRESS(5,N159+1)))","v":{"$error":"#NAME?"}}]
[null,null,null,null,null,null,null,null,null,28,{"$f":"_xlfn.xlookup(L160,$G$133:$G$147,$D$133:$D$147)","v":{"$error":"#NAME?"}},{"$f":"INDIRECT(M160)","v":{"$error":"#NAME?"}},{"$f":"ADDRESS(5,P159)","v":{"$error":"#NAME?"}},{"$f":"P159","v":{"$error":"#NAME?"}},{"$f":"_xlfn.xlookup(L160,$G$133:$G$147,$H$133:$H$147)","v":{"$error":"#NAME?"}},{"$f":"O160+N160","v":{"$error":"#NAME?"}},{"$f":"_xlfn.xlookup(L160,$G$133:$G$147,$I$133:$I$147)","v":{"$error":"#NAME?"}},{"$f":"COUNTIF(L160:Q160,\"#N/D\")","v":0},{"$f":"IF(RIGHT(K160,6)=\"Estado\",LEFT(TEXT(HEX2DEC(_xlfn.CONCAT((INDIRECT(ADDRESS(5,N160+1))),(INDIRECT(ADDRESS(5,N160+2))),(INDIRECT(ADDRESS(5,N160+3))),(INDIRECT(ADDRESS(5,N160+4))))),\"0000000000\"),6),$G$8)","v":{"$error":"#NAME?"}},{"$f":"IF(RIGHT(K160,6)=\"Estado\",TEXT(HEX2DEC(_xlfn.CONCAT((INDIRECT(ADDRESS(5,N160+1))),(INDIRECT(ADDRESS(5,N160+2))),(INDIRECT(ADDRESS(5,N160+3))),(INDIRECT(ADDRESS(5,N160+4))))),0),IF(K160=\"#N/D\",#N/A,($I$8+U160/24/60)))","v":{"$error":"#NAME?"}},{"$f":"IF(HEX2DEC(V160)>(127),HEX2DEC(V160)-256,HEX2DEC(V160))","v":{"$error":"#NAME?"}},{"$f":"(INDIRECT(ADDRESS(5,N160+1)))","v":{"$error":"#NAME?"}}]
[null,null,null,null,null,null,null,null,null,29,{"$f":"_xlfn.xlookup(L161,$G$133:$G$147,$D$133:$D$147)","v":{"$error":"#NAME?"}},{"$f":"INDIRECT(M161)","v":{"$error":"#NAME?"}},{"$f":"ADDRESS(5,P160)","v":{"$error":"#NAME?"}},{"$f":"P160","v":{"$error":"#NAME?"}},{"$f":"_xlfn.xlookup(L161,$G$133:$G$147,$H$133:$H$147)","v":{"$error":"#NAME?"}},{"$f":"O161+N161","v":{"$error":"#NAME?"}},{"$f":"_xlfn.xlookup(L161,$G$133:$G$147,$I$133:$I$147)","v":{"$error":"#NAME?"}},{"$f":"COUNTIF(L161:Q161,\"#N/D\")","v":0},{"$f":"IF(RIGHT(K161,6)=\"Estado\",LEFT(TEXT(HEX2DEC(_xlfn.CONCAT((INDIRECT(ADDRESS(5,N161+1))),(INDIRECT(ADDRESS(5,N161+2))),(INDIRECT(ADDRESS(5,N161+3))),(INDIRECT(ADDRESS(5,N161+4))))),\"0000000000\"),6),$G$8)","v":{"$error":"#NAME?"}},{"$f":"IF(RIGHT(K161,6)=\"Estado\",TEXT(HEX2DEC(_xlfn.CONCAT((INDIRECT(ADDRESS(5,N161+1))),(INDIRECT(ADDRESS(5,N161+2))),(INDIRECT(ADDRESS(5,N161+3))),(INDIRECT(ADDRESS(5,N161+4))))),0),IF(K161=\"#N/D\",#N/A,($I$8+U161/24/60)))","v":{"$error":"#NAME?"}},{"$f":"IF(HEX2DEC(V161)>(127),HEX2DEC(V161)-256,HEX2DEC(V161))","v":{"$error":"#NAME?"}},{"$f":"(INDIRECT(ADDRESS(5,N161+1)))","v":{"$error":"#NAME?"}}]
[null,null,null,null,null,null,null,null,null,30,{"$f":"_xlfn.xlookup(L162,$G$133:$G$147,$D$133:$D$147)","v":{"$error":"#NAME?"}},{"$f":"INDIRECT(M162)","v":{"$error":"#NAME?"}},{"$f":"ADDRESS(5,P161)","v":{"$error":"#NAME?"}},{"$f":"P161","v":{"$error":"#NAME?"}},{"$f":"_xlfn.xlookup(L162,$G$133:$G$147,$H$133:$H$147)","v":{"$error":"#NAME?"}},{"$f":"O162+N162","v":{"$error":"#NAME?"}},{"$f":"_xlfn.xlookup(L162,$G$133:$G$147,$I$133:$I$147)","v":{"$error":"#NAME?"}},{"$f":"COUNTIF(L162:Q162,\"#N/D\")","v":0},{"$f":"IF(RIGHT(K162,6)=\"Estado\",LEFT(TEXT(HEX2DEC(_xlfn.CONCAT((INDIRECT(ADDRESS(5,N162+1))),(INDIRECT(ADDRESS(5,N162+2))),(INDIRECT(ADDRESS(5,N162+3))),(INDIRECT(ADDRESS(5,N162+4))))),\"0000000000\"),6),$G$8)","v":{"$error":"#NAME?"}},{"$f":"IF(RIGHT(K162,6)=\"Estado\",TEXT(HEX2DEC(_xlfn.CONCAT((INDIRECT(ADDRESS(5,N162+1))),(INDIRECT(ADDRESS(5,N162+2))),(INDIRECT(ADDRESS(5,N162+3))),(INDIRECT(ADDRESS(5,N162+4))))),0),IF(K162=\"#N/D\",#N/A,($I$8+U162/24/60)))","v":{"$error":"#NAME?"}},{"$f":"IF(HEX2DEC(V162)>(127),HEX2DEC(V162)-256,HEX2DEC(V162))","v":{"$error":"#NAME?"}},{"$f":"(INDIRECT(ADDRESS(5,N162+1)))","v":{"$error":"#NAME?"}}]
[null,null,null,null,null,null,null,null,null,31,{"$f":"_xlfn.xlookup(L163,$G$133:$G$147,$D$133:$D$147)","v":{"$error":"#NAME?"}},{"$f":"INDIRECT(M163)","v":{"$error":"#NAME?"}},{"$f":"ADDRESS(5,P162)","v":{"$error":"#NAME?"}},{"$f":"P162","v":{"$error":"#NAME?"}},{"$f":"_xlfn.xlookup(L163,$G$133:$G$147,$H$133:$H$147)","v":{"$error":"#NAME?"}},{"$f":"O163+N163","v":{"$error":"#NAME?"}},{"$f":"_xlfn.xlookup(L163,$G$133:$G$147,$I$133:$I$147)","v":{"$error":"#NAME?"}},{"$f":"COUNTIF(L163:Q163,\"#N/D\")","v":0},{"$f":"IF(RIGHT(K163,6)=\"Estado\",LEFT(TEXT(HEX2DEC(_xlfn.CONCAT((INDIRECT(ADDRESS(5,N163+1))),(INDIRECT(ADDRESS(5,N163+2))),(INDIRECT(ADDRESS(5,N163+3))),(INDIRECT(ADDRESS(5,N163+4))))),\"0000000000\"),6),$G$8)","v":{"$error":"#NAME?"}},{"$f":"IF(RIGHT(K163,6)=\"Estado\",TEXT(HEX2DEC(_xlfn.CONCAT((INDIRECT(ADDRESS(5,N163+1))),(INDIRECT(ADDRESS(5,N163+2))),(INDIRECT(ADDRESS(5,N163+3))),(INDIRECT(ADDRESS(5,N163+4))))),0),IF(K163=\"#N/D\",#N/A,($I$8+U163/24/60)))","v":{"$error":"#NAME?"}},{"$f":"IF(HEX2DEC(V163)>(127),HEX2DEC(V163)-256,HEX2DEC(V163))","v":{"$error":"#NAME?"}},{"$f":"(INDIRECT(ADDRESS(5,N163+1)))","v":{"$error":"#NAME?"}}]
[null,null,null,null,null,null,null,null,null,32,{"$f":"_xlfn.xlookup(L164,$G$133:$G$147,$D$133:$D$147)","v":{"$error":"#NAME?"}},{"$f":"INDIRECT(M164)","v":{"$error":"#NAME?"}},{"$f":"ADDRESS(5,P163)","v":{"$error":"#NAME?"}},{"$f":"P163","v":{"$error":"#NAME?"}},{"$f":"_xlfn.xlookup(L164,$G$133:$G$147,$H$133:$H$147)","v":{"$error":"#NAME?"}},{"$f":"O164+N164","v":{"$error":"#NAME?"}},{"$f":"_xlfn.xlookup(L164,$G$133:$G$147,$I$133:$I$147)","v":{"$error":"#NAME?"}},{"$f":"COUNTIF(L164:Q164,\"#N/D\")","v":0},{"$f":"IF(RIGHT(K164,6)=\"Estado\",LEFT(TEXT(HEX2DEC(_xlfn.CONCAT((INDIRECT(ADDRESS(5,N164+1))),(INDIRECT(ADDRESS(5,N164+2))),(INDIRECT(ADDRESS(5,N164+3))),(INDIRECT(ADDRESS(5,N164+4))))),\"0000000000\"),6),$G$8)","v":{"$error":"#NAME?"}},{"$f":"IF(RIGHT(K164,6)=\"Estado\",TEXT(HEX2DEC(_xlfn.CONCAT((INDIRECT(ADDRESS(5,N164+1))),(INDIRECT(ADDRESS(5,N164+2))),(INDIRECT(ADDRESS(5,N164+3))),(INDIRECT(ADDRESS(5,N164+4))))),0),IF(K164=\"#N/D\",#N/A,($I$8+U164/24/60)))","v":{"$error":"#NAME?"}},{"$f":"IF(HEX2DEC(V164)>(127),HEX2DEC(V164)-256,HEX2DEC(V164))","v":{"$error":"#NAME?"}},{"$f":"(INDIRECT(ADDRESS(5,N164+1)))","v":{"$error":"#NAME?"}}]

{"sheet":"Lector DEF tramas","index":2,"n_rows":197,"n_cols":33,"rows_kept":197,"cut":false,"hidden":false,"merged":[[1,0,1,9],[12,0,12,30],[64,0,64,19],[106,0,106,19],[106,20,106,26],[137,0,137,27]]}
[]
["TRAMA CONFIGURACIÓN DE LA ESTACIÓN ARICA"]
["Posición del Campo",1,2,3,4,5,6,7,8,9]
["DESCRIPCIÓN","TIPO DE TRAMA","FECHA DEF TRAMA","ID ESTACIÓN","CANTIDAD EQUIPOS","FRECUENCIA DE TRANSMISIÓN","DELAY DE RESPUESTA A TELEMANDO","DELAY PARA CERRAR PAQUETE DE DATOS","PAQUETES DIARIOS MAXIMOS","Checksum"]
["Unidad","Id de la Trama","Nombre del Equipo","ID de la Estación","Cantidad","Segundos","Segundos","Segundos","Cantidad","Cantidad"]
["Valor Min.","D0",null,null,1,1,1,1]
["Valor Max.","D9",null,null,32,3600,99,999]
["bytes a tx",2,6,3,1,4,2,3,3,2]
["Ejm. completo","D1D",210522,10,2,600,15,60,300,"0F"]
["Trama Real"]
[]
[]
["MMB03 (Modelo 520)"]
["Posición del Campo",1,2,3,4,5,6,7,8,9,10,11,12,13,14,15,16,17,15,16,17,18,19,20,21,22,23,18,19,20,24]
["DESCRIPCIÓN","TIPO DE TRAMA","FECHA DEF TRAMA","DEF.EQUIPO","CANTIDAD VARIABLES","NOMBRE VARIABLE 1","UNIDAD VARIABLE 1","TIPO DE BYTE VARIABLE 1","MASCARA VARIABLE 1","NOMBRE VARIABLE 2","UNIDAD VARIABLE 2","TIPO DE BYTE VARIABLE 2","NOMBRE VARIABLE 3","UNIDAD VARIABLE 3","TIPO DE BYTE VARIABLE 3","NOMBRE VARIABLE 4","UNIDAD VARIABLE 4","TIPO DE BYTE VARIABLE 4","NOMBRE VARIABLE 5","UNIDAD VARIABLE 5","TIPO DE BYTE VARIABLE 5","NOMBRE VARIABLE 6","UNIDAD VARIABLE 6","TIPO DE BYTE VARIABLE 6","NOMBRE VARIABLE 7","UNIDAD VARIABLE 7","TIPO DE BYTE VARIABLE 7","NOMBRE VARIABLE 8","UNIDAD VARIABLE 8","TIPO DE BYTE VARIABLE 8","Checksum"]
["Unidad","Id de la Trama","Nombre del Equipo","Nombre del Equipo","Cantidad","Voltaje","Voltios x10-2","Cant.en numero y Positivo, Negativo, Ambos, Float",null,"Corriente","Amperios x10-2","Cant.en numero y Positivo, Negativo, Ambos, Float","Alarma","Unidad de la Variable","Cant.en numero y Positivo, Negativo, Ambos, Float","Estado de Entradas/ Salidas","Unidad de la Variable","Cant.en numero y Positivo, Negativo, Ambos, Float","Estado Sincronizacion","Unidad de la Variable","Cant.en numero y Positivo, Negativo, Ambos, Float","Memoria","Unidad de la Variable","Cant.en numero y Positivo, Negativo, Ambos, Float","Posición","Unidad de la Variable","Cant.en numero y Positivo, Negativo, Ambos, Float","Distancia al centro del borneo","Unidad de la Variable","Cant.en numero y Positivo, Negativo, Ambos, Float","Cantidad"]
["Valor Min.","D10E",null,null,1,null,null,null,"0"]
["Valor Max.","D29E",null,null,32,null,null,null,1111]
["bytes a tx",4,6,2,1,2,3,2,1,2,3,2,2,3,3,2,3,2,2,3,2,2,3,2,2,3,2,2,3,2,2]
["Ejm. completo","D10E",210522,"M3",8,"V","V2","2P",{"$f":"BIN2HEX(I18)","v":"F"},"C","C2","2P","A",1,"3P","E",1,"2P","S",1,"2P","M","M0","1P","P","P8","4A","D","D0","2P","4F"]
["Trama Real"]
[]
[]
["Posición del Campo",1,2,3,4,5,6,7,8,9,10,11,12,13,14,15,16,17,18,19,20,21]
["DESCRIPCIÓN","TIPO DE TRAMA","FECHA DEF TRAMA","DEF.EQUIPO","CANTIDAD VARIABLES","VALOR MÍNIMO VARIABLE 1","VALOR MAXIMO VARIABLE 1","VALOR MÍNIMO VARIABLE 2","VALOR MAXIMO VARIABLE 2","VALOR MÍNIMO VARIABLE 3","VALOR MAXIMO VARIABLE 3","VALOR MÍNIMO VARIABLE 4","VALOR MAXIMO VARIABLE 4","VALOR MÍNIMO VARIABLE 5","VALOR MAXIMO VARIABLE 5","VALOR MÍNIMO VARIABLE 6","VALOR MAXIMO VARIABLE 6","VALOR MÍNIMO VARIABLE 7","VALOR MAXIMO VARIABLE 7","VALOR MÍNIMO VARIABLE 8","VALOR MAXIMO VARIABLE 8","Checksum"]
["Unidad","Id de la Trama","Nombre del Equipo","Nombre del Equipo","Cantidad","Voltaje\nV x10-2","Voltaje\nV x10-2","Corriente\nA x10-2","Corriente\nA x10-2","Alarma\nadimensional","Alarma\nAdimensional","Estado de Entradas/ Salidas","Estado de Entradas/ Salidas","Estado Sincronizacion\nAdimensional","Estado Sincronizacion\nAdimensional","Memoria\n% usado","Memoria\n% usado","Posición\nLat, Long","Posición\nLat, Long","Distancia","Distancia","Cantidad"]
["Valor Min.","D10U",null,null,1]
["Valor Max.","D29U",null,null,64]
["bytes a tx",4,6,3,1,null,null,null,null,null,null,null,null,null,null,null,null,null,null,null,null,2]
["Ejm. completo","D10U",310322,"M3",8,1200,1400,10,100,0,65535,0,65535,0,263,0,80,-1799999999,1799999999,0,65534,"4F"]
["Trama Real"]
[]
[]
["Posición del Campo",1,2,3,4,5,6]
["DESCRIPCIÓN","TIPO DE TRAMA","FECHA DEF TRAMA","DEF.EQUIPO","CANTIDAD VARIABLES","Frecuencia comprobación conexión al servidor o reset","Checksum"]
["Unidad","Id de la Trama","Fecha del Equipo","Nombre del Equipo","Cantidad","segundos","Cantidad"]
["Valor Min.","D10E",null,null,1,0]
["Valor Max.","D29E",null,null,3,65535]
["bytes a tx",5,6,3,2,4,2]
["Ejm. completo","D10C1",210522,"MT1",1,900,"4F"]
["Trama Real"]
[]
[]
["Posición del Campo",1,2,3,4,7,8,9,10,11,12,13,14]
["DESCRIPCIÓN","TIPO DE TRAMA","FECHA DEF TRAMA","DEF.EQUIPO","CANTIDAD VARIABLES","MODO DE TRANSMISIÓN","CONF. MODO 1:\nFREC.Tx MSG 1 (10)","CONF. MODO 2:\nTIEMPO DE FALLO CANAL PPAL PARA ACTIVAR EL IRIDIUM","CONF. MODO 3:\nFREC.TX MSG 1  \n(ESTADO TIPO 10 MMB03)","CONF. MODO 4:\nFREC.TX MSG 1 (TODOS)","MODIFICADOR MODOS 3 ó 4.\n(PARA TIPO TX PQTS EN CASO de:\n- FALLO CANAL PPAL. \n- MODO CONTÍNUO","FRECUENCIA CHEQUEO DE CORREO\n(Aplicable a todos los modos)\n(En caso de ser 24h será a las 1200)","Checksum"]
["Unidad","Id de la Trama","Fecha del Equipo","Nombre del Equipo","Cantidad","0: Iridium OFF total\n1: TX MSG 1 (tipo 10) solo cuando se active la de alerta off-position \n2: Tx datos Metoc y Edo según programación en caso fallo Cs canal Ppal.\n3: Tx de Estado según programación.\n4: Tx datos Metoc y Estado según programación","Minutos","Minutos","0: se envía solo en el cambio día/noche y viceversa\n\nnn: tx el mensaje 10 cada nn minutos","Minutos","T: Todos los paquetes\nL: Solo el último pqte","Minutos","Cantidad"]
["Valor Min.","D10E",null,null,1,0,1,1,0,0,1,0]
["Valor Max.","D29E",null,null,3,5,1440,1440,1440,1440,1,1440]
["bytes a tx",5,6,3,2,1,4,4,4,4,1,4,2]
["Ejm. completo","D10C3",210522,"IR1",7,0,60,60,60,300,"L",780,"4F"]
["Trama Real"]
[]
[]
["Posición del Campo",1,2,3,4,5,6,7,8,9,10]
["DESCRIPCIÓN","TIPO DE TRAMA","FECHA DEF TRAMA","DEF.EQUIPO","CANT. \nVARIABLES","VARIABLE 1\nLatitud Teórica\nSi se indica 91 entonces la MMB03 tomará una nueva posición como centro","VARIABLE 2\nLongitud Teórica\nSi se indica 181 entonces la MMB03 tomará una nueva posición como centro","VARIABLE 3\n\nFrecuencia comprobación posición en \nmodo normal","VARIABLE 4\n\nFrecuencia comprobación posición en\nmodo rotura de cadena","VARIABLE 5\n\nMáximo radio de borneo","Checksum"]
["Unidad","Id de la Trama","Fecha del Equipo","Nombre del Equipo","Cant. Variables","Grados","Grados","segundos","segundos","m","Cantidad"]
["Valor Min.","D10E",null,null,null,-89.99999,-179.99999,0,0,0]
["Valor Max.","D29E",null,null,null,89.99999,179.99999,65535,65535,99999]
["bytes a tx",4,6,2,null,9,10,4,4,5,2]
["Ejm. completo","D10P",210522,"M3",5,-81.99999,-179.99999,3600,900,10000,"4F"]
["Trama Real"]
[]
[]
[]
["ADCP NORTEK 1Mhz 6 CAPAS 12 DATOS"]
["Posición del Campo",1,2,3,4,5,6,7,8,9,10,11,12,13,14,15,16,17,18,19]
["DESCRIPCIÓN","TIPO DE TRAMA","FECHA DEF TRAMA","DEF.EQUIPO","CANTIDAD VARIABLES","CANTIDAD CELDAS","ANCHO DE CELDAS","BLANKING","VELOCIDAD DE MUESTREO","TIEMPO DE LA MEDIA","FRECUENCIA DE MEDICIÓN","NOMBRE VARIABLE 1 A TX","UNIDAD DE LA VARIABLE 1","TIPO DE BYTE VARIABLE 1","MASCARA TIPO CELDAS","MASCARA  CELDAS A TX","NOMBRE VARIABLE 2 A TX","UNIDAD VARIABLE 2 A TX","TIPO DE BYTE VARIABLE 2","Checksum"]
["Unidad","Id de la Trama","Nombre del Equipo","Nombre del Equipo","Cantidad","Cantidad","metros","metros","Segundos","Segundos","Segundos","Velocidad de la corriente:. \n- Este\n- Norte\n- Arriba","m/s x10-3\n(mm/s)","Cant.en numero:\n P=Positivo, \n N=Negativo, \n A=Ambos, \n F=Float","Celdas: Este-Norte-Arriba\nB0=Up\nB1=Norte\nB2=Este","0 ó 1 según la celda activada\nB0= capa 1\nB1= capa 2\nBn= capa n","Temperatura del agua","ºC x10-2","Cant.en numero:\n P=Positivo, \n N=Negativo, \n A=Ambos, \n F=Float","Cantidad"]
["Valor Min.","D80",null,null,1,1,0.1,0.1,1,1,1,null,null,null,"000",0]
["Valor Max.","D119",null,null,32,256,20,20,3600,3600,3600,null,null,null,111,111111]
["bytes a tx",4,6,2,1,3,4,4,4,4,4,2,3,2,1,"n",2,3,2,2]
["Ejm. completo","D80D",210522,"N1",2,6,"2.0",0.5,1,120,600,9,93,"2A",6,{"$f":"BIN2HEX(P70)","v":"3F"},6,62,"2A","4F"]
["Trama Real"]
[null,null,null,"aunque sea 1Mhz funciona igual"]
[]
["Posición del Campo",1,2,3,4,5,6,7,8,9]
["DESCRIPCIÓN","TIPO DE TRAMA","FECHA DEF TRAMA","DEF.EQUIPO","CANTIDAD VARIABLES","NOMBRE ESPECÍFICO VARIABLE 1.1","NOMBRE ESPECÍFICO VARIABLE 1.2","NOMBRE ESPECÍFICO VARIABLE 1.3","NOMBRE ESPECÍFICO VARIABLE 2","Checksum"]
["Unidad","Id de la Trama","Nombre del Equipo","Nombre del Equipo","Cantidad","Vel. Este","Vel. Norte","Velocidad Arriba","Temperatura","Cantidad"]
["Valor Min.","D80X",null,null,1,"VQTY","VMXL","VH110","VH110"]
["Valor Max.","D119X",null,null,32]
["bytes a tx",4,6,3,1,4,4,4,4,2]
["Ejm. completo","D80X",310322,"N1",4,"EWCT","NSCT","VCSP","TEMP","4F"]
["Trama Real"]
[]
[]
["Posición del Campo",1,2,3,4,5,6,7,8,9]
["DESCRIPCIÓN","TIPO DE TRAMA","FECHA DEF TRAMA","DEF.EQUIPO","CANTIDAD VARIABLES","VALOR MÍNIMO VARIABLE 1","VALOR MAXIMO VARIABLE 1","VALOR MÍNIMO VARIABLE 2","VALOR MAXIMO VARIABLE 2","Checksum"]
["Unidad","Id de la Trama","Nombre del Equipo","Nombre del Equipo","Cantidad","Velocidad\n(mm/s)","Velocidad\n(mm/s)","Temperatura \n(ºC)","Temperatura \n(ºC)","Cantidad"]
["Valor Min.","D80U",null,null,1]
["Valor Max.","D119U",null,null,64]
["bytes a tx",4,6,3,1,null,null,null,null,2]
["Ejm. completo","D80U",310322,"N1",2,-10000,10000,1,6000,"4F"]
["Trama Real"]
[]
[]
["Posición del Campo",1,2,3,4,5,6,7,8,9,10,11,12,13,14,15,16]
["DESCRIPCIÓN","TIPO DE TRAMA","FECHA DEF TRAMA","DEF.EQUIPO","CANTIDAD VARIABLES","NOMBRE VARIABLE 1","UNIDAD VARIABLE 1","TIPO DE BYTE VARIABLE 1","MASCARA VARIABLE 2","UNIDAD VARIABLE 2","TIPO DE BYTE VARIABLE 2","TIPO DE BYTE VARIABLE 2","NOMBRE VARIABLE 3","UNIDAD VARIABLE 3","TIPO DE BYTE VARIABLE 3","MASCARA VARIABLE 3","Checksum"]
["Unidad","Id de la Trama","Nombre del Equipo","Nombre del Equipo","Cantidad","Voltaje","mV","Cant.en numero y Positivo, Negativo, Ambos, Float",null,"Profundidad","cm","Cant.en numero y Positivo, Negativo, Ambos, Float","Angular \n(heading, pitch, roll)","º x10-1","Cant.en numero y Positivo, Negativo, Ambos, Float",null,"Cantidad"]
["Valor Min.","D81E",null,null,1,null,null,null,0,null,null,null,null,null,null,0]
["Valor Max.","D81E",null,null,32,null,null,null,1,null,null,null,null,null,null,3]
["bytes a tx",3,6,2,1,2,3,2,1,2,3,2,2,3,2,1,2]
["Ejm. completo","D81E",210522,"N1",3,"V","V3","2P",1,5,52,"2P",4,41,"2A",1,"4F"]
["Trama Real"]
[]
[]
[]
["EMA GILL GMX560 MARINA"]
["Posición del Campo",1,2,3,4,5,6,7,8,9,10,11,12,13,14,15,16,17,18,19,20,21,22,23,24,25,23,24,25,17,18,19,29]
["DESCRIPCIÓN","TIPO DE TRAMA","FECHA DEF TRAMA","DEF.EQUIPO","CANTIDAD VARIABLES","VELOCIDAD DE MUESTREO","TIEMPO DE LA MEDIA","FRECUENCIA DE MEDICIÓN","NOMBRE VARIABLE 1","UNIDAD VARIABLE 1","TIPO DE BYTE VARIABLE 1","NOMBRE VARIABLE 2","UNIDAD VARIABLE 2","TIPO DE BYTE VARIABLE 2","NOMBRE VARIABLE 3","UNIDAD VARIABLE 3","TIPO DE BYTE VARIABLE 3","NOMBRE VARIABLE 4","UNIDAD VARIABLE 4","TIPO DE BYTE VARIABLE 4","NOMBRE VARIABLE 5","UNIDAD VARIABLE 5","TIPO DE BYTE VARIABLE 5","NOMBRE VARIABLE 6","UNIDAD VARIABLE 6","TIPO DE BYTE VARIABLE 6","NOMBRE VARIABLE 7","UNIDAD VARIABLE 7","TIPO DE BYTE VARIABLE 7","NOMBRE VARIABLE 8","UNIDAD VARIABLE 8","TIPO DE BYTE VARIABLE 8","Checksum"]
["Unidad","Id de la Trama","Nombre del Equipo","Nombre del Equipo","Cantidad","Segundos","Segundos","Segundos","WDIR","º",null,"WSPD","m/s x 10-2",null,"GDIR","º",null,"GSPD","m/s x 10-2",null,"ATMS","hPa x 10-1",null,"RELH","%",null,"DRYT\n(Temp.Aire)","ºC x 10-1",null,"DEWT\n(Pto. Rocio)","ºC x 10-1",null,"Cantidad"]
["Valor Min.","D120D",null,null,1,1,1,1]
["Valor Max.","D159D",null,null,32,3600,3600,3600]
["bytes a tx",3,6,2,2,4,4,4,2,null,2,2,3,2,2,2,2,2,3,2,2,2,2,2,2,2,2,2,2,2,3,2,2]
["Ejm. completo","D120D",210522,"G1",8,1,600,600,4,40,"2P",13,92,"2P",4,40,"2P",14,92,"2P",11,111,"2P",12,"M0","1P",6,61,"2A",6,61,"2A","4F"]
["Trama Real"]
[]
[]
["Posición del Campo",1,2,3,4,5,6,7,8,9,10,11,12,10]
["DESCRIPCIÓN","TIPO DE TRAMA","FECHA DEF TRAMA","DEF.EQUIPO","CANTIDAD VARIABLES","NOMBRE ESPECÍFICO VARIABLE 1","NOMBRE ESPECÍFICO VARIABLE 2","NOMBRE ESPECÍFICO VARIABLE 3","NOMBRE ESPECÍFICO VARIABLE 4","NOMBRE ESPECÍFICO VARIABLE 5","NOMBRE ESPECÍFICO VARIABLE 6","NOMBRE ESPECÍFICO VARIABLE 7","NOMBRE ESPECÍFICO VARIABLE 8","Checksum"]
["Unidad","Id de la Trama","Nombre del Equipo","Nombre del Equipo","Cantidad","Dirección del viento","Velocidad del viento","Dirección de ráfaga","Velocidad de ráfaga","Presión atmosférica","Humedad relativa","Temperatura del aire","Punto de rocio","Cantidad"]
["Valor Min.","D120X",null,null,1]
["Valor Max.","D159X",null,null,64]
["bytes a tx",4,6,3,1,4,4,4,4,4,5,6,7,2]
["Ejm. completo","D120X",310322,"G1",8,"WDIR","WSPD","GDIR","GSPD","ATMS","RELH","DRYT","DEWT","4F"]
["Trama Real"]
[]
[]
["Posición del Campo",1,2,3,4,5,6,7,8,9,10,11,12,13,14,15,16,17,18,19,20,15]
["DESCRIPCIÓN","TIPO DE TRAMA","FECHA DEF TRAMA","DEF.EQUIPO","CANTIDAD VARIABLES","VALOR MÍNIMO VARIABLE 1","VALOR MAXIMO VARIABLE 1","VALOR MÍNIMO VARIABLE 2","VALOR MAXIMO VARIABLE 2","VALOR MÍNIMO VARIABLE 3","VALOR MAXIMO VARIABLE 3","VALOR MÍNIMO VARIABLE 4","VALOR MAXIMO VARIABLE 4","VALOR MÍNIMO VARIABLE 5","VALOR MAXIMO VARIABLE 5","VALOR MINIMO VARIABLE 6","VALOR MAXIMO VARIABLE 6","VALOR MINIMO VARIABLE 7","VALOR MAXIMO VARIABLE 7","VALOR MINIMO VARIABLE 8","VALOR MAXIMO VARIABLE 8","Checksum"]
["Unidad","Id de la Trama","Nombre del Equipo","Nombre del Equipo","Cantidad","WDIR\n(º)","WDIR\n(º)","WSPD\n(m/s x 10-2)","WSPD\n(m/s x 10-2)","GDIR\n(º)","GDIR\n(º)","GSPD\n(m/s x 10-2)","GSPD\n(m/s x 10-2)","ATMS\n(hPa x 10-1)","ATMS\n(hPa x 10-1)","RELH\n(%)","RELH\n(%)","DRYT\n(ºC x 10-1)","DRYT\n(ºC x 10-1)","DEWT\n(ºC x 10-1)","DEWT\n(ºC x 10-1)","Cantidad"]
["Valor Min.","D120U",null,null,1,0,359,0.01,60,0,359,0.01,60,500,1100,0,100,-10,50,-10,50]
["Valor Max.","D159U",null,null,64]
["bytes a tx",4,6,3,1,null,null,null,null,null,null,null,null,null,null,null,null,null,null,null,null,2]
["Ejm. completo","D120U",310322,"G1",8,0,359,0.01,60,0,359,0.01,60,500,1100,0,100,-10,50,-10,50,"4F"]
["Trama Real"]
[]
[]
["WAVE"]
["Posición del Campo",1,2,3,4,5,6,7,8,9,10,11,12,13,14,15,16,17,18,19,20,21,22,23,24,25,26,27]
["DESCRIPCIÓN","TIPO DE TRAMA","FECHA DEF TRAMA","DEF.EQUIPO","CANTIDAD VARIABLES","VELOCIDAD DE MUESTREO","TIEMPO DE LA MEDIA","FRECUENCIA DE MEDICIÓN","NOMBRE VARIABLE 1","UNIDAD VARIABLE 1","TIPO DE BYTE VARIABLE 1","NOMBRE VARIABLE 2","UNIDAD VARIABLE 2","TIPO DE BYTE VARIABLE 2","MASCARA VARIABLE 2","NOMBRE VARIABLE 3","UNIDAD VARIABLE 3","TIPO DE BYTE VARIABLE 3","MASCARA VARIABLE 3","NOMBRE VARIABLE 4","UNIDAD VARIABLE 4","TIPO DE BYTE VARIABLE 4","MASCARA VARIABLE 4","NOMBRE VARIABLE 5","UNIDAD VARIABLE 5","TIPO DE BYTE VARIABLE 5","MASCARA VARIABLE 5","Checksum"]
["Unidad","Id de la Trama","Nombre del Equipo","Nombre del Equipo","Cantidad","Segundos","Segundos","Segundos","Cantidad de Olas","Unidad de la Variable","Cant.en numero:\n P=Positivo, \n N=Negativo, \n A=Ambos, \n F=Float","Altura de Ola","Unidad de la Variable","Cant.en numero:\n P=Positivo, \n N=Negativo, \n A=Ambos, \n F=Float",null,"Período de Ola","Unidad de la Variable","Cant.en numero:\n P=Positivo, \n N=Negativo, \n A=Ambos, \n F=Float",null,"Dirección Angular del Oleaje","Unidad de la Variable","Cant.en numero:\n P=Positivo, \n N=Negativo, \n A=Ambos, \n F=Float",null,"Flag","Unidad de la Variable","Cant.en numero:\n P=Positivo, \n N=Negativo, \n A=Ambos, \n F=Float",null,"Cantidad"]
["Valor Min.","D160",null,null,1,0.1,1,1,null,null,null,null,null,null,"0",null,null,null,"0",null,null,null,"00",null,null,null,"00"]
["Valor Max.","D169",null,null,32,10,3600,3600,null,null,null,null,null,null,1111,null,null,null,11111,null,null,null,11,null,null,null,11]
["bytes a tx",4,6,3,1,4,4,4,2,3,2,2,3,2,1,2,3,2,1,2,3,2,1,2,3,2,1,2]
["Ejm. completo","D160D",100522,"M4",5,1,600,600,1,1,"2P",2,22,"2P",{"$f":"BIN2HEX(O143)","v":"F"},3,31,"2P",{"$f":"BIN2HEX(S143)","v":"1F"},4,41,"2P",{"$f":"BIN2HEX(W143)","v":"3"},"F",1,"1P",{"$f":"BIN2HEX(AA143)","v":"3"},"4F"]
["Trama Real"]
[]
[]
["Posición del Campo",1,2,3,4,5,6,7,8,9,10,11,12,13,14,15,16,17,18,19]
["DESCRIPCIÓN","TIPO DE TRAMA","FECHA DEF TRAMA","DEF.EQUIPO","CANTIDAD VARIABLES","NOMBRE ESPECÍFICO VARIABLE 1","NOMBRE ESPECÍFICO VARIABLE 2.1","NOMBRE ESPECÍFICO VARIABLE 2.2","NOMBRE ESPECÍFICO VARIABLE 2.3","NOMBRE ESPECÍFICO VARIABLE 2.4","NOMBRE ESPECÍFICO VARIABLE 3.1","NOMBRE ESPECÍFICO VARIABLE 3.2","NOMBRE ESPECÍFICO VARIABLE 3.3","NOMBRE ESPECÍFICO VARIABLE 3.4","NOMBRE ESPECÍFICO VARIABLE 3.5","NOMBRE ESPECÍFICO VARIABLE 4.1","NOMBRE ESPECÍFICO VARIABLE 4.2","NOMBRE ESPECÍFICO VARIABLE 5.1","NOMBRE ESPECÍFICO VARIABLE 5.2","Checksum"]
["Unidad","Id de la Trama","Nombre del Equipo","Nombre del Equipo","Cantidad","NRO DE OLAS","H.MAX.","HSIG/10","HSIG/3","HMED","TMAX","TPICO","TSIG/10","TSIG/3","TMED","DIR","DESV","FLAG1","FLAG2","Cantidad"]
["Valor Min.","D160",null,null,1,"VQTY","VMXL","VH110","VAVH","VHM0","VTMX","VTPK","VT110","VAVT","VGTA","VDIR","VPSP","VFL1","VFL2"]
["Valor Max.","D169",null,null,64]
["bytes a tx",4,6,3,1,4,4,4,4,4,4,4,4,4,4,4,4,4,4,2]
["Ejm. completo","D160X",310322,"M4",14,"VQTY","VMXL","VH110","VAVH","VHM0","VTMX","VTPK","VT110","VAVT","VGTA","VDIR","VPSP","VFL1","VFL2","4F"]
["Trama Real"]
[]
[]
["Posición del Campo",1,2,3,4,5,6,7,8,9,10,11,12,13,14,15]
["DESCRIPCIÓN","TIPO DE TRAMA","FECHA DEF TRAMA","DEF.EQUIPO","CANTIDAD VARIABLES","VALOR MÍNIMO VARIABLE 1","VALOR MAXIMO VARIABLE 1","VALOR MÍNIMO VARIABLE 2","VALOR MAXIMO VARIABLE 2","VALOR MÍNIMO VARIABLE 3","VALOR MAXIMO VARIABLE 3","VALOR MÍNIMO VARIABLE 4","VALOR MAXIMO VARIABLE 4","VALOR MÍNIMO VARIABLE 5","VALOR MAXIMO VARIABLE 5","Checksum"]
["Unidad","Id de la Trama","Nombre del Equipo","Nombre del Equipo","Cantidad","Cantidad de Olas","Cantidad de Olas","Altura de Olas\n(m x10-2)","Altura de Olas\n(m x10-2)","Período de Olas\n(seg x10-1)","Período de Olas\n(seg x10-1)","Dirección Angular de Olas\n(º x10-1)","Dirección Angular de Olas\n(º x10-1)","Flag","Flag","Cantidad"]
["Valor Min.","D160U",null,null,1]
["Valor Max.","D169U",null,null,64]
["bytes a tx",4,6,3,1,null,null,null,null,null,null,null,null,null,null,2]
["Ejm. completo","D160U",310322,"M4",5,1,1000,1,3000,1,1000,0,3599,0,100,"4F"]
["Trama Real"]
[]
[]
["Posición del Campo",1,2,3,4,5,6,7,8,9,10,11,12,13,14]
["DESCRIPCIÓN","TIPO DE TRAMA","FECHA DEF TRAMA","DEF.EQUIPO","CANTIDAD VARIABLES","NOMBRE VARIABLE 1","UNIDAD VARIABLE 1","TIPO DE BYTE VARIABLE 1","NOMBRE VARIABLE 2","UNIDAD VARIABLE 2","TIPO DE BYTE VARIABLE 2","NOMBRE VARIABLE 3","UNIDAD VARIABLE 3","TIPO DE BYTE VARIABLE 3","Checksum"]
["Unidad","Id de la Trama","Nombre del Equipo","Nombre del Equipo","Cantidad","Cantidad dememoria Ocupada\n%","Unidad de la Variable","Cant.en numero y Positivo, Negativo, Ambos, Float","Nombre de la Variable","Unidad de la Variable","Cant.en numero y Positivo, Negativo, Ambos, Float","Nombre de la Variable","Unidad de la Variable","Cant.en numero y Positivo, Negativo, Ambos, Float","Cantidad"]
["Valor Min.","D161E",null,null,1]
["Valor Max.","D161E",null,null,32]
["bytes a tx",3,6,2,1,2,3,2,2,3,2,2,3,2,2]
["Ejm. completo","D161E",210522,"M4",3,"M","M0","1P","R",1,"1P","E",1,"1P","4F"]
["Trama Real"]
[]
[]
["Posición del Campo",1,2,3,4,5,6,7,8,9,10,11,12,13,14]
["DESCRIPCIÓN","TIPO DE TRAMA","FECHA DEF TRAMA","DEF.EQUIPO","CANTIDAD VARIABLES","NOMBRE VARIABLE 1","UNIDAD VARIABLE 1","TIPO DE BYTE VARIABLE 1","NOMBRE VARIABLE 2","UNIDAD VARIABLE 2","TIPO DE BYTE VARIABLE 2","NOMBRE VARIABLE 3","UNIDAD VARIABLE 3","TIPO DE BYTE VARIABLE 3","Checksum"]
["Unidad","Id de la Trama","Nombre del Equipo","Nombre del Equipo","Cantidad","Nombre de la Variable","Unidad de la Variable","Cant.en numero y Positivo, Negativo, Ambos, Float","Nombre de la Variable","Unidad de la Variable","Cant.en numero y Positivo, Negativo, Ambos, Float","Nombre de la Variable","Unidad de la Variable","Cant.en numero y Positivo, Negativo, Ambos, Float","Cantidad"]
["Valor Min.","D162E",null,null,1]
["Valor Max.","D162E",null,null,32]
["bytes a tx",3,6,2,1,2,3,2,2,3,2,2,3,2,2]
["Ejm. completo","D162E",210522,"M4",3,"P","P8","4A","PS",1,"1P","PQ",1,"1P","4F"]
["Trama Real"]
[]
[]
["MCL360"]
["Posición del Campo",1,2,3,4,5,6,7,8]
["DESCRIPCIÓN","TIPO DE TRAMA","FECHA DEF TRAMA","DEF.EQUIPO","CANTIDAD VARIABLES","FRECUENCIA MSG GLA","MODO FOTOCELULA","RITMO","Checksum"]
["Unidad","Id de la Trama","Nombre del Equipo","Nombre del Equipo","Cantidad","Cantidad","1: NOCHE fija\n2: DIA fijo\n3: AUTO","Código del ritmo de destello","Cantidad"]
["Valor Min.","D80",null,null,1,1,0.1]
["Valor Max.","D119",null,null,32,256,20]
["bytes a tx",4,6,2,1,3,4,null,2]
["Ejm. completo","D180D",210522,"M5",1,600,3,1,"4F"]
["Trama Real"]

{"sheet":"trama 2-3 Tlmdos","index":3,"n_rows":140,"n_cols":27,"rows_kept":140,"cut":false,"hidden":false,"merged":[[2,0,2,8],[4,2,4,3],[4,4,4,5],[4,6,4,7],[4,8,4,9],[4,10,4,11],[4,12,4,13],[5,2,5,3],[5,4,5,5],[5,6,5,7],[5,8,5,9],[5,10,5,11],[5,12,5,13],[6,2,6,3],[6,4,6,5],[6,6,6,7],[6,8,6,9],[6,10,6,11],[6,12,6,13],[6,16,6,17],[7,2,7,3],[7,4,7,5],[7,6,7,7],[7,8,7,9],[7,10,7,11],[7,12,7,13],[7,16,7,17],[8,2,8,3],[8,4,8,5],[8,6,8,7],[8,8,8,9],[8,10,8,11],[8,12,8,13],[8,16,8,17],[9,2,9,3],[9,4,9,5],[9,6,9,7],[9,8,9,9],[9,10,9,11],[9,12,9,13],[9,16,9,17],[10,2,10,3],[10,4,10,5],[10,6,10,7],[10,8,10,9],[10,10,10,11],[10,12,10,13],[10,16,10,17],[14,0,14,13],[28,0,28,14],[28,16,28,19],[28,21,28,24],[28,26,28,29],[29,1,29,2],[29,3,29,4],[29,5,29,8],[29,9,29,14],[29,16,29,19],[29,21,29,24],[29,26,29,29],[30,1,30,2],[30,3,30,4],[30,5,30,8],[30,9,30,14],[30,16,30,19],[30,26,30,29],[31,1,31,2],[31,3,31,4],[31,5,31,8],[31,9,31,14],[31,16,31,19],[31,26,31,29],[32,0,37,0],[32,1,37,2],[32,3,37,4],[32,5,32,8],[32,9,32,14],[32,16,32,19],[32,21,37,24],[32,26,32,29],[33,5,33,8],[33,9,33,14],[33,16,33,19],[33,26,33,29],[34,5,34,8],[34,9,34,14],[34,16,34,19],[34,26,34,29],[35,5,35,8],[35,9,35,14],[35,16,35,19],[35,26,35,29],[36,5,36,8],[36,9,36,14],[36,16,36,19],[36,26,36,29],[37,5,37,8],[37,9,37,14],[37,16,37,19],[37,26,37,29],[38,0,43,0],[38,1,43,2],[38,3,43,4],[38,5,38,8],[38,9,38,14],[38,16,38,19],[38,21,43,24],[38,26,38,29],[39,5,39,8],[39,9,39,14],[39,16,39,19],[39,26,39,29],[40,5,40,8],[40,9,40,14],[40,16,40,19],[40,26,40,29],[41,5,41,8],[41,9,41,14],[41,16,41,19],[41,26,41,29],[42,5,42,8],[42,9,42,14],[42,16,42,19],[42,26,42,29],[43,5,43,8],[43,9,43,14],[43,16,43,19],[43,26,43,29],[44,1,44,2],[44,3,44,4],[44,5,44,8],[44,9,44,14],[44,16,44,19],[44,26,44,29],[45,1,45,2],[45,3,45,4],[45,5,45,8],[45,9,45,14],[45,16,45,19],[45,26,45,29],[47,1,47,2],[47,3,47,4],[47,5,47,8],[47,9,47,14],[47,16,47,19],[47,26,47,29],[48,1,48,2],[48,3,48,4],[48,5,48,8],[48,9,48,14],[48,16,48,19],[48,21,48,24],[48,26,48,29],[49,1,49,2],[49,3,49,4],[49,5,49,8],[49,9,49,14],[49,16,49,19],[49,21,49,24],[49,26,49,29],[50,1,50,2],[50,3,50,4],[50,5,50,8],[50,9,50,14],[50,16,50,19],[50,21,50,24],[50,26,50,29],[51,1,51,2],[51,3,51,4],[51,5,51,8],[51,9,51,14],[51,16,51,19],[51,21,51,24],[51,26,51,29],[52,1,52,2],[52,3,52,4],[52,5,52,8],[52,9,52,14],[52,16,52,19],[52,21,52,24],[52,26,52,29],[53,1,53,2],[53,3,53,4],[53,5,53,8],[53,9,53,14],[53,16,53,19],[53,21,53,24],[53,26,53,29]]}
[]
["1. TRAMA SALIDA DE DATOS DEL DATALOGGER",null,null,null,{"$f":"SUM(B10:N10)+COUNT(B10:L10)","v":49}]
["En esta trama se transmiten los telemandos del servidor a la Estación.\nEsta separado por comas y se transmite en ASCII"]
[]
[null,"ID TRAMA","ID Estación",null,"Nro de Paquete",null,"Fecha",null,"Telemando",null,"Modificador/ Detalle \ndel telemando",null,"Checksum"]
["Unidad","Id de la Trama","Id de la Estación a quien va dirigido el telemando",null,"Contador",null,"DDMMAAhhmm",null,null,null,null,null,"Suma de todos los bytes"]
["Valor Min.",2,0,null,0,null,"0101200000",null,0,null,null,null,0,null,null,null,255,null,"1 byte"]
["Valor Max.",2,65535,null,65535,null,3112992359,null,65535,null,null,null,65535,null,null,null,65535,null,"2 bytes"]
["Posición trama a tx",1,{"$f":"B9+B10","v":2},null,{"$f":"C9+C10","v":7},null,{"$f":"E10+E9","v":12},null,{"$f":"G10+G9","v":22},null,{"$f":"I10+I9","v":32},null,{"$f":"K10+K9","v":42},null,null,null,16777215,null,"3 bytes"]
["bytes a tx max.",1,5,null,5,null,10,null,10,null,10,null,2,null,null,null,{"$f":"4294967295","v":4294967295},null,"4 bytes"]
["Ejm. completo",2,15,null,658,null,3103221345,null,null,null,null,null,"*AF"]
[]
[]
["3. TRAMA CONFIGURACIÓN DE LA TRAMA",null,null,{"$f":"LEN(CONCATENATE(B23,C23,D23,E23))+E17","v":16},{"$f":"SUM(B22:E22)+E17","v":17}]
["Esta trama define como está configurada la trama general, la cual se trata de que sea estandar.\nEstá separado por comas y se transmite en ASCII (azul)"]
[]
["Posición del Campo",1,2,3,4]
["DESCRIPCIÓN","TIPO DE TRAMA","FECHA DEF TRAMA","DEF.ESTACIÓN","Checksum"]
["Unidad","Id de la Trama","Nombre del Equipo","ID de la Estación","Cantidad"]
["Valor Min.","D2"]
["Valor Max.","D2"]
["bytes a tx",2,6,3,2]
["Ejm. completo","D2",210522,{"$f":"C11","v":15},"0F"]
[]
[]
["NOTAS DE INTERÉS:"]
["El ID de Estación 65535 se reserva como un comodín, el cual servirá para interrogar a cualquier equipo que no se sepa o haya perdido su ID, o sea, todos los equipos deben responder al ID 65535"]
["Diccionario de Telemandos (Trama 2):",null,null,null,null,null,null,null,null,null,null,null,null,null,null,null,"Diccionario Respuestas de Telemandos (Trama 3):"]
["TELEMANDO ENVIADO DESDE EL SERVIDOR",null,null,null,null,null,null,null,null,null,null,null,null,null,null,null,"RESPUESTA 1 INMEDIATA DESDE LA ESTACIÓN",null,null,null,null,"Modificadores/Detalles despues de la variable del Telemando",null,null,null,null,"RESPUESTA 2 DESDE LA ESTACIÓN, LUEGO DE ENVIAR LA RESPUESTA 1"]
["Telemando","Descripción",null,"Modificador (es)",null,"Ejemplo Telemando",null,null,null,"Ejemplo Trama Completa",null,null,null,null,null,null,"Ejemplo",null,null,null,null,"Ejemplo",null,null,null,null,"Ejemplo"]
["M$0","Reset",null,"ID del Equipo",null,"M$0,E1 = reset del Trimeter",null,null,null,"2,2,658,3103221423,M$0,E1*3F",null,null,null,null,null,null,"3,2,658,3103221423,M$0,ACK*03",null,null,null,null,null,null,null,null,null,"no aplica la respuesta 2 con este telemando"]
["M$1","Solicitud de Estado",null,"ID del Equipo",null,"M$1,M3 = Solicitud de estado de la MMB03",null,null,null,"2,1,658,3103221423,M$1,M3*37",null,null,null,null,null,null,"3,1,658,3103221423,M$1,NO REPLY*3B",null,null,null,"=>",null,null,null,null,null,"Responderá en bin con la trama que corresponde según el equipo"]
["M$2","Solicitud de lectura de definiciones de trama: \n- Def (configuración de trama)\n- eXtendida (nombre de var.)\n- def. Estado (del equipo)\n- def. Posición teorica de la estación para alarma off-position\n- def. Configuración particular de algunos equipos p.ej: ADCP y MTX",null,"ID del Equipo, Clase de Trama",null,"M$2,N1,D = Solicitud definición de trama del AQD600, o sea, D80",null,null,null,"2,5,658,3103221423,M$2,N1,D*31",null,null,null,null,null,null,"3,5,658,3103221423,M$2,D,ACK*06",null,null,null,"=>","RESPUESTAS ESTANDAR:\nACK: Recibido/procesado/en proceso\nNO REPLY: No hay respuesta, no hay la info solicitada\nUNKNOWN: Telemando o modificador desconocido\nERROR_CHK: Error en el checksum",null,null,null,null,"Responderá en ASCII con la trama D que corresponde según el equipo"]
[null,null,null,null,null,"M$2,N1,X = Solicitud de nombres de tramas del AQD600, o sea, D80X",null,null,null,"2,5,658,3103221423,M$2,N1,X*31",null,null,null,null,null,null,"3,5,658,3103221423,M$2,X,ACK*06",null,null,null,"=>",null,null,null,null,null,"Responderá en ASCII con la trama DnnnE que corresponde según el equipo"]
[null,null,null,null,null,"M$2,N1,E = Solicitud de Def.Estado del AQD600, o sea, D81",null,null,null,"2,5,658,3103221423,M$2,N1,E*31",null,null,null,null,null,null,"3,5,658,3103221423,M$2,E,ACK*06",null,null,null,"=>",null,null,null,null,null,"Responderá en ASCII con la trama DnnnE que corresponde según el equipo"]
[null,null,null,null,null,"M$2,M3,P = Solicitud de conf. Alarma Off-Position, o sea, D10P",null,null,null,"2,5,658,3103221423,M$2,M3,P*30",null,null,null,null,null,null,"3,5,658,3103221423,M$2,D10P,ACK*05",null,null,null,"=>",null,null,null,null,null,"Responderá en ASCII con la trama D10P que corresponde según el equipo"]
[null,null,null,null,null,"M$2,N1,C = Solicitud de conf. HEX ADCP",null,null,null,"2,5,658,3103221423,M$2,N1,C*30",null,null,null,null,null,null,"3,5,658,3103221423,M$2,D80C,ACK*05",null,null,null,null,null,null,null,null,null,"Responderá en ASCII con la trama Hex de configuración del ADCP"]
[null,null,null,null,null,"M$2,MT1,C = Solicitud de timeout (segundos) para chequeo de conectividad/reset del modem MTX",null,null,null,"2,5,658,3103221423,M$2,MT1,C*31",null,null,null,null,null,null,"3,5,658,3103221423,M$2,D80C,ACK*06",null,null,null,"=>",null,null,null,null,null,"Responderá en ASCII con el tiempo límite establecido para chequear la conectividad y realizar el reset  del modem MTX en caso de no tener comunicación"]
["M$3","Solicitud de escritura de trama: \n- Def (conf. trama/equipo), \n- eXtendida (nombre de var.) \n- Def. Estado (del equipo)\n- Def. Posición teorica de la estación para alarma off-position\n- def. Configuración particular de algunos equipos p.ej: ADCP y MTX",null,"Nueva trama Dnnn",null,"M$3,D160,310322,M4,5,1,600,600,1,1,2P,2,22,2P,0,3,...\n= Conf. de la trama MBW3",null,null,null,"2,3,658,3103221423,M$3,D160,310322,M4,5,1,600,600,1,1,2P,2,22,2P,0,3,…",null,null,null,null,null,null,"3,3,658,3103221423,M$3,D160,UNKNOW*01",null,null,null,"=>","FAIL: Fallo/error al cargar un nueva DEF de trama",null,null,null,null,"Responderá en ASCII con la trama D que corresponde según el equipo"]
[null,null,null,null,null,"M$3,D30X,310322,E1,4,DEPH,TEMP,CNDC,PSAL\n= Conf. de nombres de variables del CTD",null,null,null,"2,5,659,3103221423,M$3,D30X,310322,E1,4,DEPH,TEMP,CNDC,PSAL*35",null,null,null,null,null,null,"3,5,659,3103221423,M$3,D30X,ACK*06",null,null,null,"=>",null,null,null,null,null,"Responderá en ASCII con la trama DnnnE que corresponde según el equipo"]
[null,null,null,null,null,"M$3,D31,310322,E1,5,V,V2,2P,3,E1,1,1P,M,M0,1P,E2,1,1P,\n= Conf. de Def. trama de Estado CTD",null,null,null,"2,5,659,3103221423,M$3,D31,310322,E1,5,V,V2,2P,3,E1,1,1P,M,M0,1P,E2,1,1P*4F",null,null,null,null,null,null,"3,5,659,3103221423,M$3,D31,ACK*06",null,null,null,null,null,null,null,null,null,"Responderá en ASCII con la trama DnnnE que corresponde según el equipo"]
[null,null,null,null,null,"M$3,D10P,310322,M3,5,-45.87645,-125.4323,4000,3600,900\n= Conf. de Def. trama de Off-Position MMB03",null,null,null,"2,5,659,3103221423,M$3,D10P,310322,M3,5,-45.87645,-125.4323,4000,3600,900*4F",null,null,null,null,null,null,"3,5,659,3103221423,M$3,D10P,ACK*07",null,null,null,null,null,null,null,null,null,"Responderá en ASCII con la trama D10P que corresponde"]
[null,null,null,null,null,"M$3,D80C,310322,N1,64,43,43,A5,00,00...,….*6G\n= Conf. de ADCP",null,null,null,"2,5,659,3103221423M$3,D80C,310322,N1,64,43,43,A5,00,00...,….*6G",null,null,null,null,null,null,"3,5,659,3103221423,M$3,D80C,ACK*07",null,null,null,null,null,null,null,null,null,"FAIL de recibir NACK NACK del ADCP"]
[null,null,null,null,null,"M$3,D10C,310322,MT1,1,900*6G",null,null,null,"2,5,659,3103221423M$3,D10C,310322,MT1,1,900*6G",null,null,null,null,null,null,"3,5,659,3103221423,M$3,D80C,ACK*08",null,null,null,"=>",null,null,null,null,null,"no aplica la respuesta 2 con este telemando"]
["M$4","Modo Transparente",null,"ID del Equipo, 1 para Activar y 0 para Desactivar, 2 para modo debug",null,"M$4,M4,1 = Pasar a modo transparente con el equipo MBW3\nM$4,M4,0 = Desactiva el modo transparente con el equipo MBW3\nM$4,M4,2 = Desactiva el modo transparente con debug del equipo MBW3",null,null,null,"2,1,658,3103221423,M$4,M4,1*35",null,null,null,null,null,null,"3,1,658,3103221423,M$4,1,ACK*04",null,null,null,null,null,null,null,null,null,"no aplica la respuesta 2 con este telemando"]
["M$5","Forzar una medición inmediata",null,"ID del Equipo",null,"M$5,ALL = Ordena al equipo indicado (o a todos los equipos) realizar una medición inmediata (cumpliendo los tiempos de toma de muestras para la media) y envía el resultado por wifi",null,null,null,"2,1,658,3103221423,M$5,ALL*0C",null,null,null,null,null,null,"3,1,658,3103221423,M$5,ACK*05",null,null,null,null,null,null,null,null,null,"En vía un mensaje tipo 1 con los datos medidos"]
[]
["T$1","Solicitud de paquete de datos",null,"Nro del paquete inicial y final, de la fecha mas reciente",null,"T$1,175,175 = solicita el paquete 175\nT$1,65530,3 = solicita el paquete desde al 65530 hasta el 3",null,null,null,"2,2,658,3103221423,T$1,175,175*7F",null,null,null,null,null,null,"3,2,658,3103221423,T$1,FAIL*50",null,null,null,"=>",null,null,null,null,null,"Responderá en bin con la trama 1 que corresponde"]
["T$2","Solicitud de primer paquete no transmitido (el mas viejo)",null,"Ninguno",null,"T$2 = solicita el primer paquete no transmitido",null,null,null,"2,3,988,3103221423,T$2*7F",null,null,null,null,null,null,"3,2,658,3103221423,T$2,ACK,768*51\nó\n3,2,658,3103221423,T$2,NACK,768*51",null,null,null,"=>","ACK: Recibido/procesado/en proceso, toca la trama NNN\nNACK: No hay trama sin transmitir, la última transmitida fue la NNN",null,null,null,null,"Si hay mensaje y la respouesta anterior no es NACK, entonces enviará en bin la trama 1 que corresponde"]
["T$3","Solicitud de último paquete no transmitido (el mas reciente)",null,"Ninguno",null,"T$3 = solicita el último paquete no transmitido",null,null,null,"2,3,988,3103221423,T$3*7F",null,null,null,null,null,null,"3,2,658,3103221423,T$3,ACK,768*51\nó\n3,2,658,3103221423,T$3,NACK,768*51",null,null,null,"=>","ACK: Recibido/procesado/en proceso, toca la trama NNN\nNACK: No hay trama sin transmitir, la última transmitida fue la NNN",null,null,null,null,"Si hay mensaje y la respouesta anterior no es NACK, entonces enviará en bin la trama 1 que corresponde"]
["T$4","Redefinicón de puntero de lectura del T$2",null,"Nro del nuevo puntero que define el próximo paquete a transmitir por wifi cuando se interrogue con el T$2",null,"T$4,nnnnn = indica a la MMB03 cual es el próximo paquete por transmitir según el puntero del T$2 de paquetes pendientes por enviar",null,null,null,"2,3,988,3103221423,T$4,1725*56",null,null,null,null,null,null,"3,3,988,3103221423,T$4,ACK,1725*32",null,null,null,"=>","ACK: Recibido/procesado/en proceso, toca la trama NNN",null,null,null,null,"no aplica la respuesta 2 con este telemando"]
["T$5","Redefinicón de puntero de escritura de paquete T$2 (sobrescribe datos ya guardados)",null,"Redefinición de escritura del número de paquete a donde se grabará la próxima muestra, especificado en el telemando (nnnnn), acá se sobrescribirán las muestras que hayan sido grabadas en esos números de paquete previamente. ",null,"T$5,nnnnn = indica a la MMB03 cual es el número en memoria donde se grabará el próximo paquete (cuidado, puede sobreescribir los datos grabados)",null,null,null,"2,3,988,3103221423,T$5,1725*54",null,null,null,null,null,null,"3,3,988,3103221423,T$5,ACK,1725*30",null,null,null,"=>","ACK: Recibido/procesado/en proceso, toca la trama NNN",null,null,null,null,"no aplica la respuesta 2 con este telemando"]
["T$6","Borrado de la memoria y redefine el puntero de escritura de paquete T$2",null,"Borrado de toda la memoria y se inicia a escribir la próxima muestra partiendo del número de paquete especificado en el telemando (nnnnn).",null,"T$6,nnnnn = indica a la MMB03 cual es el próximo paquete por transmitir según el puntero del T$2 de paquetes pendientes por enviar",null,null,null,"2,3,988,3103221423,T$6,1725*55",null,null,null,null,null,null,"3,3,988,3103221423,T$6,ACK,1725*31",null,null,null,"=>","ACK: Recibido/procesado/en proceso, toca la trama NNN",null,null,null,null,"no aplica la respuesta 2 con este telemando"]
["T$7","Activación / Desactivación de envío de tramas de datos de forma automática",null,"Ninguno",null,"T$7,1 = activa el envío de tramas de datos de forma automática \n\nT$7,0 = deactiva el envío de tramas de datos de forma automática ",null,null,null,"2,3,988,3103221423,T$7,1*7F\n\n2,3,988,3103221423,T$7,0*7F",null,null,null,null,null,null,"3,2,658,3103221423,T$7,ACK,768*51\nó\n3,2,658,3103221423,T$7,NACK,768*51",null,null,null,"=>","ACK: Recibido/procesado/en proceso, toca la trama NNN\nNACK: No hay trama sin transmitir, la última transmitida fue la NNN",null,null,null,null,"no aplica la respuesta 2 con este telemando"]
[]
[]
["Librería de Telemandos:"]
[null,"Lectura de Definiciones (M$2)","MMB03"]
[null,"lectura D1 Datos","2,65535,658,3103221423,M$2,M3,D*5D"]
[null,"lectura D10 Estado","2,65535,658,3103221423,M$2,M3,E*5C"]
[null,"lectura D10 Umbrales","2,65535,658,3103221423,M$2,M3,U*4C"]
[null,"Lectura D10 conf. Off-Posición","2,65535,658,3103221423,M$2,M3,P*30"]
[null,"Lectura de Definiciones (M$2)","CTD"]
[null,"Lectura D30 Datos","2,65535,658,3103221423,M$2,E1,D*57"]
[null,"Lectura D30 eXtendida","2,65535,658,3103221423,M$2,E1,X*4B"]
[null,"Lectura D30 Umbrales","2,65535,658,3103221423,M$2,E1,U*46"]
[null,"Lectura D31 Estado","2,65535,658,3103221423,M$2,E1,E*56"]
[null,"Lectura de Definiciones (M$2)","ADCP"]
[null,"Lectura D80 Datos","2,65535,658,3103221423,M$2,N1,D*5C"]
[null,"Lectura D80 eXtendia","2,65535,658,3103221423,M$2,N1,X*40"]
[null,"Lectura D80 Umbrales","2,65535,658,3103221423,M$2,N1,U*4D"]
[null,"Lectura D81 Estado","2,65535,658,3103221423,M$2,N1,E*5D"]
[null,"Lectura D80 Conf ADCP","3,65585,658,3103221423,M$2,D80C,ACK*06"]
[null,"Lectura de Definiciones (M$2)","MBW3"]
[null,"Lectura D160  Datos","2,65535,658,3103221423,M$2,M4,D*5A"]
[null,"Lectura D160 eXtendida","2,65535,658,3103221423,M$2,M4,X*46"]
[null,"lectura D160 Umbrales","2,65535,658,3103221423,M$2,M4,U*4B"]
[null,"Lectura D161 y D162 Estado","2,65535,658,3103221423,M$2,M4,E*5B"]
[null,"Lectura de Definiciones (M$2)","EMA"]
[null,"Lectura D120  Datos","2,65535,658,3103221423,M$2,G1,D*54"]
[null,"Lectura D120 eXtendida","2,65535,658,3103221423,M$2,G1,X*48"]
[null,"lectura D120 Umbrales","2,65535,658,3103221423,M$2,G1,U*45"]
[null,"Lectura D120 Estado","2,65535,658,3103221423,M$2,G1,E*55"]
[null,"Escritura de Definiciones (M$3)","MMB03"]
[null,"Escritura D1","2,65535,658,3103221423,M$3,D1D,010422,1,0,600*49"]
[null,"Escritura D10 Estado","2,65535,658,3103221423,M$3,D10E,010422,M3,7,V,V2,2P,F,C,C2,2P,A,1,2P,E,1,2P,S,1,2P,M,M0,1P,P,P8,4A*74"]
[null,"Escritura D10 Umbrales","2,65535,658,3103221423,M$3,D10U,020622,M3,7,1200,1400,100,1000,0,65535,0,65535,0,263,0,80,-1799999999,1799999999*1F"]
[null,"Escritura D10 conf. Off-Posición","2,5,659,3103221423,M$3,D10P,310322,M3,5,-45.87645,-125.4323,4000,3600,900*4F"]
[null,"Escritura de Definiciones (M$3)","CTD"]
[null,"Escritura D30 Datos","2,65535,658,3103221423,M$3,D30D,010422,E1,5,2,60,600,5,52,2P,6,62,2A,7,72,2P,7,73,2P,8,82,2P*63"]
[null,"Escritura D30 eXtendida","2,65535,658,3103221423,M$3,D30X,010422,E1,4,DEPH,TEMP,CNDC,PSAL*2D"]
[null,"Escritura D30 Umbrales","2,65535,658,2705221423,M$3,D30U,010422,E1,5,1,100,10,6000,1,10000,1,60000,2,5000*06"]
[null,"Escritura D31 Estado","2,65535,658,3103221423,M$3,D31E,010422,E1,4,V,V2,2P,3,E1,1,1P,M,M0,1P,E2,1,1P*3D"]
[null,"Escritura de Definiciones (M$3)","ADCP"]
[null,"Escritura D80 Datos","2,65535,658,3103221423,M$3,D80D,010422,N1,2,6,2.0,2.5,1,60,600,9,93,2A,7,3F,6,62,2A*57"]
[null,"Escritura D80 eXtendida","2,65535,658,3103221423,M$3,D80X,010422,N1,4,EWCT,NSCT,VCSP,TEMP*29"]
[null,"Escritura D80 Umbrales","2,65535,658,2705221423,M$3,D80U,010422,N1,2,-10000,10000,1,6000*2C"]
[null,"Escritura D81 Estado","2,65535,658,3103221423,M$3,D81E,010422,N1,3,V,V3,2P,1,5,52,2P,4,41,2A,7*4E"]
[null,"Escritura D80 Conf ADCP ","2,5,659,3103221423M$3,D80C,310322,N1,64,43,43,A5,00,00...,….*6G"]
[null,"Escritura de Definiciones (M$3)","MBW3"]
[null,"Escritura D160 Datos","2,65535,658,3103221423,M$3,D160D,010422,M4,5,1,600,600,1,1,2P,2,22,2P,F,3,31,2P,1F,4,41,2P,3,F,1,1P,3*3C"]
[null,"Escritura D160 Extendida","2,65535,658,3103221423,M$3,D160X,100522,M4,14,VQTY,VMXL,VH110,VAVH,VHM0,VTMX,VTPK,VT110,VAVT,VGTA,VDIR,VPSP,VFL1,VFL"]
[null,"Escritura D160 Umbrales","2,65535,658,2705221423,M$3,D160U,010422,M4,5,1,1000,1,3000,1,1000,0,3599,0,100*0D"]
[null,"Escritura D161 Estado SBG","2,65535,658,3103221423,M$3,D161E,010422,M4,3,M,M0,1P,R,1,1P,E,1,1P*74"]
[null,"Escritura D162 Estado GPS","2,65535,658,3103221423,M$3,D162E,010422,M4,3,P,P8,4A,PS,1,1P,PD,1,1P*6B"]
[null,"Escritura de Definiciones (M$3)","EMA"]
[null,"Escritura D120 Datos","2,65535,658,3103221423,M$3,D120D,010422,G1,8,2,60,600,4,40,2P,13,92,2P,4,40,2P,14,92,2P,11,111,2P,12,M0,1P,6,61,2A,6,61,2A*4F"]
[null,"Escritura D120 Extendida","2,65535,658,3103221423,M$3,D120X,310322,G1,8,WDIR,WSPD,GDIR,GSPD,ATMS,RELH,DRYT,DEWT*4F"]
[null,"Escritura D120 Umbrales","2,65535,658,2705221423,M$3,D120U,310222,G1,8,0,359,0.01,60,0,359,0.01,60,500,1100,0,100,-10,50,-10,50*4F"]
[null,"Escritura D120 Estado ","2,65535,658,3103221423,M$3,D120E,210522,G1,2,V,1,1P,SE,1,2P*4F"]
[null,"Lectura de Paquetes de Datos (T$)"]
[null,"T$1 (grupo de datos)","2,65535,100,2103221423,T$1,2303,2303*76"]
[null,"T$2 (1era trama sin Tx)","2,65535,100,1304221700,T$2*71"]
[null,"T$3 (Última trama medida)","2,65535,100,1304221700,T$3*70"]
[null,"T$4 (Reconf. índice T$2)","2,65535,100,2805221200,T$4,1500*53"]
[null,"Reset de Equipos (M$0)"]
[null,"Reset CTD Trimeter","2,65535,658,3103221423,M$0,E1*3D"]
[null,"Reset ADCP","2,65535,658,3103221423,M$0,N1*36"]
[null,"Reset Waves","2,65535,658,3103221423,M$0,M4*30"]
[null,"Reset General","2,65535,658,3103221423,M$0,M3*37"]
[null,"Lectura de Estado de Equipos (M$1)"]
[null,"Lectura status MMB03","2,65535,658,3103221423,M$1,M3*36"]
[null,"Lectura status CTD","2,65535,658,3103221423,M$1,E1*3C"]
[null,"Lectura status ADCP","2,65535,658,3103221423,M$1,N1*37"]
[null,"Lectura status waves","2,65535,658,3103221423,M$1,M4*31"]
[null,"Lectura status All","2,65535,658,3103221423,M$1,ALL*09"]
[null,"Modo Transparente de Equipos (M$4)"]
[null,"Transparente CTD TRIMETER","2,65535,658,3103221423,M$4,E1*39"]
[null,"Transparente ADCP","2,65535,658,3103221423,M$4,N1*32"]
[null,"Transparente Waves","2,65535,658,3103221423,M$4,M4*31"]
[null,"Medición Inmediata por Equipo (M$5)"]
[null,"Nuevo barrido CTD","2,65535,658,3103221423,M$5,E1*38"]
[null,"Nuevo barrido ADCP","2,65535,658,3103221423,M$5,N1*33"]
[null,"Nuevo barrido Waves","2,65535,658,3103221423,M$5,M4*35"]
[null,"Nuevo barrido general","2,65535,658,3103221423,M$5,ALL*0D"]
[null,"Otros varios"]
[null,"Reset memoria","RESET MEM"]
[null,"Grabacion valores por defecto","DEFECTO"]
[null,"T$5","2,65535,100,2805221200,T$5,2400*50"]
[null,"T$6","2,65535,100,2805221200,T$6,2400*53"]

{"sheet":"trama 1 Tx datos ","index":4,"n_rows":92,"n_cols":299,"rows_kept":92,"cut":false,"hidden":false,"merged":[[2,0,2,8],[4,2,4,3],[4,4,4,5],[4,6,4,9],[4,10,4,11],[5,2,5,3],[5,4,5,5],[5,6,5,9],[5,10,5,11],[6,2,6,3],[6,4,6,5],[6,6,6,9],[6,10,6,11],[7,2,7,3],[7,4,7,5],[7,6,7,9],[7,10,7,11],[8,2,8,3],[8,4,8,5],[8,6,8,9],[8,10,8,11],[9,2,9,3],[9,4,9,5],[9,6,9,9],[9,10,9,11],[10,2,10,3],[10,4,10,5],[10,6,10,9],[10,10,10,11],[18,2,18,3],[18,4,18,5],[18,6,18,9],[18,10,18,11],[18,14,18,15],[18,16,18,17],[18,18,18,19],[18,20,18,21],[18,22,18,23],[19,2,19,3],[19,4,19,5],[19,6,19,9],[19,10,19,11],[19,14,19,15],[19,16,19,17],[19,18,19,19],[19,20,19,21],[19,22,19,23],[20,2,20,3],[20,4,20,5],[20,10,20,11],[20,14,20,15],[20,16,20,17],[20,18,20,19],[20,20,20,21],[20,22,20,23],[22,14,22,16],[36,0,36,3],[36,6,36,7],[36,16,36,17],[39,9,42,9],[39,10,42,10],[39,11,42,11],[43,9,47,9],[43,10,47,10],[43,11,47,11],[48,9,54,9],[48,10,54,10],[48,11,54,11],[54,6,64,6],[56,9,59,9],[56,10,59,10],[56,11,59,11],[63,9,65,9],[63,10,65,10]]}
[null,null,null,null,null,"Bytes de 8 bit","Bits","Bytes de 6 bit"]
["1. TRAMA SALIDA DE DATOS DEL DATALOGGER",null,null,null,null,{"$f":"SUM(B10:N10)","v":104},{"$f":"F2*8","v":832},{"$f":"ROUNDUP(G2/6,0)","v":139}]
["En esta trama se transmiten los datos identificadores de la boya, la fecha maestra de la trama y la trama de todos los sensores.\nNO están separados por comas, se identifican según su posición y se transmite en BIN"]
[]
[null,"ID TRAMA","ID Estación",null,"Nro de Paquete",null,"Fecha",null,null,null,"Longitud Total de la Trama",null,"Grupo de tramas de cada Equipo","Checksum"]
["Unidad","Id de la Trama","Id de la Estación",null,"Contador",null,"DDMMAAhhmm",null,null,null,"Longitud desde el byte 12 hasta antes del *del checksum",null,"Definido en la configuración de cada sensor","Suma de todos los bytes"]
["Valor Min.",1,0,null,0,null,"0101200000",null,null,null,0,null,0,0,null,"1 byte",255]
["Valor Max.",9,65535,null,65535,null,3112992359,null,null,null,65535,null,65535,65535,null,"2 bytes",65535,null,null,"dec",75]
["Posición trama a tx",1,{"$f":"B9+B10","v":2},null,{"$f":"C9+C10","v":4},null,{"$f":"E9+E10","v":6},null,null,null,{"$f":"G10+G9","v":10},null,{"$f":"K10+K9","v":12},{"$f":"M10+M9","v":103},null,"3 bytes",16777215,null,null,"hex",{"$f":"DEC2HEX(U8)","v":"4B"}]
["bytes a tx",1,2,null,2,null,4,null,null,null,2,null,{"$f":"Waves!D12+'CTD Trimeter'!D8+ADCP!D17+EMA!D8","v":91},2,null,"4 bytes",{"$f":"4294967295","v":4294967295},null,null,"ascii",{"$f":"CHAR(U8)","v":"K"}]
["Ejm. completo",1,15,null,658,null,3103221345,null,null,null,{"$f":"M10","v":91},null,"un verguero","*AF"]
[]
["EJEMPLO DE DESCODIFICACIÓN:"]
["Tx","2,65535,100,200422100,T$2*46<CR>"]
["Rx 1","3,21587,100,200422100,T$2,ACK*2B<CR><LF>"]
["Rx 2","01 54 53 03 5A 0C 3B 6D 14 00 29 A0 0A 00 04 00 02 00 02 00 02 00 02 01 14 00 7E 01 04 00 FC 00 E3 01 09 02 43 64 64 06 3A 01 54 53 03 5B 0C 3B 6D 1E 00 29 A0 0A 00 03 00 02 00 02 00 02 00 02 00 F9 00 F0 00 F9 00 F9 00 D8 0B B9 02 41 64 64 09 38 01 54 53 03 5C 0C 3B 6D 50 00 29 A0 0A 00 02 00 02 00 02 00 02 00 02 00 9D 00 9D 00 95 00 95 00 99 04 7E 02 0F 64 64 07 40 01 54 53 03 5D 0C 3B 6D 5A 00 29 A0 0A 00 04 00 02 00 02 00 02 00 02 00 F7 00 B9 00 59 00 A8 00 B8 03 89 03 32 64 64 07 E7 "]
[null,1,2,3,4,5,6,7,8,9,10,11,12,13,14,15,16,17,18,19,20,21,22,23,24,25,26,27,28,29,30,31,32,33,34,35,36,37,38,39,40,41,42,43,44,45,46,47,48,49,50,51,52,53,54,55,56,57,58,59,60,61,62,63,64,65,66,67,68,69,70,71,72,73,74,75,76,77,78,79,80,81,82,83,84,85,86,87,88,89,90,91,92,93,94,95,96,97,98,99,100,101,102,103,104,105,106,107,108,109,110,111,112,113,114,115,116,117,118,119,120,121,122,123,124,125,126,127,128,129,130,131,132,133,134,135,136,137,138,139,140,141,142,143,144,145,146,147,148,149,150,151,152,153,154,155,156,157,158,159,160,161,162,163,164,165,166,167,168,169,170,171,172,173,174,175,176,177,178,179,180,181,182,183,184,185,186,187,188,189,190,191,192,193,194,195,196,197,198,199,200,201,202,203,204,205,206,207,208,209,210,211,212,213,214,215,216,217,218,219,220,221,222,223,224,225,226,227,228,229,230,231,232,233,234,235,236,237,238,239,240,241,242,243,244,245,246,247,248,249,250,251,252,253,254,255,256,257,258,259,260,261,262,263,264,265,266,267,268,269,270,271,272,273,274,275,276,277,278,279,280,281,282,283,284,285,286,287,288,289,290,291,292,293,294,295,296,297,298]
["HEX",1,0,3,"0C",12,83,80,42,28,1,"0D","A0",0,"FF","FF","FF","FF","FF","FF","FF","FF","FF","FF","FF","FF","FF","FF","FF","FF","FF","FF","FF","FF",0,0,0,0,0,0,50,0,"FA",42,"FE","C0","FC","9A",4,33,"FD","8C","F8","2D",0,91,"FC",43,"FC",76,0,65,"FD","4B","F9","F3",2,44,"FE","0B","F8","3D",1,27,"FA",50,"FA",41,9,"EE",50,2,"FB","EB","FD",27,"FE",41,3,"D7","FC","1D","F9","E2","FF","DD","FD",73,"FA","BD","FF",12,"FF","C0","FA","D1",0,75,"FB","D6","F8","F5","FE",26,"FA","E0","F8","C2",9,"ED",50,4,"F8","E5","FF",5,"FC","AC","FE","9B","F8","FE","FC","C4",4,"7E","FB","1D","FE",8,1,"4E","FD",33,"FE",62,3,"6E",0,"A6","FB","E8","FE","E8","FD","3C","F8",31,9,"EB",50,6,"F9","3D","FD","C5","FB","FD","FE","EF","FF",37,"F8",52,2,71,0,0,"FA","9C","FD",74,"FD","F8","FB",17,"FA",74,"FB","E8","F7","0E","FC","C7","FC","D8","F7","A0",9,"EA",50,8,"FB",58,"FA",86,"FF",35,1,"4E","FC","AE","F7","CE",0,"EB","FE","1C","F7","5A",0,16,"FB","EE","FB",9,"FF","EF","FD",37,"F9","CE","FF",12,"F9","B5","F5",91,9,"E8","A0","0A",0,1,0,3,0,3,0,3,0,3,0,"FB",0,"FB",0,"FB",0,"FB",0,"FB",1,"0B",0,0,64,64,98,"6C"]
["HEX",{"$f":"TEXT(B18,\"00\")","v":"01"},{"$f":"CONCATENATE(TEXT(C18,\"00\"),TEXT(D18,\"00\"))","v":"0003"},null,{"$f":"CONCATENATE(TEXT(E18,\"00\"),TEXT(F18,\"00\"))","v":"0C12"},null,{"$f":"CONCATENATE(TEXT(G18,\"00\"),TEXT(H18,\"00\"),TEXT(I18,\"00\"),TEXT(J18,\"00\"))","v":"83804228"},null,null,null,{"$f":"CONCATENATE(TEXT(K18,\"00\"),TEXT(L18,\"00\"))","v":"010D"},null,{"$f":"TEXT(M18,\"00\")","v":"A0"},{"$f":"TEXT(N18,\"00\")","v":"00"},{"$f":"CONCATENATE(O18,P18)","v":"FFFF"},null,{"$f":"CONCATENATE(Q18,R18)","v":"FFFF"},null,{"$f":"CONCATENATE(S18,T18)","v":"FFFF"},null,{"$f":"CONCATENATE(U18,V18)","v":"FFFF"},null,{"$f":"CONCATENATE(W18,X18)","v":"FFFF"}]
["DEC",{"$f":"HEX2DEC(B19)","v":1},{"$f":"HEX2DEC(C19)","v":3},null,{"$f":"HEX2DEC(E19)","v":3090},null,{"$f":"TEXT(HEX2DEC(G19),\"0000000000\")","v":"2206220840"},null,null,null,{"$f":"HEX2DEC(K19)","v":269},null,{"$f":"HEX2DEC(M19)","v":160},{"$f":"HEX2DEC(N19)","v":0},{"$f":"HEX2DEC(O19)","v":65535},null,{"$f":"HEX2DEC(Q19)","v":65535},null,{"$f":"HEX2DEC(S19)","v":65535},null,{"$f":"HEX2DEC(U19)","v":65535},null,{"$f":"HEX2DEC(W19)","v":65535}]
[null,{"$f":"B20","v":1},{"$f":"C20","v":3},null,{"$f":"E20","v":3090},null,null,{"$f":"DATE(MID(G20,5,2)+100,MID(G20,3,2),MID(G20,1,2))","v":"2022-06-22"},{"$f":"TIME(LEFT(RIGHT(G20,4),2),RIGHT(RIGHT(G20,4),2),)","v":"08:40:00"},null,{"$f":"K20","v":269},null,{"$f":"M20","v":160},{"$f":"N20","v":0},{"$f":"O20","v":65535},null,{"$f":"Q20","v":65535},null,{"$f":"S20","v":65535},null,{"$f":"U20","v":65535},null,{"$f":"W20","v":65535}]
[null,null,null,null,null,874]
[null,null,null,null,null,null,null,null,null,"Actual","Max",null,null,null,"Cant.total de bytes por equipo"]
["3. TRAMA CONFIGURACIÓN DE LA ESTACIÓN",null,null,{"$f":"LEN(CONCATENATE(B33,C33,D33,E33,F33,J33))+J27","v":26},{"$f":"SUM(B32:J32)+J27","v":35},null,null,null,"TOTAL DE BYTES EN TRAMAS DE CONFIGURACIÓN (DEF)",{"$f":"D24+Waves!D32+'CTD Trimeter'!D28+ADCP!D38","v":211},{"$f":"E24+Waves!E32+'CTD Trimeter'!E28+ADCP!E38","v":256},null,null,"Equipo","ADCP","CTD","MBW"]
["Esta trama define como está configurada la trama general, la cual se trata de que sea estandar.\nEstá separado por comas y se transmite en ASCII (azul)",null,null,null,null,null,null,null,null,null,null,null,null,"Id (hex)",50,"1E","A0"]
[null,null,null,null,null,null,null,null,null,null,null,null,null,"ID (dec)",80,30,160,null,null,null,null,null,51,52,53,54,55,56,57,58,59,60]
["Posición del Campo",1,2,3,4,5,6,7,8,9,null,null,null,null,null,"Bytes",40,10,28,null,null,null,null,null,0,"E8",0,"E8",0,"DB",0,"DB",0,"E2"]
["DESCRIPCIÓN","TIPO DE TRAMA","FECHA DEF TRAMA","DEF.EQUIPO","CANTIDAD EQUIPOS","FRECUENCIA DE TRANSMISIÓN","DELAY DE RESPUESTA A TELEMANDO","DELAY PARA CERRAR PAQUETE DE DATOS","PAQUETES DIARIOS MAXIMOS","Checksum"]
["Unidad","Id de la Trama","Nombre del Equipo","ID de la Estación","Cantidad","Segundos","Segundos","Segundos","Cantidad","Cantidad"]
["Valor Min.","D0",null,null,1,1,1,1]
["Valor Max.","D9",null,null,32,3600,99,999]
["bytes a tx",2,6,3,1,4,2,3,3,2]
["Ejm. completo","D1D",210522,1,4,1800,15,60,300,"0F"]
[null,"D1D",10422,1,4,1800,10,120,300,7]
[]
["NOTAS:"]
["Cabeceras para los ID \nde las tramas de los sensores:",null,null,null,null,null,"DEF.EQUIPO\n3 CARACTERES MAX.",null,null,"NOMBRE TIPO DE VARIABLE\n2 CARACTERES MAX",null,null,null,null,null,null,"UNIDAD VARIABLE\n3 CARACTERES MAX."]
["ID  Desde","ID Hasta","Equipo","Cant. ID pervistos",null,null,"ID","Equipo",null,"ID","Nombre Genérico de la Variable","Mask","Variab.\nDetalle","Abrev.","Unidad DB",null,"ID","Equipo"]
[1,{"$f":"A39+D39-1","v":9},"Trama General",9,null,null,"ALL","Todos los equipos",null,1,"NÚMERO DE OLAS","N",null,"VQTY","cantidad",null,1,"ADIMENSIONAL"]
[10,{"$f":"A40+D40-1","v":29},"MMB03",20,null,null,"A1","EMA Airmar 200WX",null,2,"ALTURA DE OLAS","S","H.Max.","VMXL","m",null,"V0","Voltios"]
[{"$f":"B40+1","v":30},{"$f":"A41+D41-1","v":79},"CTDs",50,null,null,"ATN","CPU AtoN",null,null,null,null,"H.Sig.1/10","VH110","m",null,"V1","V*10^-1"]
[{"$f":"B41+1","v":80},{"$f":"A42+D42-1","v":119},"ADCP",40,null,null,"E1","TRIMETER",null,null,null,null,"H.Sig.1/3","VAVH","m",null,"V2","V*10^-2"]
[{"$f":"B42+1","v":120},{"$f":"A43+D43-1","v":159},"EMA",40,null,null,"G1","EMA Gill GMX500",null,null,null,null,"H.Med.","VHM0","m",null,"C0","Amperios"]
[{"$f":"B43+1","v":160},{"$f":"A44+D44-1","v":169},"WAVE",10,null,null,"N1","AQD600",null,3,"PERIODO","S","T.Max","VTMX","seg",null,"C1","A*10^-1"]
[{"$f":"B44+1","v":170},{"$f":"A45+D45-1","v":179},"MTW1",10,null,null,"M0","ESTACIÓN COMPLETA",null,null,null,null,"T.Pico","VTPK","seg",null,"C2","A*10^-2"]
[{"$f":"B45+1","v":180},{"$f":"A46+D46-1","v":189},"AtoN",10,null,null,"M1","MTW1",null,null,null,null,"T.Sig.1/10","VT110","seg",null,"C3","A*10^-3"]
[{"$f":"B46+1","v":190},255,"Otros (disponible)",{"$f":"B47-A47","v":65},null,null,"M2","MMB02",null,null,null,null,"T.Sig.1/3","VAVT","seg",null,"M0","Porcentaje"]
[null,null,"TOTAL",{"$f":"SUM(D39:D46)","v":189},null,null,"M3","MMB03",null,null,null,null,"T.Med.","VGTA","seg",null,"P0","Grados"]
[null,null,null,null,null,null,"M4","MBW3",null,4,"ANGULAR","S","Dir.Oleaje","VDIR","º",null,"FHG","Fecha y hora DDMMYYhhmm"]
[null,null,null,null,null,null,"M5","MCL360",null,null,null,null,"Disper.Oleaje","VPSP","º",null,20,"Metros"]
["Diccionario de Tramas Implementadas",null,null,null,null,null,"MT1","Modem MTX",null,null,null,null,"Heading","AHDG","º",null,21,"dm"]
["Nro (Dec)","Nro (Hex)","Trama",null,null,null,"IR1","Modem IRIDIUM",null,null,null,null,"Pitch","APIT","º",null,22,"cm"]
[1,{"$f":"DEC2HEX(A53,2)","v":"01"},"Tx de datos desde la estación",null,null,null,null,null,null,null,null,null,"Roll","AROL","º",null,23,"mm"]
[2,{"$f":"DEC2HEX(A54,2)","v":"02"},"Telemando desde el Servidor",null,null,null,null,null,null,null,null,null,"Dir.Viento","WDIR","º"]
[3,{"$f":"DEC2HEX(A55,2)","v":"03"},"Respuesta de telemando desde la Estación",null,null,null,"MARCA","A: AIRMAR",null,null,null,null,"Dir.Ráfaga","GDIR","º"]
[10,{"$f":"DEC2HEX(A56,2)","v":"0A"},"Trama de Estado de la MMB03",null,null,null,null,"E: EUREKA",null,5,"PROFUNDIDAD","N",null,"DEPH","m",null,30,"Segundos"]
[30,{"$f":"DEC2HEX(A57,2)","v":"1E"},"Trama de datos del CTD Trimeter",null,null,null,null,"G: GILL",null,6,"TEMPERATURA","N","Temp.agua","TEMP","ºC",null,31,"Seg*10^-1"]
[31,{"$f":"DEC2HEX(A58,2)","v":"1F"},"Trama de Estado del CTD",null,null,null,null,"N: NORTEK",null,null,null,null,"Temp.bulbo hum.","WETT","ºC"]
[80,{"$f":"DEC2HEX(A59,2)","v":"50"},"Trama de datos ADCP AQD600",null,null,null,null,"M: MSM",null,null,null,null,"Temp.bulbo seco","DRYT","ºC"]
[81,{"$f":"DEC2HEX(A60,2)","v":"51"},"Trama de Estado del ADCP",null,null,null,null,"MT: Matrix",null,null,null,null,"Pto. De rocío","DEWT","ºC"]
[120,{"$f":"DEC2HEX(A61,2)","v":"78"},"Trama de Datos de la EMA Gill ",null,null,null,null,"R: RBR",null,7,"CONDUCTIVIDAD","N",null,"CNDC","ms/cm",null,32,"Seg*10^-2"]
[121,{"$f":"DEC2HEX(A62,2)","v":"79"},"Trama de Estado de la EMA Gill",null,null,null,null,"S: SBE",null,71,"CONDUCTIVIDAD","N",null,"CNDU","ms/cm",null,40,"Grados"]
[122,{"$f":"DEC2HEX(A63,2)","v":"7A"},"Trama de Datos de la EMA AIRMAR",null,null,null,null,"SN: SONARDYNE",null,8,"SALINIDAD","N",null,"PSAL","PSU",null,41,"Décimas de grado (ºC*10^-1)"]
[123,{"$f":"DEC2HEX(A64,2)","v":"7B"},"Trama de Estado de la EMA AIRMAR",null,null,null,null,"T: TELEDYNE",null,9,"CORRIENTE SUBMARINA","Sx2","Vel.Este","EWCT","m/s",null,50,"Metros"]
[160,{"$f":"DEC2HEX(A65,2)","v":"A0"},"Trama de datos de la MBW3",null,null,null,null,"IR: IRIDIUM",null,null,null,"Sx2","Vel.Norte","NSCT","m/s",null,51,"dm"]
[161,{"$f":"DEC2HEX(A66,2)","v":"A1"},"Trama de Estado de la MBW3",null,null,null,null,null,null,null,null,"Sx2","Vel.Arriba","VCSP","m/s",null,52,"cm"]
[162,{"$f":"DEC2HEX(A67,2)","v":"A2"},"Trama de Estado del GPS de la MBW3",null,null,null,null,null,null,10,"ODO","N",null,null,null,null,53,"mm"]
[null,null,null,null,null,null,null,null,null,11,"PRESIÓN ATMOSFERICA","N",null,null,"hPa",null,60,"ºC"]
[null,null,null,null,null,null,null,null,null,12,"HUMEDAD RELATIVA","N",null,"RELH","%",null,61,"ºC*10^-1"]
[null,null,null,null,null,null,null,null,null,13,"VELOCIDAD DEL VIENTO","N",null,"WSPD","m/s",null,62,"ºC*10^-2"]
[null,null,null,null,null,null,null,null,null,14,"VELOCIDAD DE RÁFAGA","N",null,"GSPD","m/s",null,63,"ºC*10^-3"]
[null,null,null,null,null,null,null,null,null,15,"TURBIDEZ",null,null,"TUR4","FNU",null,70,"mS/cm"]
[null,null,null,null,null,null,null,null,null,16,null,null,null,null,null,null,71,"mS/cm*10^-1"]
[null,null,null,null,null,null,null,null,null,17,null,null,null,null,null,null,72,"mS/cm*10^-2"]
[null,null,null,null,null,null,null,null,null,null,null,null,null,null,null,null,73,"uS/cm"]
[null,null,null,null,null,null,null,null,null,"A","ALARMAS","N",null,null,"binario",null,80,"PSU"]
[null,null,null,null,null,null,null,null,null,"C","CORRIENTE ELÉCTRICA","N",null,null,"A",null,81,"PSU*10^-1"]
[null,null,null,null,null,null,null,null,null,"E","ESTADO ENTRADA/EQUIPO","N",null,null,"binario",null,82,"PSU*10^-2"]
[null,null,null,null,null,null,null,null,null,"E1","CANT.SENSORES","N",null,null,"cantidad",null,83,"PSU*10^-3"]
[null,null,null,null,null,null,null,null,null,"E2","CANT.ARCHIVOS","N",null,null,"cantidad",null,90,"m/s"]
[null,null,null,null,null,null,null,null,null,"F","FLAG","S","Flag1 Wave","VLF1","binario",null,91,"m/s*10^-1"]
[null,null,null,null,null,null,null,null,null,null,null,null,"Flag2 Wave","VLF2","binario",null,92,"m/s*10^-2"]
[null,null,null,null,null,null,null,null,null,"F1","FECHA HORA UTC","N",null,null,"GFH",null,93,"mm/s"]
[null,null,null,null,null,null,null,null,null,"M","MEMORIA","N",null,null,"%",null,110,"hPa"]
[null,null,null,null,null,null,null,null,null,"P","POSICIÓN","Nx2",null,null,"º",null,111,"hPa x 10-1"]
[null,null,null,null,null,null,null,null,null,"PS","CANT.SATELITES","N",null,null,"cantidad",null,112,"hPa x 10-2"]
[null,null,null,null,null,null,null,null,null,"PQ","PDOP","N",null,null,"cantidad",null,113,"hPa x 10-3"]
[null,null,null,null,null,null,null,null,null,"R","REINICIOS","N",null,null,"cantidad",null,150,"FNU"]
[null,null,null,null,null,null,null,null,null,"S","SINCRONIZACIÓN","N",null,null,"binario",null,151,"FNU x 10-1"]
[null,null,null,null,null,null,null,null,null,"V","VOLTAJE","S",null,null,"Voltios",null,152,"FNU x 10-2"]
[null,null,null,null,null,null,null,null,null,"D","DISTANCIA","N",null,"DIST","m",null,153,"FNU x 10-3"]
[null,null,null,null,null,null,null,null,null,"SE","SENSOR ESTATUS",null,null,null,null,null,"D0","metros"]

{"sheet":"ADCP","index":5,"n_rows":88,"n_cols":339,"rows_kept":88,"cut":false,"hidden":false,"merged":[[4,31,4,42],[4,71,4,82],[4,111,4,122],[6,3,6,4],[6,11,6,12],[6,13,6,14],[6,15,6,16],[6,17,6,18],[6,19,6,20],[6,21,6,22],[6,23,6,24],[6,27,6,28],[6,29,6,30],[6,31,6,32],[6,33,6,34],[6,35,6,36],[6,37,6,38],[6,39,6,40],[6,41,6,42],[6,43,6,44],[6,45,6,46],[6,47,6,48],[6,49,6,50],[6,51,6,52],[6,53,6,54],[6,55,6,56],[6,57,6,58],[6,59,6,60],[6,61,6,62],[6,63,6,64],[6,65,6,66],[6,67,6,68],[6,69,6,70],[6,71,6,72],[6,73,6,74],[6,75,6,76],[6,77,6,78],[6,79,6,80],[6,81,6,82],[6,83,6,84],[6,85,6,86],[6,87,6,88],[6,89,6,90],[6,91,6,92],[6,93,6,94],[6,95,6,96],[6,97,6,98],[6,99,6,100],[6,101,6,102],[6,103,6,104],[6,105,6,106],[6,107,6,108],[6,109,6,110],[6,111,6,112],[6,113,6,114],[6,115,6,116],[6,117,6,118],[6,119,6,120],[6,121,6,122],[6,123,6,124],[6,125,6,126],[6,127,6,128],[6,129,6,130],[6,131,6,132],[6,133,6,134],[6,135,6,136],[6,137,6,138],[6,139,6,140],[6,141,6,142],[6,143,6,144],[6,145,6,146],[6,147,6,148],[6,149,6,150],[6,211,6,212],[6,237,6,238],[6,239,6,240],[6,241,6,242],[6,243,6,244],[6,245,6,246],[6,247,6,248],[6,249,6,250],[6,251,6,252],[6,253,6,254],[6,255,6,256],[6,257,6,258],[6,259,6,260],[6,261,6,262],[6,263,6,264],[6,265,6,266],[6,267,6,268],[6,269,6,270],[6,271,6,272],[6,273,6,274],[6,275,6,276],[6,277,6,278],[6,279,6,280],[6,281,6,282],[6,283,6,284],[6,285,6,286],[6,287,6,288],[6,289,6,290],[6,291,6,292],[6,293,6,294],[6,295,6,296],[6,297,6,298],[6,299,6,300],[6,301,6,302],[6,303,6,304],[6,305,6,306],[6,307,6,308],[6,309,6,310],[6,311,6,312],[6,313,6,314],[6,315,6,316],[6,317,6,318],[6,319,6,320],[6,321,6,322],[6,323,6,324],[6,325,6,326],[6,327,6,328],[6,329,6,330],[6,331,6,332],[6,333,6,334],[6,335,6,336],[6,337,6,338],[10,3,10,4],[10,15,10,16],[10,17,10,18],[10,19,10,20],[10,21,10,22],[10,23,10,24],[10,27,10,28],[10,29,10,30],[10,31,10,32],[10,33,10,34],[10,35,10,36],[10,37,10,38],[10,39,10,40],[10,41,10,42],[10,43,10,44],[10,45,10,46],[10,47,10,48],[10,49,10,50],[10,51,10,52],[10,53,10,54],[10,55,10,56],[10,57,10,58],[10,59,10,60],[10,61,10,62],[10,63,10,64],[10,65,10,66],[10,67,10,68],[10,69,10,70],[10,71,10,72],[10,73,10,74],[10,75,10,76],[10,77,10,78],[10,79,10,80],[10,81,10,82],[10,83,10,84],[10,85,10,86],[10,87,10,88],[10,89,10,90],[10,91,10,92],[10,93,10,94],[10,95,10,96],[10,97,10,98],[10,99,10,100],[10,101,10,102],[10,103,10,104],[10,105,10,106],[10,107,10,108],[10,109,10,110],[10,111,10,112],[10,113,10,114],[10,115,10,116],[10,117,10,118],[10,119,10,120],[10,121,10,122],[10,123,10,124],[10,125,10,126],[10,127,10,128],[10,129,10,130],[10,131,10,132],[10,133,10,134],[10,135,10,136],[10,137,10,138],[10,139,10,140],[10,141,10,142],[10,143,10,144],[10,145,10,146],[10,147,10,148],[10,149,10,150],[10,211,10,212],[10,213,10,214],[10,215,10,216],[10,217,10,218],[10,219,10,220],[10,221,10,222],[10,223,10,224],[10,225,10,226],[10,227,10,228],[10,229,10,230],[10,231,10,232],[10,233,10,234],[10,235,10,236],[11,3,11,4],[11,11,11,12],[11,13,11,14],[11,15,11,16],[11,17,11,18],[11,19,11,20],[11,21,11,22],[11,23,11,24],[11,27,11,28],[11,29,11,30],[11,31,11,32],[11,33,11,34],[11,35,11,36],[11,37,11,38],[11,39,11,40],[11,41,11,42],[11,43,11,44],[11,45,11,46],[11,47,11,48],[11,49,11,50],[11,51,11,52],[11,53,11,54],[11,55,11,56],[11,57,11,58],[11,59,11,60],[11,61,11,62],[11,63,11,64],[11,65,11,66],[11,67,11,68],[11,69,11,70],[11,71,11,72],[11,73,11,74],[11,75,11,76],[11,77,11,78],[11,79,11,80],[11,81,11,82],[11,83,11,84],[11,85,11,86],[11,87,11,88],[11,89,11,90],[11,91,11,92],[11,93,11,94],[11,95,11,96],[11,97,11,98],[11,99,11,100],[11,101,11,102],[11,103,11,104],[11,105,11,106],[11,107,11,108],[11,109,11,110],[11,111,11,112],[11,113,11,114],[11,115,11,116],[11,117,11,118],[11,119,11,120],[11,121,11,122],[11,123,11,124],[11,125,11,126],[11,127,11,128],[11,129,11,130],[11,131,11,132],[11,133,11,134],[11,135,11,136],[11,137,11,138],[11,139,11,140],[11,141,11,142],[11,143,11,144],[11,145,11,146],[11,147,11,148],[11,149,11,150],[11,211,11,212],[11,213,11,214],[11,215,11,216],[11,217,11,218],[11,219,11,220],[11,221,11,222],[11,223,11,224],[11,225,11,226],[11,227,11,228],[11,229,11,230],[11,231,11,232],[11,233,11,234],[11,235,11,236],[12,3,12,4],[12,5,12,10],[12,121,12,122],[16,57,16,58],[18,3,18,4],[18,5,18,6],[18,8,18,9],[18,10,18,11],[18,12,18,13],[19,3,19,4],[19,5,19,6],[19,8,19,9],[19,10,19,11],[19,12,19,13],[19,57,19,58],[20,3,20,4],[20,5,20,6],[20,8,20,9],[20,10,20,11],[20,12,20,13],[20,57,20,58],[21,3,21,4],[21,5,21,6],[21,8,21,9],[21,10,21,11],[21,12,21,13],[22,3,22,4],[22,5,22,6],[22,8,22,9],[22,10,22,11],[22,12,22,13],[23,3,23,4],[23,5,23,6],[23,8,23,9],[23,10,23,11],[23,12,23,13],[24,3,24,4],[24,5,24,6],[24,8,24,9],[24,10,24,11],[24,12,24,13],[25,3,25,4],[25,5,25,6],[25,8,25,9],[25,10,25,11],[25,12,25,13],[26,3,26,4],[26,5,26,6],[26,8,26,9],[26,10,26,11],[26,12,26,13],[29,3,29,4],[29,5,29,6],[29,7,29,8],[29,9,29,10],[29,11,29,12],[29,13,29,14],[29,15,29,16],[29,17,29,18],[29,19,29,20],[29,21,29,22],[29,23,29,24],[29,25,29,26],[29,27,29,28],[29,29,29,30],[29,31,29,32],[29,33,29,34],[29,35,29,36],[29,37,29,38],[29,39,29,40],[29,41,29,42],[29,43,29,44],[29,45,29,46],[29,47,29,48],[29,49,29,50],[29,51,29,52],[29,53,29,54],[29,55,29,56],[29,57,29,58],[29,59,29,60],[29,61,29,62],[29,63,29,64],[29,65,29,66],[29,67,29,68],[29,69,29,70],[29,71,29,72],[29,73,29,74],[29,75,29,76],[29,77,29,78],[29,79,29,80],[29,81,29,82],[29,83,29,84],[29,85,29,86],[29,87,29,88],[29,89,29,90],[29,91,29,92],[29,93,29,94],[29,95,29,96],[29,97,29,98],[29,99,29,100],[29,101,29,102],[29,103,29,104],[29,105,29,106],[29,107,29,108],[29,109,29,110],[29,111,29,112],[29,113,29,114],[29,115,29,116],[29,117,29,118],[29,119,29,120],[29,121,29,122],[32,3,32,4],[32,5,32,6],[32,7,32,8],[32,9,32,10],[32,11,32,12],[32,13,32,14],[32,15,32,16],[32,17,32,18],[32,19,32,20],[32,21,32,22],[32,23,32,24],[32,25,32,26],[32,27,32,28],[32,29,32,30],[32,31,32,32],[32,33,32,34],[32,35,32,36],[32,37,32,38],[32,39,32,40],[32,41,32,42],[32,43,32,44],[32,45,32,46],[32,47,32,48],[32,49,32,50],[32,51,32,52],[32,53,32,54],[32,55,32,56],[32,57,32,58],[32,59,32,60],[32,61,32,62],[32,63,32,64],[32,65,32,66],[32,67,32,68],[32,69,32,70],[32,71,32,72],[32,73,32,74],[32,75,32,76],[32,77,32,78],[32,79,32,80],[32,81,32,82],[32,83,32,84],[32,85,32,86],[32,87,32,88],[32,89,32,90],[32,91,32,92],[32,93,32,94],[32,95,32,96],[32,97,32,98],[32,99,32,100],[32,101,32,102],[32,103,32,104],[32,105,32,106],[32,107,32,108],[32,109,32,110],[32,111,32,112],[32,113,32,114],[32,115,32,116],[32,117,32,118],[32,119,32,120],[32,121,32,122],[33,3,33,4],[33,5,33,6],[33,7,33,8],[33,9,33,10],[33,11,33,12],[33,13,33,14],[33,15,33,16],[33,17,33,18],[33,19,33,20],[33,21,33,22],[33,23,33,24],[33,25,33,26],[33,27,33,28],[33,29,33,30],[33,31,33,32],[33,33,33,34],[33,35,33,36],[33,37,33,38],[33,39,33,40],[33,41,33,42],[33,43,33,44],[33,45,33,46],[33,47,33,48],[33,49,33,50],[33,51,33,52],[33,53,33,54],[33,55,33,56],[33,57,33,58],[33,59,33,60],[33,61,33,62],[33,63,33,64],[33,65,33,66],[33,67,33,68],[33,69,33,70],[33,71,33,72],[33,73,33,74],[33,75,33,76],[33,77,33,78],[33,79,33,80],[33,81,33,82],[33,83,33,84],[33,85,33,86],[33,87,33,88],[33,89,33,90],[33,91,33,92],[33,93,33,94],[33,95,33,96],[33,97,33,98],[33,99,33,100],[33,101,33,102],[33,103,33,104],[33,105,33,106],[33,107,33,108],[33,109,33,110],[33,111,33,112],[33,113,33,114],[33,115,33,116],[33,117,33,118],[33,119,33,120],[33,121,33,122],[34,3,34,4],[34,5,34,6],[34,7,34,8],[34,9,34,10],[34,11,34,12],[34,13,34,14],[34,15,34,16],[34,17,34,18],[34,27,34,28],[34,29,34,30],[34,31,34,32],[34,33,34,34],[38,0,38,7],[40,4,40,14],[40,15,40,17],[51,0,51,6],[64,0,64,7],[78,0,78,7]]}
[]
["1. TRAMA SALIDA DE DATOS DEL SENSOR EN HEX Y SU INTREPETACIÓN"]
[null,null,null,"2022-01-31","12:07:02"]
["Ejm:","A5 21 6A 00 27 15 21 14 23 03 00 00 00 00 85 00 9F 3B AD 00 0E 00 D7 FF 00 31 87 00 85 08 38 FF 42 FD 9F FE 0E FF 4D 00 E1 00 8C 00 65 FD 0B 01 44 FF BA FD 3B FE 20 FE F3 00 96 00 E5 FE DD 01 56 00 87 01 FE FE 22 00 0A FF FA FB 93 FF D0 FC 45 FB E4 FF D3 FB A8 FD B2 FD FE F9 51 FE EF FE 47 FF EA FB 51 FE 37 FD 15 FD BC FB 11 FF 0E 01 38 06 2F 06 52 07 44 06 68 06 6E 06 19 06 5E 06 0A 07 13 06 C1 06 AA 06 71 06 CA 06 33 06 EA 06 C4 05 BC 06 64 06 19 06 06 06 06 06 06 06 06 06 06 06 06 06 06 06 06 06 06 06 22 06 06 06 06 06 06 06 06 06 06 06 06 06 06 06 06 06 06 06 13 06 06 06 06 06 06 06 06 06 06 06 06 06 06 06 06 06 06 06 5C 72"]
[null,null,null,null,null,null,null,null,null,null,null,null,null,null,null,null,null,null,null,null,null,null,null,null,null,null,null,null,null,null,null,"VELOCIDAD ESTE",null,null,null,null,null,null,null,null,null,null,null,null,null,null,null,null,null,null,null,null,null,null,null,null,null,null,null,null,null,null,null,null,null,null,null,null,null,null,null,"VELOCIDAD NORTE",null,null,null,null,null,null,null,null,null,null,null,null,null,null,null,null,null,null,null,null,null,null,null,null,null,null,null,null,null,null,null,null,null,null,null,null,null,null,null,"VELOCIDAD ARRIBA"]
["POS",0,1,2,3,4,5,6,7,8,9,10,11,12,13,14,15,16,17,18,19,20,21,22,23,24,25,26,27,28,29,30,31,32,33,34,35,36,37,38,39,40,41,42,43,44,45,46,47,48,49,50,51,52,53,54,55,56,57,58,59,60,61,62,63,64,65,66,67,68,69,70,71,72,73,74,75,76,77,78,79,80,81,82,83,84,85,86,87,88,89,90,91,92,93,94,95,96,97,98,99,100,101,102,103,104,105,106,107,108,109,110,111,112,113,114,115,116,117,118,119,120,121,122,123,124,125,126,127,128,129,130,131,132,133,134,135,136,137,138,139,140,141,142,143,144,145,146,147,148,149,150,151,152,153,154,155,156,157,158,159,160,161,162,163,164,165,166,167,168,169,170,171,172,173,174,175,176,177,178,179,180,181,182,183,184,185,186,187,188,189,190,191,192,193,194,195,196,197,198,199,200,201,202,203,204,205,206,207,208,209,210,211]
[null,"Sinc","ID trama","Size (nro de palabras)",null,"Minute","Second","Day","hour","year","month","Error",null,"Ana In 1",null,"Battery",null,"Sound Speed",null,"Compass heading",null,"Compass Pitch",null,"Compass Roll",null,"Presion \n(dBar x10-3)","Status Code","Presion (dBar x10-3)",null,"Temperature (ºC)",null,"Vel E 1 (mm/s)",null,"Vel E 2",null,"Vel E 3",null,"Vel E 4",null,"Vel E 5",null,"Vel E 6",null,"Vel E 7",null,"Vel E 8",null,"Vel E 9",null,"Vel E 10",null,"Vel E 11",null,"Vel E 12",null,"Vel E 13",null,"Vel E 14",null,"Vel E 15",null,"Vel E 16",null,"Vel E 17",null,"Vel E 18",null,"Vel E 19",null,"Vel E 20",null,"Vel N 1",null,"Vel N 2",null,"Vel N 3",null,"Vel N 4",null,"Vel N 5",null,"Vel N 6",null,"Vel N 7",null,"Vel N 8",null,"Vel N 9",null,"Vel N 10",null,"Vel N 11",null,"Vel N 12",null,"Vel N 13",null,"Vel N 14",null,"Vel N 15",null,"Vel N 16",null,"Vel N 17",null,"Vel N 18",null,"Vel N 19",null,"Vel N 20",null,"Vel U 1",null,"Vel U 2",null,"Vel U 3",null,"Vel U 4",null,"Vel U 5",null,"Vel U 6",null,"Vel U 7",null,"Vel U 8",null,"Vel U 9",null,"Vel U 10",null,"Vel U 11",null,"Vel U 12",null,"Vel U 13",null,"Vel U 14",null,"Vel U 15",null,"Vel U 16",null,"Vel U 17",null,"Vel U 18",null,"Vel U 19",null,"Vel U 20",null,"Ampl B1 1","Ampl B1 2","Ampl B1 3","Ampl B1 4","Ampl B1 5","Ampl B1 6","Ampl B1 7","Ampl B1 8","Ampl B1 9","Ampl B1 10","Ampl B1 11","Ampl B1 12","Ampl B1 13","Ampl B1 14","Ampl B1 15","Ampl B1 16","Ampl B1 17","Ampl B1 18","Ampl B1 19","Ampl B1 20","Ampl B2 1","Ampl B2 2","Ampl B2 3","Ampl B2 4","Ampl B2 5","Ampl B2 6","Ampl B2 7","Ampl B2 8","Ampl B2 9","Ampl B2 10","Ampl B2 11","Ampl B2 12","Ampl B2 13","Ampl B2 14","Ampl B2 15","Ampl B2 16","Ampl B2 17","Ampl B2 18","Ampl B2 19","Ampl B2 20","Ampl B3 1","Ampl B3 2","Ampl B3 3","Ampl B3 4","Ampl B3 5","Ampl B3 6","Ampl B3 7","Ampl B3 8","Ampl B3 9","Ampl B3 10","Ampl B3 11","Ampl B3 12","Ampl B3 13","Ampl B3 14","Ampl B3 15","Ampl B3 16","Ampl B3 17","Ampl B3 18","Ampl B3 19","Ampl B3 20","CheckSumm"]
["hex","A5",21,"6A",0,27,15,21,14,23,3,0,0,0,0,85,0,"9F","3B","AD",0,"0E",0,"D7","FF",0,31,87,0,85,8,38,"FF",42,"FD","9F","FE","0E","FF","4D",0,"E1",0,"8C",0,65,"FD","0B",1,44,"FF","BA","FD","3B","FE",20,"FE","F3",0,96,0,"E5","FE","DD",1,56,0,87,1,"FE","FE",22,0,"0A","FF","FA","FB",93,"FF","D0","FC",45,"FB","E4","FF","D3","FB","A8","FD","B2","FD","FE","F9",51,"FE","EF","FE",47,"FF","EA","FB",51,"FE",37,"FD",15,"FD","BC","FB",11,"FF","0E",1,38,6,"2F",6,52,7,44,6,68,6,"6E",6,19,6,"5E",6,"0A",7,13,6,"C1",6,"AA",6,71,6,"CA",6,33,6,"EA",6,"C4",5,"BC",6,64,6,19,6,6,6,6,6,6,6,6,6,6,6,6,6,6,6,6,6,6,6,22,6,6,6,6,6,6,6,6,6,6,6,6,6,6,6,6,6,6,6,13,6,6,6,6,6,6,6,6,6,6,6,6,6,6,6,6,6,6,6,"5C",72,null,null,null,null,null,null,null,null,null,null,null,4,"B5",0,"F9","FD","2F","FF","1B",2,"0D",0,11,0,21,0,"F9",2,"8A",1,"BD",3,"C4",4,"D7",2,39,3,58,4,92,2,"E9",2,78,3,"9A",4,35,4,"E2",4,4,4,38,3,"DA",2,"2E",3,"BD",3,91,2,47,"1D","1C","1D","1E","1C","1B","1D","1C","1C","1D","1E","1C","1C","1D","1C","1C","1E","1E","1C","2B","2C","2C","2A",29,"2B",29,"2A","2C","2C",29,29,"2B",29,"2A","2D","2C",29,"2A","2A","2D",29,29,"2A",29,"2A","2C","2B",28,"2A","2A",29,"2B","2C","2A",29,"2A","2A",29,"2B","DB","EE"]
["tex",{"$f":"TEXT(B8,\"00\")","v":"A5"},{"$f":"TEXT(C8,\"00\")","v":"21"},{"$f":"TEXT(D8,\"00\")","v":"6A"},{"$f":"TEXT(E8,\"00\")","v":"00"},{"$f":"TEXT(F8,\"00\")","v":"27"},{"$f":"TEXT(G8,\"00\")","v":"15"},{"$f":"TEXT(H8,\"00\")","v":"21"},{"$f":"TEXT(I8,\"00\")","v":"14"},{"$f":"TEXT(J8,\"00\")","v":"23"},{"$f":"TEXT(K8,\"00\")","v":"03"},{"$f":"TEXT(L8,\"00\")","v":"00"},{"$f":"TEXT(M8,\"00\")","v":"00"},{"$f":"TEXT(N8,\"00\")","v":"00"},{"$f":"TEXT(O8,\"00\")","v":"00"},{"$f":"TEXT(P8,\"00\")","v":"85"},{"$f":"TEXT(Q8,\"00\")","v":"00"},{"$f":"TEXT(R8,\"00\")","v":"9F"},{"$f":"TEXT(S8,\"00\")","v":"3B"},{"$f":"TEXT(T8,\"00\")","v":"AD"},{"$f":"TEXT(U8,\"00\")","v":"00"},{"$f":"TEXT(V8,\"00\")","v":"0E"},{"$f":"TEXT(W8,\"00\")","v":"00"},{"$f":"TEXT(X8,\"00\")","v":"D7"},{"$f":"TEXT(Y8,\"00\")","v":"FF"},{"$f":"TEXT(Z8,\"00\")","v":"00"},{"$f":"TEXT(AA8,\"00\")","v":"31"},{"$f":"TEXT(AB8,\"00\")","v":"87"},{"$f":"TEXT(AC8,\"00\")","v":"00"},{"$f":"TEXT(AD8,\"00\")","v":"85"},{"$f":"TEXT(AE8,\"00\")","v":"08"},{"$f":"TEXT(AF8,\"00\")","v":"38"},{"$f":"TEXT(AG8,\"00\")","v":"FF"},{"$f":"TEXT(AH8,\"00\")","v":"42"},{"$f":"TEXT(AI8,\"00\")","v":"FD"},{"$f":"TEXT(AJ8,\"00\")","v":"9F"},{"$f":"TEXT(AK8,\"00\")","v":"FE"},{"$f":"TEXT(AL8,\"00\")","v":"0E"},{"$f":"TEXT(AM8,\"00\")","v":"FF"},{"$f":"TEXT(AN8,\"00\")","v":"4D"},{"$f":"TEXT(AO8,\"00\")","v":"00"},{"$f":"TEXT(AP8,\"00\")","v":"E1"},{"$f":"TEXT(AQ8,\"00\")","v":"00"},{"$f":"TEXT(AR8,\"00\")","v":"8C"},{"$f":"TEXT(AS8,\"00\")","v":"00"},{"$f":"TEXT(AT8,\"00\")","v":"65"},{"$f":"TEXT(AU8,\"00\")","v":"FD"},{"$f":"TEXT(AV8,\"00\")","v":"0B"},{"$f":"TEXT(AW8,\"00\")","v":"01"},{"$f":"TEXT(AX8,\"00\")","v":"44"},{"$f":"TEXT(AY8,\"00\")","v":"FF"},{"$f":"TEXT(AZ8,\"00\")","v":"BA"},{"$f":"TEXT(BA8,\"00\")","v":"FD"},{"$f":"TEXT(BB8,\"00\")","v":"3B"},{"$f":"TEXT(BC8,\"00\")","v":"FE"},{"$f":"TEXT(BD8,\"00\")","v":"20"},{"$f":"TEXT(BE8,\"00\")","v":"FE"},{"$f":"TEXT(BF8,\"00\")","v":"F3"},{"$f":"TEXT(BG8,\"00\")","v":"00"},{"$f":"TEXT(BH8,\"00\")","v":"96"},{"$f":"TEXT(BI8,\"00\")","v":"00"},{"$f":"TEXT(BJ8,\"00\")","v":"E5"},{"$f":"TEXT(BK8,\"00\")","v":"FE"},{"$f":"TEXT(BL8,\"00\")","v":"DD"},{"$f":"TEXT(BM8,\"00\")","v":"01"},{"$f":"TEXT(BN8,\"00\")","v":"56"},{"$f":"TEXT(BO8,\"00\")","v":"00"},{"$f":"TEXT(BP8,\"00\")","v":"87"},{"$f":"TEXT(BQ8,\"00\")","v":"01"},{"$f":"TEXT(BR8,\"00\")","v":"FE"},{"$f":"TEXT(BS8,\"00\")","v":"FE"},{"$f":"TEXT(BT8,\"00\")","v":"22"},{"$f":"TEXT(BU8,\"00\")","v":"00"},{"$f":"TEXT(BV8,\"00\")","v":"0A"},{"$f":"TEXT(BW8,\"00\")","v":"FF"},{"$f":"TEXT(BX8,\"00\")","v":"FA"},{"$f":"TEXT(BY8,\"00\")","v":"FB"},{"$f":"TEXT(BZ8,\"00\")","v":"93"},{"$f":"TEXT(CA8,\"00\")","v":"FF"},{"$f":"TEXT(CB8,\"00\")","v":"D0"},{"$f":"TEXT(CC8,\"00\")","v":"FC"},{"$f":"TEXT(CD8,\"00\")","v":"45"},{"$f":"TEXT(CE8,\"00\")","v":"FB"},{"$f":"TEXT(CF8,\"00\")","v":"E4"},{"$f":"TEXT(CG8,\"00\")","v":"FF"},{"$f":"TEXT(CH8,\"00\")","v":"D3"},{"$f":"TEXT(CI8,\"00\")","v":"FB"},{"$f":"TEXT(CJ8,\"00\")","v":"A8"},{"$f":"TEXT(CK8,\"00\")","v":"FD"},{"$f":"TEXT(CL8,\"00\")","v":"B2"},{"$f":"TEXT(CM8,\"00\")","v":"FD"},{"$f":"TEXT(CN8,\"00\")","v":"FE"},{"$f":"TEXT(CO8,\"00\")","v":"F9"},{"$f":"TEXT(CP8,\"00\")","v":"51"},{"$f":"TEXT(CQ8,\"00\")","v":"FE"},{"$f":"TEXT(CR8,\"00\")","v":"EF"},{"$f":"TEXT(CS8,\"00\")","v":"FE"},{"$f":"TEXT(CT8,\"00\")","v":"47"},{"$f":"TEXT(CU8,\"00\")","v":"FF"},{"$f":"TEXT(CV8,\"00\")","v":"EA"},{"$f":"TEXT(CW8,\"00\")","v":"FB"},{"$f":"TEXT(CX8,\"00\")","v":"51"},{"$f":"TEXT(CY8,\"00\")","v":"FE"},{"$f":"TEXT(CZ8,\"00\")","v":"37"},{"$f":"TEXT(DA8,\"00\")","v":"FD"},{"$f":"TEXT(DB8,\"00\")","v":"15"},{"$f":"TEXT(DC8,\"00\")","v":"FD"},{"$f":"TEXT(DD8,\"00\")","v":"BC"},{"$f":"TEXT(DE8,\"00\")","v":"FB"},{"$f":"TEXT(DF8,\"00\")","v":"11"},{"$f":"TEXT(DG8,\"00\")","v":"FF"},{"$f":"TEXT(DH8,\"00\")","v":"0E"},{"$f":"TEXT(DI8,\"00\")","v":"01"},{"$f":"TEXT(DJ8,\"00\")","v":"38"},{"$f":"TEXT(DK8,\"00\")","v":"06"},{"$f":"TEXT(DL8,\"00\")","v":"2F"},{"$f":"TEXT(DM8,\"00\")","v":"06"},{"$f":"TEXT(DN8,\"00\")","v":"52"},{"$f":"TEXT(DO8,\"00\")","v":"07"},{"$f":"TEXT(DP8,\"00\")","v":"44"},{"$f":"TEXT(DQ8,\"00\")","v":"06"},{"$f":"TEXT(DR8,\"00\")","v":"68"},{"$f":"TEXT(DS8,\"00\")","v":"06"},{"$f":"TEXT(DT8,\"00\")","v":"6E"},{"$f":"TEXT(DU8,\"00\")","v":"06"},{"$f":"TEXT(DV8,\"00\")","v":"19"},{"$f":"TEXT(DW8,\"00\")","v":"06"},{"$f":"TEXT(DX8,\"00\")","v":"5E"},{"$f":"TEXT(DY8,\"00\")","v":"06"},{"$f":"TEXT(DZ8,\"00\")","v":"0A"},{"$f":"TEXT(EA8,\"00\")","v":"07"},{"$f":"TEXT(EB8,\"00\")","v":"13"},{"$f":"TEXT(EC8,\"00\")","v":"06"},{"$f":"TEXT(ED8,\"00\")","v":"C1"},{"$f":"TEXT(EE8,\"00\")","v":"06"},{"$f":"TEXT(EF8,\"00\")","v":"AA"},{"$f":"TEXT(EG8,\"00\")","v":"06"},{"$f":"TEXT(EH8,\"00\")","v":"71"},{"$f":"TEXT(EI8,\"00\")","v":"06"},{"$f":"TEXT(EJ8,\"00\")","v":"CA"},{"$f":"TEXT(EK8,\"00\")","v":"06"},{"$f":"TEXT(EL8,\"00\")","v":"33"},{"$f":"TEXT(EM8,\"00\")","v":"06"},{"$f":"TEXT(EN8,\"00\")","v":"EA"},{"$f":"TEXT(EO8,\"00\")","v":"06"},{"$f":"TEXT(EP8,\"00\")","v":"C4"},{"$f":"TEXT(EQ8,\"00\")","v":"05"},{"$f":"TEXT(ER8,\"00\")","v":"BC"},{"$f":"TEXT(ES8,\"00\")","v":"06"},{"$f":"TEXT(ET8,\"00\")","v":"64"},{"$f":"TEXT(EU8,\"00\")","v":"06"},{"$f":"TEXT(EV8,\"00\")","v":"19"},{"$f":"TEXT(EW8,\"00\")","v":"06"},{"$f":"TEXT(EX8,\"00\")","v":"06"},{"$f":"TEXT(EY8,\"00\")","v":"06"},{"$f":"TEXT(EZ8,\"00\")","v":"06"},{"$f":"TEXT(FA8,\"00\")","v":"06"},{"$f":"TEXT(FB8,\"00\")","v":"06"},{"$f":"TEXT(FC8,\"00\")","v":"06"},{"$f":"TEXT(FD8,\"00\")","v":"06"},{"$f":"TEXT(FE8,\"00\")","v":"06"},{"$f":"TEXT(FF8,\"00\")","v":"06"},{"$f":"TEXT(FG8,\"00\")","v":"06"},{"$f":"TEXT(FH8,\"00\")","v":"06"},{"$f":"TEXT(FI8,\"00\")","v":"06"},{"$f":"TEXT(FJ8,\"00\")","v":"06"},{"$f":"TEXT(FK8,\"00\")","v":"06"},{"$f":"TEXT(FL8,\"00\")","v":"06"},{"$f":"TEXT(FM8,\"00\")","v":"06"},{"$f":"TEXT(FN8,\"00\")","v":"06"},{"$f":"TEXT(FO8,\"00\")","v":"06"},{"$f":"TEXT(FP8,\"00\")","v":"22"},{"$f":"TEXT(FQ8,\"00\")","v":"06"},{"$f":"TEXT(FR8,\"00\")","v":"06"},{"$f":"TEXT(FS8,\"00\")","v":"06"},{"$f":"TEXT(FT8,\"00\")","v":"06"},{"$f":"TEXT(FU8,\"00\")","v":"06"},{"$f":"TEXT(FV8,\"00\")","v":"06"},{"$f":"TEXT(FW8,\"00\")","v":"06"},{"$f":"TEXT(FX8,\"00\")","v":"06"},{"$f":"TEXT(FY8,\"00\")","v":"06"},{"$f":"TEXT(FZ8,\"00\")","v":"06"},{"$f":"TEXT(GA8,\"00\")","v":"06"},{"$f":"TEXT(GB8,\"00\")","v":"06"},{"$f":"TEXT(GC8,\"00\")","v":"06"},{"$f":"TEXT(GD8,\"00\")","v":"06"},{"$f":"TEXT(GE8,\"00\")","v":"06"},{"$f":"TEXT(GF8,\"00\")","v":"06"},{"$f":"TEXT(GG8,\"00\")","v":"06"},{"$f":"TEXT(GH8,\"00\")","v":"06"},{"$f":"TEXT(GI8,\"00\")","v":"06"},{"$f":"TEXT(GJ8,\"00\")","v":"13"},{"$f":"TEXT(GK8,\"00\")","v":"06"},{"$f":"TEXT(GL8,\"00\")","v":"06"},{"$f":"TEXT(GM8,\"00\")","v":"06"},{"$f":"TEXT(GN8,\"00\")","v":"06"},{"$f":"TEXT(GO8,\"00\")","v":"06"},{"$f":"TEXT(GP8,\"00\")","v":"06"},{"$f":"TEXT(GQ8,\"00\")","v":"06"},{"$f":"TEXT(GR8,\"00\")","v":"06"},{"$f":"TEXT(GS8,\"00\")","v":"06"},{"$f":"TEXT(GT8,\"00\")","v":"06"},{"$f":"TEXT(GU8,\"00\")","v":"06"},{"$f":"TEXT(GV8,\"00\")","v":"06"},{"$f":"TEXT(GW8,\"00\")","v":"06"},{"$f":"TEXT(GX8,\"00\")","v":"06"},{"$f":"TEXT(GY8,\"00\")","v":"06"},{"$f":"TEXT(GZ8,\"00\")","v":"06"},{"$f":"TEXT(HA8,\"00\")","v":"06"},{"$f":"TEXT(HB8,\"00\")","v":"06"},{"$f":"TEXT(HC8,\"00\")","v":"06"},{"$f":"TEXT(HD8,\"00\")","v":"5C"},{"$f":"TEXT(HE8,\"00\")","v":"72"}]
["dec",{"$f":"HEX2DEC(B8)","v":165},{"$f":"HEX2DEC(C8)","v":33},{"$f":"HEX2DEC(D8)","v":106},{"$f":"HEX2DEC(E8)","v":0},{"$f":"HEX2DEC(F8)","v":39},{"$f":"HEX2DEC(G8)","v":21},{"$f":"HEX2DEC(H8)","v":33},{"$f":"HEX2DEC(I8)","v":20},{"$f":"HEX2DEC(J8)","v":35},{"$f":"HEX2DEC(K8)","v":3},{"$f":"HEX2DEC(L8)","v":0},{"$f":"HEX2DEC(M8)","v":0},{"$f":"HEX2DEC(N8)","v":0},{"$f":"HEX2DEC(O8)","v":0},{"$f":"HEX2DEC(P8)","v":133},{"$f":"HEX2DEC(Q8)","v":0},{"$f":"HEX2DEC(R8)","v":159},{"$f":"HEX2DEC(S8)","v":59},{"$f":"HEX2DEC(T8)","v":173},{"$f":"HEX2DEC(U8)","v":0},{"$f":"HEX2DEC(V8)","v":14},{"$f":"HEX2DEC(W8)","v":0},{"$f":"HEX2DEC(X8)","v":215},{"$f":"HEX2DEC(Y8)","v":255},0,{"$f":"HEX2DEC(AA8)","v":49},{"$f":"HEX2DEC(AB8)","v":135},{"$f":"HEX2DEC(AC8)","v":0},{"$f":"HEX2DEC(AD8)","v":133},{"$f":"HEX2DEC(AE8)","v":8},{"$f":"HEX2DEC(AF8)","v":56},{"$f":"HEX2DEC(AG8)","v":255},{"$f":"HEX2DEC(AH8)","v":66},{"$f":"HEX2DEC(AI8)","v":253},{"$f":"HEX2DEC(AJ8)","v":159},{"$f":"HEX2DEC(AK8)","v":254},{"$f":"HEX2DEC(AL8)","v":14},{"$f":"HEX2DEC(AM8)","v":255},{"$f":"HEX2DEC(AN8)","v":77},{"$f":"HEX2DEC(AO8)","v":0},{"$f":"HEX2DEC(AP8)","v":225},{"$f":"HEX2DEC(AQ8)","v":0},{"$f":"HEX2DEC(AR8)","v":140},{"$f":"HEX2DEC(AS8)","v":0},{"$f":"HEX2DEC(AT8)","v":101},{"$f":"HEX2DEC(AU8)","v":253},{"$f":"HEX2DEC(AV8)","v":11},{"$f":"HEX2DEC(AW8)","v":1},{"$f":"HEX2DEC(AX8)","v":68},{"$f":"HEX2DEC(AY8)","v":255},{"$f":"HEX2DEC(AZ8)","v":186},{"$f":"HEX2DEC(BA8)","v":253},{"$f":"HEX2DEC(BB8)","v":59},{"$f":"HEX2DEC(BC8)","v":254},{"$f":"HEX2DEC(BD8)","v":32},{"$f":"HEX2DEC(BE8)","v":254},{"$f":"HEX2DEC(BF8)","v":243},{"$f":"HEX2DEC(BG8)","v":0},{"$f":"HEX2DEC(BH8)","v":150},{"$f":"HEX2DEC(BI8)","v":0},{"$f":"HEX2DEC(BJ8)","v":229},{"$f":"HEX2DEC(BK8)","v":254},{"$f":"HEX2DEC(BL8)","v":221},{"$f":"HEX2DEC(BM8)","v":1},{"$f":"HEX2DEC(BN8)","v":86},{"$f":"HEX2DEC(BO8)","v":0},{"$f":"HEX2DEC(BP8)","v":135},{"$f":"HEX2DEC(BQ8)","v":1},{"$f":"HEX2DEC(BR8)","v":254},{"$f":"HEX2DEC(BS8)","v":254},{"$f":"HEX2DEC(BT8)","v":34},{"$f":"HEX2DEC(BU8)","v":0},{"$f":"HEX2DEC(BV8)","v":10},{"$f":"HEX2DEC(BW8)","v":255},{"$f":"HEX2DEC(BX8)","v":250},{"$f":"HEX2DEC(BY8)","v":251},{"$f":"HEX2DEC(BZ8)","v":147},{"$f":"HEX2DEC(CA8)","v":255},{"$f":"HEX2DEC(CB8)","v":208},{"$f":"HEX2DEC(CC8)","v":252},{"$f":"HEX2DEC(CD8)","v":69},{"$f":"HEX2DEC(CE8)","v":251},{"$f":"HEX2DEC(CF8)","v":228},{"$f":"HEX2DEC(CG8)","v":255},{"$f":"HEX2DEC(CH8)","v":211},{"$f":"HEX2DEC(CI8)","v":251},{"$f":"HEX2DEC(CJ8)","v":168},{"$f":"HEX2DEC(CK8)","v":253},{"$f":"HEX2DEC(CL8)","v":178},{"$f":"HEX2DEC(CM8)","v":253},{"$f":"HEX2DEC(CN8)","v":254},{"$f":"HEX2DEC(CO8)","v":249},{"$f":"HEX2DEC(CP8)","v":81},{"$f":"HEX2DEC(CQ8)","v":254},{"$f":"HEX2DEC(CR8)","v":239},{"$f":"HEX2DEC(CS8)","v":254},{"$f":"HEX2DEC(CT8)","v":71},{"$f":"HEX2DEC(CU8)","v":255},{"$f":"HEX2DEC(CV8)","v":234},{"$f":"HEX2DEC(CW8)","v":251},{"$f":"HEX2DEC(CX8)","v":81},{"$f":"HEX2DEC(CY8)","v":254},{"$f":"HEX2DEC(CZ8)","v":55},{"$f":"HEX2DEC(DA8)","v":253},{"$f":"HEX2DEC(DB8)","v":21},{"$f":"HEX2DEC(DC8)","v":253},{"$f":"HEX2DEC(DD8)","v":188},{"$f":"HEX2DEC(DE8)","v":251},{"$f":"HEX2DEC(DF8)","v":17},{"$f":"HEX2DEC(DG8)","v":255},{"$f":"HEX2DEC(DH8)","v":14},{"$f":"HEX2DEC(DI8)","v":1},{"$f":"HEX2DEC(DJ8)","v":56},{"$f":"HEX2DEC(DK8)","v":6},{"$f":"HEX2DEC(DL8)","v":47},{"$f":"HEX2DEC(DM8)","v":6},{"$f":"HEX2DEC(DN8)","v":82},{"$f":"HEX2DEC(DO8)","v":7},{"$f":"HEX2DEC(DP8)","v":68},{"$f":"HEX2DEC(DQ8)","v":6},{"$f":"HEX2DEC(DR8)","v":104},{"$f":"HEX2DEC(DS8)","v":6},{"$f":"HEX2DEC(DT8)","v":110},{"$f":"HEX2DEC(DU8)","v":6},{"$f":"HEX2DEC(DV8)","v":25},{"$f":"HEX2DEC(DW8)","v":6},{"$f":"HEX2DEC(DX8)","v":94},{"$f":"HEX2DEC(DY8)","v":6},{"$f":"HEX2DEC(DZ8)","v":10},{"$f":"HEX2DEC(EA8)","v":7},{"$f":"HEX2DEC(EB8)","v":19},{"$f":"HEX2DEC(EC8)","v":6},{"$f":"HEX2DEC(ED8)","v":193},{"$f":"HEX2DEC(EE8)","v":6},{"$f":"HEX2DEC(EF8)","v":170},{"$f":"HEX2DEC(EG8)","v":6},{"$f":"HEX2DEC(EH8)","v":113},{"$f":"HEX2DEC(EI8)","v":6},{"$f":"HEX2DEC(EJ8)","v":202},{"$f":"HEX2DEC(EK8)","v":6},{"$f":"HEX2DEC(EL8)","v":51},{"$f":"HEX2DEC(EM8)","v":6},{"$f":"HEX2DEC(EN8)","v":234},{"$f":"HEX2DEC(EO8)","v":6},{"$f":"HEX2DEC(EP8)","v":196},{"$f":"HEX2DEC(EQ8)","v":5},{"$f":"HEX2DEC(ER8)","v":188},{"$f":"HEX2DEC(ES8)","v":6},{"$f":"HEX2DEC(ET8)","v":100},{"$f":"HEX2DEC(EU8)","v":6},{"$f":"HEX2DEC(EV8)","v":25},{"$f":"HEX2DEC(EW8)","v":6},{"$f":"HEX2DEC(EX8)","v":6},{"$f":"HEX2DEC(EY8)","v":6},{"$f":"HEX2DEC(EZ8)","v":6},{"$f":"HEX2DEC(FA8)","v":6},{"$f":"HEX2DEC(FB8)","v":6},{"$f":"HEX2DEC(FC8)","v":6},{"$f":"HEX2DEC(FD8)","v":6},{"$f":"HEX2DEC(FE8)","v":6},{"$f":"HEX2DEC(FF8)","v":6},{"$f":"HEX2DEC(FG8)","v":6},{"$f":"HEX2DEC(FH8)","v":6},{"$f":"HEX2DEC(FI8)","v":6},{"$f":"HEX2DEC(FJ8)","v":6},{"$f":"HEX2DEC(FK8)","v":6},{"$f":"HEX2DEC(FL8)","v":6},{"$f":"HEX2DEC(FM8)","v":6},{"$f":"HEX2DEC(FN8)","v":6},{"$f":"HEX2DEC(FO8)","v":6},{"$f":"HEX2DEC(FP8)","v":34},{"$f":"HEX2DEC(FQ8)","v":6},{"$f":"HEX2DEC(FR8)","v":6},{"$f":"HEX2DEC(FS8)","v":6},{"$f":"HEX2DEC(FT8)","v":6},{"$f":"HEX2DEC(FU8)","v":6},{"$f":"HEX2DEC(FV8)","v":6},{"$f":"HEX2DEC(FW8)","v":6},{"$f":"HEX2DEC(FX8)","v":6},{"$f":"HEX2DEC(FY8)","v":6},{"$f":"HEX2DEC(FZ8)","v":6},{"$f":"HEX2DEC(GA8)","v":6},{"$f":"HEX2DEC(GB8)","v":6},{"$f":"HEX2DEC(GC8)","v":6},{"$f":"HEX2DEC(GD8)","v":6},{"$f":"HEX2DEC(GE8)","v":6},{"$f":"HEX2DEC(GF8)","v":6},{"$f":"HEX2DEC(GG8)","v":6},{"$f":"HEX2DEC(GH8)","v":6},{"$f":"HEX2DEC(GI8)","v":6},{"$f":"HEX2DEC(GJ8)","v":19},{"$f":"HEX2DEC(GK8)","v":6},{"$f":"HEX2DEC(GL8)","v":6},{"$f":"HEX2DEC(GM8)","v":6},{"$f":"HEX2DEC(GN8)","v":6},{"$f":"HEX2DEC(GO8)","v":6},{"$f":"HEX2DEC(GP8)","v":6},{"$f":"HEX2DEC(GQ8)","v":6},{"$f":"HEX2DEC(GR8)","v":6},{"$f":"HEX2DEC(GS8)","v":6},{"$f":"HEX2DEC(GT8)","v":6},{"$f":"HEX2DEC(GU8)","v":6},{"$f":"HEX2DEC(GV8)","v":6},{"$f":"HEX2DEC(GW8)","v":6},{"$f":"HEX2DEC(GX8)","v":6},{"$f":"HEX2DEC(GY8)","v":6},{"$f":"HEX2DEC(GZ8)","v":6},{"$f":"HEX2DEC(HA8)","v":6},{"$f":"HEX2DEC(HB8)","v":6},{"$f":"HEX2DEC(HC8)","v":6},{"$f":"HEX2DEC(HD8)","v":92},{"$f":"HEX2DEC(HE8)","v":114}]
["conc",null,null,{"$f":"CONCATENATE(E9,D9)","v":"006A"},null,null,null,null,null,null,null,null,null,null,null,{"$f":"CONCATENATE(Q9,P9)","v":"0085"},null,{"$f":"CONCATENATE(S9,R9)","v":"3B9F"},null,{"$f":"CONCATENATE(U9,T9)","v":"00AD"},null,{"$f":"CONCATENATE(W9,V9)","v":"000E"},null,{"$f":"CONCATENATE(Y9,X9)","v":"FFD7"},null,null,null,{"$f":"CONCATENATE(AC9,AB9)","v":"0087"},null,{"$f":"CONCATENATE(AE9,AD9)","v":"0885"},null,{"$f":"CONCATENATE(AG9,AF9)","v":"FF38"},null,{"$f":"CONCATENATE(AI9,AH9)","v":"FD42"},null,{"$f":"CONCATENATE(AK9,AJ9)","v":"FE9F"},null,{"$f":"CONCATENATE(AM9,AL9)","v":"FF0E"},null,{"$f":"CONCATENATE(AO9,AN9)","v":"004D"},null,{"$f":"CONCATENATE(AQ9,AP9)","v":"00E1"},null,{"$f":"CONCATENATE(AS9,AR9)","v":"008C"},null,{"$f":"CONCATENATE(AU9,AT9)","v":"FD65"},null,{"$f":"CONCATENATE(AW9,AV9)","v":"010B"},null,{"$f":"CONCATENATE(AY9,AX9)","v":"FF44"},null,{"$f":"CONCATENATE(BA9,AZ9)","v":"FDBA"},null,{"$f":"CONCATENATE(BC9,BB9)","v":"FE3B"},null,{"$f":"CONCATENATE(BE9,BD9)","v":"FE20"},null,{"$f":"CONCATENATE(BG9,BF9)","v":"00F3"},null,{"$f":"CONCATENATE(BI9,BH9)","v":"0096"},null,{"$f":"CONCATENATE(BK9,BJ9)","v":"FEE5"},null,{"$f":"CONCATENATE(BM9,BL9)","v":"01DD"},null,{"$f":"CONCATENATE(BO9,BN9)","v":"0056"},null,{"$f":"CONCATENATE(BQ9,BP9)","v":"0187"},null,{"$f":"CONCATENATE(BS9,BR9)","v":"FEFE"},null,{"$f":"CONCATENATE(BU9,BT9)","v":"0022"},null,{"$f":"CONCATENATE(BW9,BV9)","v":"FF0A"},null,{"$f":"CONCATENATE(BY9,BX9)","v":"FBFA"},null,{"$f":"CONCATENATE(CA9,BZ9)","v":"FF93"},null,{"$f":"CONCATENATE(CC9,CB9)","v":"FCD0"},null,{"$f":"CONCATENATE(CE9,CD9)","v":"FB45"},null,{"$f":"CONCATENATE(CG9,CF9)","v":"FFE4"},null,{"$f":"CONCATENATE(CI9,CH9)","v":"FBD3"},null,{"$f":"CONCATENATE(CK9,CJ9)","v":"FDA8"},null,{"$f":"CONCATENATE(CM9,CL9)","v":"FDB2"},null,{"$f":"CONCATENATE(CO9,CN9)","v":"F9FE"},null,{"$f":"CONCATENATE(CQ9,CP9)","v":"FE51"},null,{"$f":"CONCATENATE(CS9,CR9)","v":"FEEF"},null,{"$f":"CONCATENATE(CU9,CT9)","v":"FF47"},null,{"$f":"CONCATENATE(CW9,CV9)","v":"FBEA"},null,{"$f":"CONCATENATE(CY9,CX9)","v":"FE51"},null,{"$f":"CONCATENATE(DA9,CZ9)","v":"FD37"},null,{"$f":"CONCATENATE(DC9,DB9)","v":"FD15"},null,{"$f":"CONCATENATE(DE9,DD9)","v":"FBBC"},null,{"$f":"CONCATENATE(DG9,DF9)","v":"FF11"},null,{"$f":"CONCATENATE(DI9,DH9)","v":"010E"},null,{"$f":"CONCATENATE(DK9,DJ9)","v":"0638"},null,{"$f":"CONCATENATE(DM9,DL9)","v":"062F"},null,{"$f":"CONCATENATE(DO9,DN9)","v":"0752"},null,{"$f":"CONCATENATE(DQ9,DP9)","v":"0644"},null,{"$f":"CONCATENATE(DS9,DR9)","v":"0668"},null,{"$f":"CONCATENATE(DU9,DT9)","v":"066E"},null,{"$f":"CONCATENATE(DW9,DV9)","v":"0619"},null,{"$f":"CONCATENATE(DY9,DX9)","v":"065E"},null,{"$f":"CONCATENATE(EA9,DZ9)","v":"070A"},null,{"$f":"CONCATENATE(EC9,EB9)","v":"0613"},null,{"$f":"CONCATENATE(EE9,ED9)","v":"06C1"},null,{"$f":"CONCATENATE(EG9,EF9)","v":"06AA"},null,{"$f":"CONCATENATE(EI9,EH9)","v":"0671"},null,{"$f":"CONCATENATE(EK9,EJ9)","v":"06CA"},null,{"$f":"CONCATENATE(EM9,EL9)","v":"0633"},null,{"$f":"CONCATENATE(EO9,EN9)","v":"06EA"},null,{"$f":"CONCATENATE(EQ9,EP9)","v":"05C4"},null,{"$f":"CONCATENATE(ES9,ER9)","v":"06BC"},null,{"$f":"CONCATENATE(EU9,ET9)","v":"0664"},null,null,null,null,null,null,null,null,null,null,null,null,null,null,null,null,null,null,null,null,null,null,null,null,null,null,null,null,null,null,null,null,null,null,null,null,null,null,null,null,null,null,null,null,null,null,null,null,null,null,null,null,null,null,null,null,null,null,null,null,null,{"$f":"CONCATENATE(HD9,HE9)","v":"5C72"}]
[null,{"$f":"B10","v":165},{"$f":"C10","v":33},{"$f":"HEX2DEC(D11)","v":106},null,{"$f":"F10","v":39},{"$f":"G10","v":21},{"$f":"H10","v":33},{"$f":"I10","v":20},{"$f":"J10","v":35},{"$f":"K10","v":3},{"$f":"(IF(HEX2DEC(L11)>(32769),HEX2DEC(L11)-65536,HEX2DEC(L11)))/10","v":0},null,{"$f":"(IF(HEX2DEC(N11)>(32769),HEX2DEC(N11)-65536,HEX2DEC(N11)))/10","v":0},null,{"$f":"(IF(HEX2DEC(P11)>(32769),HEX2DEC(P11)-65536,HEX2DEC(P11)))/10","v":13.3},null,{"$f":"(IF(HEX2DEC(R11)>(32769),HEX2DEC(R11)-65536,HEX2DEC(R11)))/10","v":1526.3},null,{"$f":"(IF(HEX2DEC(T11)>(32769),HEX2DEC(T11)-65536,HEX2DEC(T11)))/10","v":17.3},null,{"$f":"(IF(HEX2DEC(V11)>(32769),HEX2DEC(V11)-65536,HEX2DEC(V11)))/10","v":1.4},null,{"$f":"(IF(HEX2DEC(X11)>(32769),HEX2DEC(X11)-65536,HEX2DEC(X11)))/10","v":-4.1},null,{"$f":"HEX2DEC(Z10)","v":0},{"$f":"AA10","v":49},{"$f":"HEX2DEC(AB11)/1000+Z12*65536/1000","v":0.135},null,{"$f":"(IF(HEX2DEC(AD11)>(32769),HEX2DEC(AD11)-65536,HEX2DEC(AD11)))/100","v":21.81},null,{"$f":"IF(HEX2DEC(AF11)>(32769),HEX2DEC(AF11)-65536,HEX2DEC(AF11))","v":-200},null,{"$f":"IF(HEX2DEC(AH11)>(32769),HEX2DEC(AH11)-65536,HEX2DEC(AH11))","v":-702},null,{"$f":"IF(HEX2DEC(AJ11)>(32769),HEX2DEC(AJ11)-65536,HEX2DEC(AJ11))","v":-353},null,{"$f":"IF(HEX2DEC(AL11)>(32769),HEX2DEC(AL11)-65536,HEX2DEC(AL11))","v":-242},null,{"$f":"IF(HEX2DEC(AN11)>(32769),HEX2DEC(AN11)-65536,HEX2DEC(AN11))","v":77},null,{"$f":"IF(HEX2DEC(AP11)>(32769),HEX2DEC(AP11)-65536,HEX2DEC(AP11))","v":225},null,{"$f":"IF(HEX2DEC(AR11)>(32769),HEX2DEC(AR11)-65536,HEX2DEC(AR11))","v":140},null,{"$f":"IF(HEX2DEC(AT11)>(32769),HEX2DEC(AT11)-65536,HEX2DEC(AT11))","v":-667},null,{"$f":"IF(HEX2DEC(AV11)>(32769),HEX2DEC(AV11)-65536,HEX2DEC(AV11))","v":267},null,{"$f":"IF(HEX2DEC(AX11)>(32769),HEX2DEC(AX11)-65536,HEX2DEC(AX11))","v":-188},null,{"$f":"IF(HEX2DEC(AZ11)>(32769),HEX2DEC(AZ11)-65536,HEX2DEC(AZ11))","v":-582},null,{"$f":"IF(HEX2DEC(BB11)>(32769),HEX2DEC(BB11)-65536,HEX2DEC(BB11))","v":-453},null,{"$f":"IF(HEX2DEC(BD11)>(32769),HEX2DEC(BD11)-65536,HEX2DEC(BD11))","v":-480},null,{"$f":"IF(HEX2DEC(BF11)>(32769),HEX2DEC(BF11)-65536,HEX2DEC(BF11))","v":243},null,{"$f":"IF(HEX2DEC(BH11)>(32769),HEX2DEC(BH11)-65536,HEX2DEC(BH11))","v":150},null,{"$f":"IF(HEX2DEC(BJ11)>(32769),HEX2DEC(BJ11)-65536,HEX2DEC(BJ11))","v":-283},null,{"$f":"IF(HEX2DEC(BL11)>(32769),HEX2DEC(BL11)-65536,HEX2DEC(BL11))","v":477},null,{"$f":"IF(HEX2DEC(BN11)>(32769),HEX2DEC(BN11)-65536,HEX2DEC(BN11))","v":86},null,{"$f":"IF(HEX2DEC(BP11)>(32769),HEX2DEC(BP11)-65536,HEX2DEC(BP11))","v":391},null,{"$f":"IF(HEX2DEC(BR11)>(32769),HEX2DEC(BR11)-65536,HEX2DEC(BR11))","v":-258},null,{"$f":"IF(HEX2DEC(BT11)>(32769),HEX2DEC(BT11)-65536,HEX2DEC(BT11))","v":34},null,{"$f":"IF(HEX2DEC(BV11)>(32769),HEX2DEC(BV11)-65536,HEX2DEC(BV11))","v":-246},null,{"$f":"IF(HEX2DEC(BX11)>(32769),HEX2DEC(BX11)-65536,HEX2DEC(BX11))","v":-1030},null,{"$f":"IF(HEX2DEC(BZ11)>(32769),HEX2DEC(BZ11)-65536,HEX2DEC(BZ11))","v":-109},null,{"$f":"IF(HEX2DEC(CB11)>(32769),HEX2DEC(CB11)-65536,HEX2DEC(CB11))","v":-816},null,{"$f":"IF(HEX2DEC(CD11)>(32769),HEX2DEC(CD11)-65536,HEX2DEC(CD11))","v":-1211},null,{"$f":"IF(HEX2DEC(CF11)>(32769),HEX2DEC(CF11)-65536,HEX2DEC(CF11))","v":-28},null,{"$f":"IF(HEX2DEC(CH11)>(32769),HEX2DEC(CH11)-65536,HEX2DEC(CH11))","v":-1069},null,{"$f":"IF(HEX2DEC(CJ11)>(32769),HEX2DEC(CJ11)-65536,HEX2DEC(CJ11))","v":-600},null,{"$f":"IF(HEX2DEC(CL11)>(32769),HEX2DEC(CL11)-65536,HEX2DEC(CL11))","v":-590},null,{"$f":"IF(HEX2DEC(CN11)>(32769),HEX2DEC(CN11)-65536,HEX2DEC(CN11))","v":-1538},null,{"$f":"IF(HEX2DEC(CP11)>(32769),HEX2DEC(CP11)-65536,HEX2DEC(CP11))","v":-431},null,{"$f":"IF(HEX2DEC(CR11)>(32769),HEX2DEC(CR11)-65536,HEX2DEC(CR11))","v":-273},null,{"$f":"IF(HEX2DEC(CT11)>(32769),HEX2DEC(CT11)-65536,HEX2DEC(CT11))","v":-185},null,{"$f":"IF(HEX2DEC(CV11)>(32769),HEX2DEC(CV11)-65536,HEX2DEC(CV11))","v":-1046},null,{"$f":"IF(HEX2DEC(CX11)>(32769),HEX2DEC(CX11)-65536,HEX2DEC(CX11))","v":-431},null,{"$f":"IF(HEX2DEC(CZ11)>(32769),HEX2DEC(CZ11)-65536,HEX2DEC(CZ11))","v":-713},null,{"$f":"IF(HEX2DEC(DB11)>(32769),HEX2DEC(DB11)-65536,HEX2DEC(DB11))","v":-747},null,{"$f":"IF(HEX2DEC(DD11)>(32769),HEX2DEC(DD11)-65536,HEX2DEC(DD11))","v":-1092},null,{"$f":"IF(HEX2DEC(DF11)>(32769),HEX2DEC(DF11)-65536,HEX2DEC(DF11))","v":-239},null,{"$f":"IF(HEX2DEC(DH11)>(32769),HEX2DEC(DH11)-65536,HEX2DEC(DH11))","v":270},null,{"$f":"IF(HEX2DEC(DJ11)>(32769),HEX2DEC(DJ11)-65536,HEX2DEC(DJ11))","v":1592},null,{"$f":"IF(HEX2DEC(DL11)>(32769),HEX2DEC(DL11)-65536,HEX2DEC(DL11))","v":1583},null,{"$f":"IF(HEX2DEC(DN11)>(32769),HEX2DEC(DN11)-65536,HEX2DEC(DN11))","v":1874},null,{"$f":"IF(HEX2DEC(DP11)>(32769),HEX2DEC(DP11)-65536,HEX2DEC(DP11))","v":1604},null,{"$f":"IF(HEX2DEC(DR11)>(32769),HEX2DEC(DR11)-65536,HEX2DEC(DR11))","v":1640},null,{"$f":"IF(HEX2DEC(DT11)>(32769),HEX2DEC(DT11)-65536,HEX2DEC(DT11))","v":1646},null,{"$f":"IF(HEX2DEC(DV11)>(32769),HEX2DEC(DV11)-65536,HEX2DEC(DV11))","v":1561},null,{"$f":"IF(HEX2DEC(DX11)>(32769),HEX2DEC(DX11)-65536,HEX2DEC(DX11))","v":1630},null,{"$f":"IF(HEX2DEC(DZ11)>(32769),HEX2DEC(DZ11)-65536,HEX2DEC(DZ11))","v":1802},null,{"$f":"IF(HEX2DEC(EB11)>(32769),HEX2DEC(EB11)-65536,HEX2DEC(EB11))","v":1555},null,{"$f":"IF(HEX2DEC(ED11)>(32769),HEX2DEC(ED11)-65536,HEX2DEC(ED11))","v":1729},null,{"$f":"IF(HEX2DEC(EF11)>(32769),HEX2DEC(EF11)-65536,HEX2DEC(EF11))","v":1706},null,{"$f":"IF(HEX2DEC(EH11)>(32769),HEX2DEC(EH11)-65536,HEX2DEC(EH11))","v":1649},null,{"$f":"IF(HEX2DEC(EJ11)>(32769),HEX2DEC(EJ11)-65536,HEX2DEC(EJ11))","v":1738},null,{"$f":"IF(HEX2DEC(EL11)>(32769),HEX2DEC(EL11)-65536,HEX2DEC(EL11))","v":1587},null,{"$f":"IF(HEX2DEC(EN11)>(32769),HEX2DEC(EN11)-65536,HEX2DEC(EN11))","v":1770},null,{"$f":"IF(HEX2DEC(EP11)>(32769),HEX2DEC(EP11)-65536,HEX2DEC(EP11))","v":1476},null,{"$f":"IF(HEX2DEC(ER11)>(32769),HEX2DEC(ER11)-65536,HEX2DEC(ER11))","v":1724},null,{"$f":"IF(HEX2DEC(ET11)>(32769),HEX2DEC(ET11)-65536,HEX2DEC(ET11))","v":1636},null,{"$f":"EV10","v":25},{"$f":"EW10","v":6},{"$f":"EX10","v":6},{"$f":"EY10","v":6},{"$f":"EZ10","v":6},{"$f":"FA10","v":6},{"$f":"FB10","v":6},{"$f":"FC10","v":6},{"$f":"FD10","v":6},{"$f":"FE10","v":6},{"$f":"FF10","v":6},{"$f":"FG10","v":6},{"$f":"FH10","v":6},{"$f":"FI10","v":6},{"$f":"FJ10","v":6},{"$f":"FK10","v":6},{"$f":"FL10","v":6},{"$f":"FM10","v":6},{"$f":"FN10","v":6},{"$f":"FO10","v":6},{"$f":"FP10","v":34},{"$f":"FQ10","v":6},{"$f":"FR10","v":6},{"$f":"FS10","v":6},{"$f":"FT10","v":6},{"$f":"FU10","v":6},{"$f":"FV10","v":6},{"$f":"FW10","v":6},{"$f":"FX10","v":6},{"$f":"FY10","v":6},{"$f":"FZ10","v":6},{"$f":"GA10","v":6},{"$f":"GB10","v":6},{"$f":"GC10","v":6},{"$f":"GD10","v":6},{"$f":"GE10","v":6},{"$f":"GF10","v":6},{"$f":"GG10","v":6},{"$f":"GH10","v":6},{"$f":"GI10","v":6},{"$f":"GJ10","v":19},{"$f":"GK10","v":6},{"$f":"GL10","v":6},{"$f":"GM10","v":6},{"$f":"GN10","v":6},{"$f":"GO10","v":6},{"$f":"GP10","v":6},{"$f":"GQ10","v":6},{"$f":"GR10","v":6},{"$f":"GS10","v":6},{"$f":"GT10","v":6},{"$f":"GU10","v":6},{"$f":"GV10","v":6},{"$f":"GW10","v":6},{"$f":"GX10","v":6},{"$f":"GY10","v":6},{"$f":"GZ10","v":6},{"$f":"HA10","v":6},{"$f":"HB10","v":6},{"$f":"HC10","v":6},{"$f":"(IF(MID(HD11,1,1)=\"f\",HEX2DEC(HD11)-65535,HEX2DEC(HD11)))","v":23666}]
[null,null,"Comprobación",{"$f":"COUNT(B6:HE6)/2","v":106},null,{"$f":"DATE(J8,K8,H8)+TIME(I8,F8,G8)","v":"1923-03-21T14:27:15"}]
[]
[]
[]
["2. TRAMA SALIDA DE DATOS DEL DATALOGGER",null,null,{"$f":"SUM(B26:C26)+SUM(D26:G26)*F48+M26","v":44},{"$f":"D17*8","v":352},{"$f":"ROUNDUP(E17/6,0)","v":59},null,null,null,null,null,null,null,null,null,null,null,null,null,null,null,null,null,null,null,null,null,null,null,null,null,null,null,null,null,null,null,null,null,null,null,null,null,null,null,null,null,null,null,null,null,null,null,null,null,null,null,"Temperatura"]
[null,null,null,null,null,null,null,null,null,null,null,null,null,null,null,null,null,null,null,null,null,null,null,null,null,null,null,null,null,null,null,null,null,null,null,null,null,null,null,null,null,null,null,null,null,null,null,null,null,null,null,null,null,null,null,null,null,43,44]
[null,null,null,"EWCT",null,"NSCT",null,null,"EWCT",null,"NSCT",null,"TEMP",null,null,null,null,null,null,null,null,null,null,null,null,null,null,null,null,null,null,null,null,null,null,null,null,null,null,null,null,null,null,null,null,null,null,null,null,null,null,null,null,null,null,null,null,9,"E8"]
[null,"ID TRAMA","DIF FECHA","Vel. Este celda 1",null,"Vel. Norte celda 1",null,"…...","Vel. Este celda 20",null,"Vel. Norte celda 20",null,"Temperatura",null,null,null,null,null,null,null,null,null,null,null,null,null,null,null,null,null,null,null,null,null,null,null,null,null,null,null,null,null,null,null,null,null,null,null,null,null,null,null,null,null,null,null,null,{"$f":"CONCATENATE(TEXT(BF19,\"00\"),TEXT(BG19,\"00\"))","v":"09E8"}]
["Unidad","Id de la Trama","minutos \n(pos.y neg.)","mm/s\n(pos.y neg.)",null,"mm/s\n(pos.y neg.)",null,"…...","mm/s\n(pos.y neg.)",null,"mm/s\n(pos.y neg.)",null,"ºC x10-2",null,null,null,null,null,null,null,null,null,null,null,null,null,null,null,null,null,null,null,null,null,null,null,null,null,null,null,null,null,null,null,null,null,null,null,null,null,null,null,null,null,null,null,null,{"$f":"IF(HEX2DEC(BF20)>(32767),HEX2DEC(BF20)-65536,HEX2DEC(BF20))","v":2536}]
["Valor Max.",119,126,32766,null,32766,null,"…...",32766,null,{"$f":"INT(65535/2)","v":32767},null,{"$f":"INT(65535/2)","v":32767}]
["Valor Min.",80,-127,-32767,null,-32767,null,"…...",-32767,null,{"$f":"-K22","v":-32767},null,{"$f":"-M22","v":-32767},null,null,null,null,null,null,null,null,null,null,null,null,null,null,null,null,null,null,null,null,null,null,null,null,null,null,null,null,null,null,null,null,null,null,null,null,null,null,null,null,null,null,null,null,"0A","F2"]
["Valor nulo",null,"127 (7Fh) y\n -128 (80h)","32767 (7FFFh) y \n-32768 (8000h)",null,"32768 (7FFFh) y \n-32768 (8000h)",null,null,"32769 (7FFFh) y \n-32768 (8000h)",null,"32770 (7FFFh) y \n-32768 (8000h)",null,"32772 (7FFFh) y \n-32768 (8000h)",null,null,null,null,null,null,null,null,null,null,null,null,null,null,null,null,null,null,null,null,null,null,null,null,null,null,null,null,null,null,null,null,null,null,null,null,null,null,null,null,null,null,null,null,"0A","F2"]
["Posición trama a tx",1,{"$f":"B26+B25","v":2},{"$f":"C26+C25","v":3},null,{"$f":"D26+D25","v":5},null,"…...",{"$f":"D25+(RIGHT(I20,2)-1)*4","v":79},null,{"$f":"I26+I25","v":81},null,{"$f":"K25+K26","v":83},null,null,null,null,null,null,null,null,null,null,null,null,null,null,null,null,null,null,null,null,null,null,null,null,null,null,null,null,null,null,null,null,null,null,null,null,null,null,null,null,null,null,null,null,"0A","F2"]
["bytes a tx",1,1,2,null,2,null,"…...",2,null,2,null,2,null,null,null,null,null,null,null,null,null,null,null,null,null,null,null,null,null,null,null,null,null,null,null,null,null,null,null,null,null,null,null,null,null,null,null,null,null,null,null,null,null,null,null,null,"0A","F2"]
["Ejm. completo",80,-1,-1870,null,968,null,"…...",-1870,null,968,null,2572]
[]
["EJEMPLO:",40,41,42,43,44,45,48,49,50,51,54,55,56,57,60,61,62,63,66,67,68,69,72,73,74,75,78,79]
[null,null,null,"Vel. Este celda 1",null,"Vel. Norte celda 1",null,"Vel. Este celda 2",null,"Vel. Norte celda 2",null,"Vel. Este celda 3",null,"Vel. Norte celda 3",null,"Vel. Este celda 4",null,"Vel. Norte celda 4",null,"Vel. Este celda 5",null,"Vel. Norte celda 5",null,"Vel. Este celda 6",null,"Vel. Norte celda 6",null,"Vel. Este celda 7",null,"Vel. Norte celda 7",null,"Vel. Este celda 8",null,"Vel. Norte celda 8",null,"Vel. Este celda 9",null,"Vel. Norte celda 9",null,"Vel. Este celda 10",null,"Vel. Norte celda 10",null,"Vel. Este celda 10",null,"Vel. Norte celda 10",null,"Vel. Este celda 11",null,"Vel. Norte celda 11",null,"Vel. Este celda 11",null,"Vel. Norte celda 11",null,"Vel. Este celda 12",null,"Vel. Norte celda 12",null,"Vel. Este celda 12",null,"Vel. Norte celda 12",null,"Vel. Este celda 13",null,"Vel. Norte celda 13",null,"Vel. Este celda 13",null,"Vel. Norte celda 13",null,"Vel. Este celda 14",null,"Vel. Norte celda 14",null,"Vel. Este celda 14",null,"Vel. Norte celda 14",null,"Vel. Este celda 15",null,"Vel. Norte celda 15",null,"Vel. Este celda 15",null,"Vel. Norte celda 15",null,"Vel. Este celda 16",null,"Vel. Norte celda 16",null,"Vel. Este celda 16",null,"Vel. Norte celda 16",null,"Vel. Este celda 17",null,"Vel. Norte celda 17",null,"Vel. Este celda 17",null,"Vel. Norte celda 17",null,"Vel. Este celda 18",null,"Vel. Norte celda 18",null,"Vel. Este celda 18",null,"Vel. Norte celda 18",null,"Vel. Este celda 19",null,"Vel. Norte celda 19",null,"Vel. Este celda 19",null,"Vel. Norte celda 19",null,"Vel. Este celda 20",null,"Vel. Norte celda 20"]
["Posición byte",1,2,3,4,5,6,7,8,9,10,11,12,13,14,15,16,17,18,19,20,21,22,23,24,25,26,27,28,29,30,31,32,33,34,35,36,37,38,39,40,41,42,43,44,45,46,47,48,49,50,51,52,53,54,55,56,57,58,59,60,61,62,63,64,65,66,67,68,69,70,71,72,73,74,75,76,77,78,79,80,81,82,83,84,85,86,87,88,89,90,91,92,93,94,95,96,97,98,99,100,101,102,103,104,105,106,107,108,109,110,111,112,113,114,115,116,117,118,119,120,121,122]
["HEX Rx 2",50,8,"FB",58,"FA",86,1,"4E","FC","AE",0,"EB","FE","1C",0,16,"FB","EE","FF","EF","FD",37,"FF",12,"F9","B5",0,"EB","FE","1C",0,16,"FB","EE","FF","EF","FD",37,"FF",12,"F9","B5","FF","EF","FD",37,"FF",12,"F10","B6","FF","EF","FD",37,"FF",12,"F11","B7","FF","EF","FD",37,"FF",12,"F12","B8","FF","EF","FD",37,"FF",12,"F13","B9","FF","EF","FD",37,"FF",12,"F14","B10","FF","EF","FD",37,"FF",12,"F15","B11","FF","EF","FD",37,"FF",12,"F16","B12","FF","EF","FD",37,"FF",12,"F17","B13","FF","EF","FD",37,"FF",12,"F18","B14","FF","EF","FD",37,"FF",12,"F19","B15"]
["HEX",{"$f":"TEXT(B32,\"00\")","v":"50"},{"$f":"TEXT(C32,\"00\")","v":"08"},{"$f":"CONCATENATE(TEXT(D32,\"00\"),TEXT(E32,\"00\"))","v":"FB58"},null,{"$f":"CONCATENATE(TEXT(F32,\"00\"),TEXT(G32,\"00\"))","v":"FA86"},null,{"$f":"CONCATENATE(TEXT(H32,\"00\"),TEXT(I32,\"00\"))","v":"014E"},null,{"$f":"CONCATENATE(TEXT(J32,\"00\"),TEXT(K32,\"00\"))","v":"FCAE"},null,{"$f":"CONCATENATE(TEXT(L32,\"00\"),TEXT(M32,\"00\"))","v":"00EB"},null,{"$f":"CONCATENATE(TEXT(N32,\"00\"),TEXT(O32,\"00\"))","v":"FE1C"},null,{"$f":"CONCATENATE(TEXT(P32,\"00\"),TEXT(Q32,\"00\"))","v":"0016"},null,{"$f":"CONCATENATE(TEXT(R32,\"00\"),TEXT(S32,\"00\"))","v":"FBEE"},null,{"$f":"CONCATENATE(TEXT(T32,\"00\"),TEXT(U32,\"00\"))","v":"FFEF"},null,{"$f":"CONCATENATE(TEXT(V32,\"00\"),TEXT(W32,\"00\"))","v":"FD37"},null,{"$f":"CONCATENATE(TEXT(X32,\"00\"),TEXT(Y32,\"00\"))","v":"FF12"},null,{"$f":"CONCATENATE(TEXT(Z32,\"00\"),TEXT(AA32,\"00\"))","v":"F9B5"},null,{"$f":"CONCATENATE(TEXT(AB32,\"00\"),TEXT(AC32,\"00\"))","v":"00EB"},null,{"$f":"CONCATENATE(TEXT(AD32,\"00\"),TEXT(AE32,\"00\"))","v":"FE1C"},null,{"$f":"CONCATENATE(TEXT(AF32,\"00\"),TEXT(AG32,\"00\"))","v":"0016"},null,{"$f":"CONCATENATE(TEXT(AH32,\"00\"),TEXT(AI32,\"00\"))","v":"FBEE"},null,{"$f":"CONCATENATE(TEXT(AJ32,\"00\"),TEXT(AK32,\"00\"))","v":"FFEF"},null,{"$f":"CONCATENATE(TEXT(AL32,\"00\"),TEXT(AM32,\"00\"))","v":"FD37"},null,{"$f":"CONCATENATE(TEXT(AN32,\"00\"),TEXT(AO32,\"00\"))","v":"FF12"},null,{"$f":"CONCATENATE(TEXT(AP32,\"00\"),TEXT(AQ32,\"00\"))","v":"F9B5"},null,{"$f":"CONCATENATE(TEXT(AR32,\"00\"),TEXT(AS32,\"00\"))","v":"FFEF"},null,{"$f":"CONCATENATE(TEXT(AT32,\"00\"),TEXT(AU32,\"00\"))","v":"FD37"},null,{"$f":"CONCATENATE(TEXT(AV32,\"00\"),TEXT(AW32,\"00\"))","v":"FF12"},null,{"$f":"CONCATENATE(TEXT(AX32,\"00\"),TEXT(AY32,\"00\"))","v":"F10B6"},null,{"$f":"CONCATENATE(TEXT(AZ32,\"00\"),TEXT(BA32,\"00\"))","v":"FFEF"},null,{"$f":"CONCATENATE(TEXT(BB32,\"00\"),TEXT(BC32,\"00\"))","v":"FD37"},null,{"$f":"CONCATENATE(TEXT(BD32,\"00\"),TEXT(BE32,\"00\"))","v":"FF12"},null,{"$f":"CONCATENATE(TEXT(BF32,\"00\"),TEXT(BG32,\"00\"))","v":"F11B7"},null,{"$f":"CONCATENATE(TEXT(BH32,\"00\"),TEXT(BI32,\"00\"))","v":"FFEF"},null,{"$f":"CONCATENATE(TEXT(BJ32,\"00\"),TEXT(BK32,\"00\"))","v":"FD37"},null,{"$f":"CONCATENATE(TEXT(BL32,\"00\"),TEXT(BM32,\"00\"))","v":"FF12"},null,{"$f":"CONCATENATE(TEXT(BN32,\"00\"),TEXT(BO32,\"00\"))","v":"F12B8"},null,{"$f":"CONCATENATE(TEXT(BP32,\"00\"),TEXT(BQ32,\"00\"))","v":"FFEF"},null,{"$f":"CONCATENATE(TEXT(BR32,\"00\"),TEXT(BS32,\"00\"))","v":"FD37"},null,{"$f":"CONCATENATE(TEXT(BT32,\"00\"),TEXT(BU32,\"00\"))","v":"FF12"},null,{"$f":"CONCATENATE(TEXT(BV32,\"00\"),TEXT(BW32,\"00\"))","v":"F13B9"},null,{"$f":"CONCATENATE(TEXT(BX32,\"00\"),TEXT(BY32,\"00\"))","v":"FFEF"},null,{"$f":"CONCATENATE(TEXT(BZ32,\"00\"),TEXT(CA32,\"00\"))","v":"FD37"},null,{"$f":"CONCATENATE(TEXT(CB32,\"00\"),TEXT(CC32,\"00\"))","v":"FF12"},null,{"$f":"CONCATENATE(TEXT(CD32,\"00\"),TEXT(CE32,\"00\"))","v":"F14B10"},null,{"$f":"CONCATENATE(TEXT(CF32,\"00\"),TEXT(CG32,\"00\"))","v":"FFEF"},null,{"$f":"CONCATENATE(TEXT(CH32,\"00\"),TEXT(CI32,\"00\"))","v":"FD37"},null,{"$f":"CONCATENATE(TEXT(CJ32,\"00\"),TEXT(CK32,\"00\"))","v":"FF12"},null,{"$f":"CONCATENATE(TEXT(CL32,\"00\"),TEXT(CM32,\"00\"))","v":"F15B11"},null,{"$f":"CONCATENATE(TEXT(CN32,\"00\"),TEXT(CO32,\"00\"))","v":"FFEF"},null,{"$f":"CONCATENATE(TEXT(CP32,\"00\"),TEXT(CQ32,\"00\"))","v":"FD37"},null,{"$f":"CONCATENATE(TEXT(CR32,\"00\"),TEXT(CS32,\"00\"))","v":"FF12"},null,{"$f":"CONCATENATE(TEXT(CT32,\"00\"),TEXT(CU32,\"00\"))","v":"F16B12"},null,{"$f":"CONCATENATE(TEXT(CV32,\"00\"),TEXT(CW32,\"00\"))","v":"FFEF"},null,{"$f":"CONCATENATE(TEXT(CX32,\"00\"),TEXT(CY32,\"00\"))","v":"FD37"},null,{"$f":"CONCATENATE(TEXT(CZ32,\"00\"),TEXT(DA32,\"00\"))","v":"FF12"},null,{"$f":"CONCATENATE(TEXT(DB32,\"00\"),TEXT(DC32,\"00\"))","v":"F17B13"},null,{"$f":"CONCATENATE(TEXT(DD32,\"00\"),TEXT(DE32,\"00\"))","v":"FFEF"},null,{"$f":"CONCATENATE(TEXT(DF32,\"00\"),TEXT(DG32,\"00\"))","v":"FD37"},null,{"$f":"CONCATENATE(TEXT(DH32,\"00\"),TEXT(DI32,\"00\"))","v":"FF12"},null,{"$f":"CONCATENATE(TEXT(DJ32,\"00\"),TEXT(DK32,\"00\"))","v":"F18B14"},null,{"$f":"CONCATENATE(TEXT(DL32,\"00\"),TEXT(DM32,\"00\"))","v":"FFEF"},null,{"$f":"CONCATENATE(TEXT(DN32,\"00\"),TEXT(DO32,\"00\"))","v":"FD37"},null,{"$f":"CONCATENATE(TEXT(DP32,\"00\"),TEXT(DQ32,\"00\"))","v":"FF12"},null,{"$f":"CONCATENATE(TEXT(DR32,\"00\"),TEXT(DS32,\"00\"))","v":"F19B15"}]
["DEC",{"$f":"HEX2DEC(B33)","v":80},{"$f":"IF(HEX2DEC(C33)>(127),HEX2DEC(C33)-256,HEX2DEC(C33))","v":8},{"$f":"IF(HEX2DEC(D33)>(32767),HEX2DEC(D33)-65536,HEX2DEC(D33))","v":-1192},null,{"$f":"IF(HEX2DEC(F33)>(32767),HEX2DEC(F33)-65536,HEX2DEC(F33))","v":-1402},null,{"$f":"IF(HEX2DEC(H33)>(32767),HEX2DEC(H33)-65536,HEX2DEC(H33))","v":334},null,{"$f":"IF(HEX2DEC(J33)>(32767),HEX2DEC(J33)-65536,HEX2DEC(J33))","v":-850},null,{"$f":"IF(HEX2DEC(L33)>(32767),HEX2DEC(L33)-65536,HEX2DEC(L33))","v":235},null,{"$f":"IF(HEX2DEC(N33)>(32767),HEX2DEC(N33)-65536,HEX2DEC(N33))","v":-484},null,{"$f":"IF(HEX2DEC(P33)>(32767),HEX2DEC(P33)-65536,HEX2DEC(P33))","v":22},null,{"$f":"IF(HEX2DEC(R33)>(32767),HEX2DEC(R33)-65536,HEX2DEC(R33))","v":-1042},null,{"$f":"IF(HEX2DEC(T33)>(32767),HEX2DEC(T33)-65536,HEX2DEC(T33))","v":-17},null,{"$f":"IF(HEX2DEC(V33)>(32767),HEX2DEC(V33)-65536,HEX2DEC(V33))","v":-713},null,{"$f":"IF(HEX2DEC(X33)>(32767),HEX2DEC(X33)-65536,HEX2DEC(X33))","v":-238},null,{"$f":"IF(HEX2DEC(Z33)>(32767),HEX2DEC(Z33)-65536,HEX2DEC(Z33))","v":-1611},null,{"$f":"IF(HEX2DEC(AB33)>(32767),HEX2DEC(AB33)-65536,HEX2DEC(AB33))","v":235},null,{"$f":"IF(HEX2DEC(AD33)>(32767),HEX2DEC(AD33)-65536,HEX2DEC(AD33))","v":-484},null,{"$f":"IF(HEX2DEC(AF33)>(32767),HEX2DEC(AF33)-65536,HEX2DEC(AF33))","v":22},null,{"$f":"IF(HEX2DEC(AH33)>(32767),HEX2DEC(AH33)-65536,HEX2DEC(AH33))","v":-1042},null,{"$f":"IF(HEX2DEC(AJ33)>(32767),HEX2DEC(AJ33)-65536,HEX2DEC(AJ33))","v":-17},null,{"$f":"IF(HEX2DEC(AL33)>(32767),HEX2DEC(AL33)-65536,HEX2DEC(AL33))","v":-713},null,{"$f":"IF(HEX2DEC(AN33)>(32767),HEX2DEC(AN33)-65536,HEX2DEC(AN33))","v":-238},null,{"$f":"IF(HEX2DEC(AP33)>(32767),HEX2DEC(AP33)-65536,HEX2DEC(AP33))","v":-1611},null,{"$f":"IF(HEX2DEC(AR33)>(32767),HEX2DEC(AR33)-65536,HEX2DEC(AR33))","v":-17},null,{"$f":"IF(HEX2DEC(AT33)>(32767),HEX2DEC(AT33)-65536,HEX2DEC(AT33))","v":-713},null,{"$f":"IF(HEX2DEC(AV33)>(32767),HEX2DEC(AV33)-65536,HEX2DEC(AV33))","v":-238},null,{"$f":"IF(HEX2DEC(AX33)>(32767),HEX2DEC(AX33)-65536,HEX2DEC(AX33))","v":921782},null,{"$f":"IF(HEX2DEC(AZ33)>(32767),HEX2DEC(AZ33)-65536,HEX2DEC(AZ33))","v":-17},null,{"$f":"IF(HEX2DEC(BB33)>(32767),HEX2DEC(BB33)-65536,HEX2DEC(BB33))","v":-713},null,{"$f":"IF(HEX2DEC(BD33)>(32767),HEX2DEC(BD33)-65536,HEX2DEC(BD33))","v":-238},null,{"$f":"IF(HEX2DEC(BF33)>(32767),HEX2DEC(BF33)-65536,HEX2DEC(BF33))","v":922039},null,{"$f":"IF(HEX2DEC(BH33)>(32767),HEX2DEC(BH33)-65536,HEX2DEC(BH33))","v":-17},null,{"$f":"IF(HEX2DEC(BJ33)>(32767),HEX2DEC(BJ33)-65536,HEX2DEC(BJ33))","v":-713},null,{"$f":"IF(HEX2DEC(BL33)>(32767),HEX2DEC(BL33)-65536,HEX2DEC(BL33))","v":-238},null,{"$f":"IF(HEX2DEC(BN33)>(32767),HEX2DEC(BN33)-65536,HEX2DEC(BN33))","v":922296},null,{"$f":"IF(HEX2DEC(BP33)>(32767),HEX2DEC(BP33)-65536,HEX2DEC(BP33))","v":-17},null,{"$f":"IF(HEX2DEC(BR33)>(32767),HEX2DEC(BR33)-65536,HEX2DEC(BR33))","v":-713},null,{"$f":"IF(HEX2DEC(BT33)>(32767),HEX2DEC(BT33)-65536,HEX2DEC(BT33))","v":-238},null,{"$f":"IF(HEX2DEC(BV33)>(32767),HEX2DEC(BV33)-65536,HEX2DEC(BV33))","v":922553},null,{"$f":"IF(HEX2DEC(BX33)>(32767),HEX2DEC(BX33)-65536,HEX2DEC(BX33))","v":-17},null,{"$f":"IF(HEX2DEC(BZ33)>(32767),HEX2DEC(BZ33)-65536,HEX2DEC(BZ33))","v":-713},null,{"$f":"IF(HEX2DEC(CB33)>(32767),HEX2DEC(CB33)-65536,HEX2DEC(CB33))","v":-238},null,{"$f":"IF(HEX2DEC(CD33)>(32767),HEX2DEC(CD33)-65536,HEX2DEC(CD33))","v":15747856},null,{"$f":"IF(HEX2DEC(CF33)>(32767),HEX2DEC(CF33)-65536,HEX2DEC(CF33))","v":-17},null,{"$f":"IF(HEX2DEC(CH33)>(32767),HEX2DEC(CH33)-65536,HEX2DEC(CH33))","v":-713},null,{"$f":"IF(HEX2DEC(CJ33)>(32767),HEX2DEC(CJ33)-65536,HEX2DEC(CJ33))","v":-238},null,{"$f":"IF(HEX2DEC(CL33)>(32767),HEX2DEC(CL33)-65536,HEX2DEC(CL33))","v":15751953},null,{"$f":"IF(HEX2DEC(CN33)>(32767),HEX2DEC(CN33)-65536,HEX2DEC(CN33))","v":-17},null,{"$f":"IF(HEX2DEC(CP33)>(32767),HEX2DEC(CP33)-65536,HEX2DEC(CP33))","v":-713},null,{"$f":"IF(HEX2DEC(CR33)>(32767),HEX2DEC(CR33)-65536,HEX2DEC(CR33))","v":-238},null,{"$f":"IF(HEX2DEC(CT33)>(32767),HEX2DEC(CT33)-65536,HEX2DEC(CT33))","v":15756050},null,{"$f":"IF(HEX2DEC(CV33)>(32767),HEX2DEC(CV33)-65536,HEX2DEC(CV33))","v":-17},null,{"$f":"IF(HEX2DEC(CX33)>(32767),HEX2DEC(CX33)-65536,HEX2DEC(CX33))","v":-713},null,{"$f":"IF(HEX2DEC(CZ33)>(32767),HEX2DEC(CZ33)-65536,HEX2DEC(CZ33))","v":-238},null,{"$f":"IF(HEX2DEC(DB33)>(32767),HEX2DEC(DB33)-65536,HEX2DEC(DB33))","v":15760147},null,{"$f":"IF(HEX2DEC(DD33)>(32767),HEX2DEC(DD33)-65536,HEX2DEC(DD33))","v":-17},null,{"$f":"IF(HEX2DEC(DF33)>(32767),HEX2DEC(DF33)-65536,HEX2DEC(DF33))","v":-713},null,{"$f":"IF(HEX2DEC(DH33)>(32767),HEX2DEC(DH33)-65536,HEX2DEC(DH33))","v":-238},null,{"$f":"IF(HEX2DEC(DJ33)>(32767),HEX2DEC(DJ33)-65536,HEX2DEC(DJ33))","v":15764244},null,{"$f":"IF(HEX2DEC(DL33)>(32767),HEX2DEC(DL33)-65536,HEX2DEC(DL33))","v":-17},null,{"$f":"IF(HEX2DEC(DN33)>(32767),HEX2DEC(DN33)-65536,HEX2DEC(DN33))","v":-713},null,{"$f":"IF(HEX2DEC(DP33)>(32767),HEX2DEC(DP33)-65536,HEX2DEC(DP33))","v":-238},null,{"$f":"IF(HEX2DEC(DR33)>(32767),HEX2DEC(DR33)-65536,HEX2DEC(DR33))","v":15768341}]
[{"$f":"'trama 1 Tx datos '!H21","v":"2022-06-22"},{"$f":"'trama 1 Tx datos '!H21","v":"2022-06-22"},{"$f":"('trama 1 Tx datos '!I21)+C34/24/60","v":"08:48:00"}]
[null,50,"8A","FC","8E",9,"0B","FE",34,"FD","1D","FA","6A","FC",6,"FD",24,"FA","E9","FF",22,"FC",73,0,50,"FE",76,"FA","6A","FC",6,"FD",24,"FA","E9","FF",22,"FC",73,0,50,"FE",76,"FF",22,"FC",18,6.5,-5,"FE",76,"FF",22,"FC",-16.5,-28,-39.5,"FE",76,"FF",22,"FC",-51,-62.5,-74,"FE",76,"FF",22,"FC",-85.5,-97,-108.5,"FE",76,"FF",22,"FC",-120,-131.5,-143,"FE",76,"FF",22,"FC",-154.5,-166,-177.5,"FE",76,"FF",22,"FC",-189,-200.5,-212,"FE",76,"FF",22,"FC",-223.5,-235,-246.5,"FE",76,"FF",22,"FC",-258,-269.5,-281,"FE",76,"FF",22,"FC",-292.5,-304,-315.5,"FE",76]
[]
["3. TRAMA CONFIGURACIÓN DEL EQUIPO",null,null,{"$f":"LEN(CONCATENATE(B48,C48,D48,E48,F48,G48,H48,I48,J48,K48,L48,M48,N48,O48,P48,Q48,R48,S48,T48))+T42","v":64},{"$f":"SUM(B47:T47)+T42","v":72}]
["Esta trama define como está configurada la trama del ADCP, qué tramas, cuantas y cuales celdas se tranmiten, junto con su unidad.\nEstá separado por comas y se transmite en ASCII (azul), las máscaras están en HEX se interpretan en binario (verde)"]
[]
[null,null,null,null,"INFO INHERENTE A LA CORRIENTE",null,null,null,null,null,null,null,null,null,null,"INFO DE OTROS SENSORES"]
["Posición del Campo",1,2,3,4,5,6,7,8,9,10,11,12,13,14,15,16,17,18,19]
["DESCRIPCIÓN","TIPO DE TRAMA","FECHA DEF TRAMA","DEF.EQUIPO","CANTIDAD VARIABLES","CANTIDAD CELDAS","ANCHO DE CELDAS","BLANKING","VELOCIDAD DE MUESTREO","TIEMPO DE LA MEDIA","FRECUENCIA DE MEDICIÓN","NOMBRE VARIABLE 1 A TX","UNIDAD DE LA VARIABLE 1","TIPO DE BYTE VARIABLE 1","MASCARA TIPO CELDAS","MASCARA  CELDAS A TX","NOMBRE VARIABLE 2 A TX","UNIDAD VARIABLE 2 A TX","TIPO DE BYTE VARIABLE 2","Checksum"]
["Unidad","Id de la Trama","Nombre del Equipo","Nombre del Equipo","Cantidad","Cantidad","metros","metros","Segundos","Segundos","Segundos","Velocidad de la corriente:. \n- Este\n- Norte\n- Arriba","m/s x10-3\n(mm/s)","Cant.en numero:\n P=Positivo, \n N=Negativo, \n A=Ambos, \n F=Float","Celdas: Este-Norte-Arriba\nB0=Up\nB1=Norte\nB2=Este","0 ó 1 según la celda activada\nB0= capa 1\nB1= capa 2\nBn= capa n","Temperatura del agua","ºC x10-2","Cant.en numero:\n P=Positivo, \n N=Negativo, \n A=Ambos, \n F=Float","Cantidad"]
["Valor Min.","D80",null,null,1,1,0.1,0.1,1,1,1,null,null,null,"000",0]
["Valor Max.","D119",null,null,32,256,20,20,3600,3600,3600,null,null,null,110,111111]
["bytes a tx",4,6,2,1,3,4,4,4,4,4,2,3,2,1,"n",2,3,2,2]
["Ejm. completo","D80D",210522,"N1",2,10,"2.0",1,1,120,1800,9,93,"2A",{"$f":"BIN2HEX(O46)","v":"6"},"FFFFF",6,62,"2A","4F"]
["Trama Real"]
[null,"D80D,010422,N1,2,20,1333,182,13,120,1800,9,93,2A,7,000FFFFF*42"]
["4. TRAMA CONFIGURACIÓN DEL EQUIPO EXTENDIDA (NOMBRE ESPECÍFICO DE LAS VARIABLES)"]
["Esta trama define lon nombres específicos y el orden de cada variable del ADCP.\nEstá separado por comas y se transmite en ASCII"]
[]
["Posición del Campo",1,2,3,4,5,6,7,8,9]
["DESCRIPCIÓN","TIPO DE TRAMA","FECHA DEF TRAMA","DEF.EQUIPO","CANTIDAD VARIABLES","NOMBRE ESPECÍFICO VARIABLE 1.1","NOMBRE ESPECÍFICO VARIABLE 1.2","NOMBRE ESPECÍFICO VARIABLE 1.3","NOMBRE ESPECÍFICO VARIABLE 2","Checksum"]
["Unidad","Id de la Trama","Nombre del Equipo","Nombre del Equipo","Cantidad","Vel. Este","Vel. Norte","Velocidad Arriba","Temperatura","Cantidad"]
["Valor Min.","D80X",null,null,1,"VQTY","VMXL","VH110","VH110"]
["Valor Max.","D119X",null,null,32]
["bytes a tx",4,6,3,1,4,4,4,4,2]
["Ejm. completo","D80X",310322,"N1",4,"EWCT","NSCT","VCSP","TEMP","4F"]
["Trama Real","D80X",10422,"N1",4,"EWCT","NSCT","VCSP","TEMP","*63"]
[]
[]
["5. TRAMA DE LA CONFIGURACIÓN DE UMBRALES DE DATOS ADCP"]
["Esta trama define los valores máximos y mínimos de cada variable, los valores fuera de este rango serán desechados.\nEstá separado por comas y se transmite en ASCII"]
[]
["Posición del Campo",1,2,3,4,5,6,7,8,9]
["DESCRIPCIÓN","TIPO DE TRAMA","FECHA DEF TRAMA","DEF.EQUIPO","CANTIDAD VARIABLES","VALOR MÍNIMO VARIABLE 1","VALOR MAXIMO VARIABLE 1","VALOR MÍNIMO VARIABLE 2","VALOR MAXIMO VARIABLE 2","Checksum"]
["Unidad","Id de la Trama","Nombre del Equipo","Nombre del Equipo","Cantidad","Velocidad\n(mm/s)","Velocidad\n(mm/s)","Temperatura \n(ºC)","Temperatura \n(ºC)","Cantidad"]
["Valor Min.","D80U",null,null,1]
["Valor Max.","D119U",null,null,64]
["bytes a tx",4,6,3,1,null,null,null,null,2]
["Ejm. completo","D80U",310322,"N1",2,-10000,10000,1,6000,"4F"]
["Trama Real","D80U",10422,"N1",2,-10000,10000,1,6000,"2C"]
[]
[]
[]
["6. TRAMA CONFIGURACIÓN HEX DEL ADCP",null,null,{"$f":"LEN(CONCATENATE(B87,C87,D87,E87,F87,G87,H87,I87,K87,L87,M87,N87))+N81+(513-7)","v":550},{"$f":"SUM(B86:N86)+N81","v":48}]
["Esta trama (en ASCII) define como está configurado en Hex  el ADCP con su trama propia del software AquaPro, cada byte estará separado por coma"]
[]
["Posición del Campo",1,2,3,4,5,6,7,8,"…...",8,8,8,19]
["DESCRIPCIÓN","TIPO DE TRAMA","FECHA DEF TRAMA","DEF.EQUIPO","CANTIDAD BYTES\n(n)","Byte 1","Byte 2","Byte 3","Byte 4","…...","Byte n-2","Byte n-1","Byte n","Checksum"]
["Unidad","Id de la Trama","Nombre del Equipo","Nombre del Equipo","Cantidad","Byte hex","Byte hex","Byte hex","Byte hex","…...","Byte hex","Byte hex","Byte hex","Cantidad"]
["Valor Min.","D80",null,null,1,0,0,0,0,"…...",0,0,0]
["Valor Max.","D119",null,null,32,"FF","FF","FF","FF",null,"FF","FF","FF"]
["bytes a tx",4,6,2,1,2,2,2,2,"…...",2,2,2,2]
["Ejm. completo","D80C",210522,"N1",2,"A5",0,0,1,"…...","A8",6,6,"*6E"]
["Trama Real","D80C",110422,"N1",64,"A5",0,0,1,"…...","A8",6,6,"*6E"]

{"sheet":"CTD Trimeter","index":6,"n_rows":69,"n_cols":14,"rows_kept":69,"cut":false,"hidden":false,"merged":[[3,0,4,0],[8,0,8,4],[10,3,10,5],[11,3,11,5],[12,3,12,5],[13,3,13,5],[14,3,14,5],[15,3,15,5],[16,3,16,5],[17,3,17,5],[18,3,18,5],[23,3,23,4],[24,3,24,4],[28,0,28,7],[40,0,40,7],[53,0,53,7]]}
[]
["1. TRAMA SALIDA DE DATOS DEL SENSOR EN ASCII Y SU INTREPETACIÓN"]
[null,null,null,null,null,null,null,null,"1 byte",255]
["Trama actual del equipo:","03/03/23,01:27:00,0.28<CR><LF>",null,"Fecha"," hora","Turb (FNU)",null,null,"2 bytes",65535]
[null,"Fecha, hora, Turb",null,"2023-03-03","01:27:00",0.28,"<CR><LF>",null,"3 bytes",16777215]
[null,null,null,null,null,null,null,null,"4 bytes",4294967295]
[]
["2. TRAMA SALIDA DE DATOS DEL DATALOGGER",null,null,{"$f":"SUM(B18:E18)","v":5},{"$f":"D8*8","v":40},{"$f":"ROUNDUP(E8/6,0)","v":7}]
["En esta trama se transmiten los datos recibidos por los sensores del equipo CTD.\nNO están separados por comas, se identifican según su posición y se transmite en BIN"]
[]
[null,null,null,"TUR4"]
[null,"ID TRAMA","DIF FECHA","Turbidez",null,null,"Checksum"]
["Unidad","Id de la Trama","minutos \n(pos.y neg.)","FNU",null,null,"Cantidad"]
["Valor Max.",79,126,16777215]
["Valor Min.",30,-127,0]
["Valor Nulo",null,"127 (7Fh) y \n-128 (80h)",{"$f":"D14","v":16777215},null,null,2]
["Posición trama a tx",1,{"$f":"B18+B17","v":2},{"$f":"C17+C18","v":3}]
["bytes a tx",1,1,3,null,null,2]
["Ejm. completo",30,-1,{"$f":"F5*100","v":28},null,null,"4F"]
[]
["EJEMPLO:"]
["Posición byte",1,2,3,4]
["HEX Rx 2","1E",80,0,"5F"]
["HEX",{"$f":"TEXT(B23,\"00\")","v":"1E"},{"$f":"TEXT(C23,\"00\")","v":"80"},{"$f":"CONCATENATE(TEXT(D23,\"00\"),TEXT(E23,\"00\"))","v":"005F"},null,{"$f":"TEXT(F23,\"00\")","v":"00"}]
["DEC",{"$f":"HEX2DEC(B24)","v":30},{"$f":"IF(HEX2DEC(C24)>(127),HEX2DEC(C24)-256,HEX2DEC(C24))","v":-128},{"$f":"HEX2DEC(D24)","v":95},null,{"$f":"HEX2DEC(F24)","v":0}]
[null,{"$f":"'trama 1 Tx datos '!H21","v":"2022-06-22"},{"$f":"'trama 1 Tx datos '!I21+C25/24/60","v":"06:32:00"}]
[]
["3. TRAMA CONFIGURACIÓN DEL EQUIPO",null,null,{"$f":"LEN(CONCATENATE(B37,C37,D37,E37,F37,G37,H37,K37,L37,M37,N37))+N31","v":41},{"$f":"SUM(B36:N36)+N31","v":55}]
["Esta trama define como está configurada la trama del CTD, qué tramas, cuantas y cuales celdas se tranmiten, junto con su unidad.\nEstá separado por comas y se transmite en ASCII (azul), las máscaras se interpretan en binario (verde)"]
[]
["Posición del Campo",1,2,3,4,5,6,7,8,9,10,11,12,13]
["DESCRIPCIÓN","TIPO DE TRAMA","FECHA DEF TRAMA","DEF.EQUIPO","CANTIDAD VARIABLES","VELOCIDAD DE MUESTREO","TIEMPO DE LA MEDIA","FRECUENCIA DE MEDICIÓN","FRECUENCIA DE LIMPIADO","CANTIDAD DE LIMPIADOS","NOMBRE VARIABLE 1","UNIDAD VARIABLE 1","TIPO DE BYTE VARIABLE 1","Checksum"]
["Unidad","Id de la Trama","Nombre del Equipo","Nombre del Equipo","Cantidad","Segundos","Segundos","Segundos","Segundos","Cantidad","Turbidez","Unidad de la Variable","Cant.en numero:\n P=Positivo, \n N=Negativo, \n A=Ambos, \n F=Float","Cantidad"]
["Valor Min.","D30",null,null,1,1,1,1,1,1,0]
["Valor Max.","D79",null,null,32,3600,3600,3600,3600,99,100]
["bytes a tx",3,6,2,2,4,4,4,5,2,2,3,3,2]
["Ejm. completo","D30D",210522,"E1",1,2,60,1800,{"$f":"60*10","v":600},1,5,152,"3P","4F"]
["Trama Real","D30D",10422,"E1",1,2,60,1800,600,1,15,150,"3P",28]
[]
["4. TRAMA CONFIGURACIÓN DEL EQUIPO EXTENDIDA (NOMBRE ESPECÍFICO DE LAS VARIABLES)"]
["Esta trama define los nombres específicos y el orden de cada variable del CTD.\nEstá separado por comas y se transmite en ASCII"]
[]
["Posición del Campo",1,2,3,4,5,10]
["DESCRIPCIÓN","TIPO DE TRAMA","FECHA DEF TRAMA","DEF.EQUIPO","CANTIDAD VARIABLES","NOMBRE ESPECÍFICO VARIABLE 1","Checksum"]
["Unidad","Id de la Trama","Nombre del Equipo","Nombre del Equipo","Cantidad","Turbidez","Cantidad"]
["Valor Min.","D30X",null,null,1]
["Valor Max.","D79X",null,null,64]
["bytes a tx",4,6,3,1,4,2]
["Ejm. completo","D30X",310322,"E1",1,"TUR4","4F"]
["Trama Real","D30X",10422,"E1",1,"TUR4*38",54]
[]
[]
["5. TRAMA DE LA CONFIGURACIÓN DE UMBRALES DE DATOS CTD"]
["Esta trama define los valores máximos y mínimos de cada variable, los valores fuera de este rango serán desechados.\nEstá separado por comas y se transmite en ASCII"]
[]
["Posición del Campo",1,2,3,4,5,6,15]
["DESCRIPCIÓN","TIPO DE TRAMA","FECHA DEF TRAMA","DEF.EQUIPO","CANTIDAD VARIABLES","VALOR MÍNIMO VARIABLE 1","VALOR MAXIMO VARIABLE 1","Checksum"]
["Unidad","Id de la Trama","Nombre del Equipo","Nombre del Equipo","Cantidad","Turbidez\n","Turbidez\n","Cantidad"]
["Valor Min.","D30U",null,null,1]
["Valor Max.","D79U",null,null,64]
["bytes a tx",4,6,3,1,null,null,2]
["Ejm. completo","D30U",310322,"E1",1,0,4000,"4F"]
["Trama Real","D30U",10422,"E1",1,0,4000,"4D"]
[]
[]
["DESCRIPCIÓN","Enable","Nivel reposo","Reset\nxx.x (seg)"]
["Valor Min.","0 => NO","0 => N.O.",1]
["Valor Max.","1 => SI","1 => N.C.",65535]
["bytes a tx",1,1,2]

{"sheet":"Waves","index":7,"n_rows":75,"n_cols":156,"rows_kept":75,"cut":false,"hidden":false,"merged":[[3,0,4,0],[12,0,12,8],[14,3,14,4],[14,5,14,6],[14,7,14,8],[14,9,14,10],[14,11,14,12],[14,13,14,14],[14,15,14,16],[14,17,14,18],[14,19,14,20],[14,21,14,22],[14,23,14,24],[14,25,14,26],[15,3,15,4],[15,5,15,6],[15,7,15,8],[15,9,15,10],[15,11,15,12],[15,13,15,14],[15,15,15,16],[15,17,15,18],[15,19,15,20],[15,21,15,22],[15,23,15,24],[15,25,15,26],[16,3,16,4],[16,5,16,6],[16,7,16,8],[16,9,16,10],[16,11,16,12],[16,13,16,14],[16,15,16,16],[16,17,16,18],[16,19,16,20],[16,21,16,22],[16,23,16,24],[16,25,16,26],[17,3,17,4],[17,5,17,6],[17,7,17,8],[17,9,17,10],[17,11,17,12],[17,13,17,14],[17,15,17,16],[17,17,17,18],[17,19,17,20],[17,21,17,22],[17,23,17,24],[17,25,17,26],[18,3,18,4],[18,5,18,6],[18,7,18,8],[18,9,18,10],[18,11,18,12],[18,13,18,14],[18,15,18,16],[18,17,18,18],[18,19,18,20],[18,21,18,22],[18,23,18,24],[18,25,18,26],[19,3,19,4],[19,5,19,6],[19,7,19,8],[19,9,19,10],[19,11,19,12],[19,13,19,14],[19,15,19,16],[19,17,19,18],[19,19,19,20],[19,21,19,22],[19,23,19,24],[19,25,19,26],[20,3,20,4],[20,5,20,6],[20,7,20,8],[20,9,20,10],[20,11,20,12],[20,13,20,14],[20,15,20,16],[20,17,20,18],[20,19,20,20],[20,21,20,22],[20,23,20,24],[20,25,20,26],[21,3,21,4],[21,5,21,6],[21,7,21,8],[21,9,21,10],[21,11,21,12],[21,13,21,14],[21,15,21,16],[21,17,21,18],[21,19,21,20],[21,21,21,22],[21,23,21,24],[21,25,21,26],[22,3,22,4],[22,5,22,6],[22,7,22,8],[22,9,22,10],[22,11,22,12],[22,13,22,14],[22,15,22,16],[22,17,22,18],[22,19,22,20],[22,21,22,22],[22,23,22,24],[22,25,22,26],[27,3,27,4],[27,5,27,6],[27,7,27,8],[27,9,27,10],[27,11,27,12],[27,13,27,14],[27,15,27,16],[27,17,27,18],[27,19,27,20],[27,21,27,22],[27,23,27,24],[27,25,27,26],[28,3,28,4],[28,5,28,6],[28,7,28,8],[28,9,28,10],[28,11,28,12],[28,13,28,14],[28,15,28,16],[28,17,28,18],[28,19,28,20],[28,21,28,22],[28,23,28,24],[28,25,28,26]]}
[]
["1. TRAMA SALIDA DE DATOS DEL SENSOR EN ASCII Y SU INTREPETACIÓN"]
[]
["Trama actual del equipo:","$RES,07,12,19,13,00,00283,0231,0131,0163,0090,145,106,078,088,061,1460,0430,099,099*6A"]
[null,{"$f":"('trama 1 Tx datos '!I21)+C29/24/60","v":0.333333333333333}]
[]
[null,"Cabecera"," Día"," Mes"," Año","Hora"," Min"," Nº Olas"," Hmax"," H3"," H10"," Hmed"," Tmax"," Tpico"," T3"," T10"," Tmed"," Dir"," Des"," Flag1"," Flag2","CHKSUMM"]
[null,"$RES","dd","mm","aa","hh","mm","cant","m","m","m","m","seg","seg","seg","seg","seg","º","º","%","%"]
[null,"$RES",7,12,19,13,0,283,231,131,163,90,14.5,10.6,7.8,8.8,6.1,146,43,99,99,"*6A"]
[]
[]
["2. TRAMA SALIDA DE DATOS DEL DATALOGGER",null,null,{"$f":"SUM(B22:AC22)","v":28},null,{"$f":"D12*8","v":224},{"$f":"ROUNDUP(F12/6,0)","v":38}]
["En esta trama se transmiten los datos recibidos por la MBW3\nNO están separados por comas, se identifican según su posición y se transmite en BIN"]
[]
[null,null,null,"VQTY",null,"VMXL",null,"VH110",null,"VAVH",null,"VHM0",null,"VTMX",null,"VTPK",null,"VT110",null,"VAVT",null,"VGTA",null,"VDIR",null,"VPSP",null,"VFL1","VFL2"]
[null,"ID TRAMA","DIF FECHA","NRO DE OLAS",null,"H.MAX.",null,"HSIG/10",null,"HSIG/3",null,"HMED",null,"TMAX",null,"TPICO",null,"TSIG/10",null,"TSIG/3",null,"TMED",null,"DIR",null,"DESV",null,"FLAG1","FLAG2"]
["Unidad","Id de la Trama","minutos \n(pos.y neg.)","Definido en la configuración",null,"Altura Máxima\ncm",null,"Altura Significativa H/10\ncm",null,"Altura Significativa H/3\ncm",null,"Altura Media\ncm",null,"Período Máximo\nseg x 10-1",null,"Período Pico\nseg x 10-1",null,"Período Significativo H/10\nseg x 10-1",null,"Período  Significativo H/3\nseg x 10-1",null,"Período Medio\nseg x 10-1",null,"Dirección\ngrados x 10-1",null,"Disperción\ngrados x 10-2",null,"Definido en la configuración","Definido en la configuración"]
["Valor Max.",169,126,65534,null,65534,null,65534,null,65534,null,65534,null,65534,null,65534,null,65534,null,65534,null,65534,null,3599,null,3599,null,100,100]
["Valor Min.",160,-127,0,null,0,null,0,null,0,null,0,null,0,null,0,null,0,null,0,null,0,null,0,null,0,null,0,0]
["Valor nulo",null,"127 (7Fh) y\n -128 (80h)",65535,null,65535,null,65535,null,65535,null,65535,null,65535,null,65535,null,65535,null,65535,null,65535,null,"32767 (7FFFh) y \n-32768 (8000h)",null,"32767 (7FFFh) y \n-32768 (8000h)",null,255,255]
["Posición trama a tx",1,{"$f":"B22+B21","v":2},{"$f":"C21+C22","v":3},null,{"$f":"D22+D21","v":5},null,{"$f":"J22+J21","v":9},null,{"$f":"F22+F21","v":7},null,{"$f":"H22+H21","v":11},null,{"$f":"L22+L21","v":13},null,{"$f":"N22+N21","v":15},null,{"$f":"T22+T21","v":19},null,{"$f":"P22+P21","v":17},null,{"$f":"R22+R21","v":21},null,{"$f":"V22+V21","v":23},null,{"$f":"X22+X21","v":25},null,{"$f":"Z22+Z21","v":27},{"$f":"AB22+AB21","v":28}]
["bytes a tx",1,1,2,null,2,null,2,null,2,null,2,null,2,null,2,null,2,null,2,null,2,null,2,null,2,null,1,1]
["Ejm. completo",160,-5,283,null,231,null,163,null,131,null,90,null,145,null,106,null,88,null,78,null,61,null,1460,null,430,null,99,99]
[]
["EJEMPLO:",12,13,14,15,16,17,18,19,20,21,22,23,24,25,26,27,28,29,30,31,32,33,34,35,36,37,38,39,40,41,42,43,44,45,46,47,48,49,50,51,52,53,54,55,56,57,58,59,60,61,62,63,64,65,66,67,68,69,70,71,72,73,74,75,76,77,78,79,80,81,82,83,84,85,86,87,88,89,90,91,92,93,94,95,96,97,98,99,100,101,102,103,104,105,106,107,108,109,110,111,112,113,114,115,116,117,118,119,120,121,122,123,124,125,126,127,128,129,130,131,132,133,134,135,136,137,138,139,140,141,142,143,144,145,146,147,148,149,150,151,152,153,154,155,156,157,158,159,160,161,162,163,164,165,166]
["Posición byte",1,2,3,4,5,6,7,8,9,10,11,12,13,14,15,16,17,18,19,20,21,22,23,24,25,26,27,28]
["HEX Rx 2","A0","D8",0,1,0,2,0,2,0,2,0,2,0,"A6",0,"A6",0,"A6",0,"A6",0,"A6",3,"DE",0,0,64,64,"A2","A7",34,42,"A9",1,69,"3B",14,"FF","FB","FC","BC",5,"1A","A1","A7",34,42,"A2",70,"6F",2,"A0","0A",0,1,0,2,0,2,0,2,0,2,0,"C8",0,"C8",0,"C8",0,"C8",0,"C8","0A","5E",0,0,64,64,"1D","D9"]
["HEX",{"$f":"TEXT(B27,\"00\")","v":"A0"},{"$f":"TEXT(C27,\"00\")","v":"D8"},{"$f":"CONCATENATE(TEXT(D27,\"00\"),TEXT(E27,\"00\"))","v":"0001"},null,{"$f":"CONCATENATE(TEXT(F27,\"00\"),TEXT(G27,\"00\"))","v":"0002"},null,{"$f":"CONCATENATE(TEXT(H27,\"00\"),TEXT(I27,\"00\"))","v":"0002"},null,{"$f":"CONCATENATE(TEXT(J27,\"00\"),TEXT(K27,\"00\"))","v":"0002"},null,{"$f":"CONCATENATE(TEXT(L27,\"00\"),TEXT(M27,\"00\"))","v":"0002"},null,{"$f":"CONCATENATE(TEXT(N27,\"00\"),TEXT(O27,\"00\"))","v":"00A6"},null,{"$f":"CONCATENATE(TEXT(P27,\"00\"),TEXT(Q27,\"00\"))","v":"00A6"},null,{"$f":"CONCATENATE(TEXT(R27,\"00\"),TEXT(S27,\"00\"))","v":"00A6"},null,{"$f":"CONCATENATE(TEXT(T27,\"00\"),TEXT(U27,\"00\"))","v":"00A6"},null,{"$f":"CONCATENATE(TEXT(V27,\"00\"),TEXT(W27,\"00\"))","v":"00A6"},null,{"$f":"CONCATENATE(TEXT(X27,\"00\"),TEXT(Y27,\"00\"))","v":"03DE"},null,{"$f":"CONCATENATE(TEXT(Z27,\"00\"),TEXT(AA27,\"00\"))","v":"0000"},null,{"$f":"TEXT(AB27,\"00\")","v":"64"},{"$f":"TEXT(AC27,\"00\")","v":"64"}]
["DEC",{"$f":"HEX2DEC(B28)","v":160},{"$f":"IF(HEX2DEC(C28)>(127),HEX2DEC(C28)-256,HEX2DEC(C28))","v":-40},{"$f":"HEX2DEC(D28)","v":1},null,{"$f":"HEX2DEC(F28)","v":2},null,{"$f":"HEX2DEC(H28)","v":2},null,{"$f":"HEX2DEC(J28)","v":2},null,{"$f":"HEX2DEC(L28)","v":2},null,{"$f":"HEX2DEC(N28)","v":166},null,{"$f":"HEX2DEC(P28)","v":166},null,{"$f":"HEX2DEC(R28)","v":166},null,{"$f":"HEX2DEC(T28)","v":166},null,{"$f":"HEX2DEC(V28)","v":166},null,{"$f":"IF(HEX2DEC(X28)>(32767),HEX2DEC(X28)-65536,HEX2DEC(X28))","v":990},null,{"$f":"IF(HEX2DEC(Z28)>(32767),HEX2DEC(Z28)-65536,HEX2DEC(Z28))","v":0},null,{"$f":"HEX2DEC(AB28)","v":100},{"$f":"HEX2DEC(AC28)","v":100}]
[null,{"$f":"'trama 1 Tx datos '!H21","v":"2022-06-22"},{"$f":"('trama 1 Tx datos '!I21)+C29/24/60","v":"08:00:00"}]
[]
["3. TRAMA CONFIGURACIÓN DEL EQUIPO",null,null,{"$f":"LEN(CONCATENATE(B41,C41,D41,E41,F41,G41,H41,I41,J41,K41,L41,M41,N41,O41,P41,Q41,R41,S41,T41,U41,V41,W41,X41,Y41,Z41,AA41,AB41))+AB35","v":80},{"$f":"SUM(B40:AB40)+AB35","v":94}]
["Esta trama define como está configurada la trama del MBW3, qué tramas, cuantas y cuales se tranmiten, junto con su unidad.\nEstá separado por comas y se transmite en ASCII (azul), las máscaras se transmiten en HEX pero interpretan en binario (verde)"]
[]
["Posición del Campo",1,2,3,4,5,6,7,8,9,10,11,12,13,14,15,16,17,18,19,20,21,22,23,24,25,26,27]
["DESCRIPCIÓN","TIPO DE TRAMA","FECHA DEF TRAMA","DEF.EQUIPO","CANTIDAD VARIABLES","VELOCIDAD DE MUESTREO","TIEMPO DE LA MEDIA","FRECUENCIA DE MEDICIÓN","NOMBRE VARIABLE 1","UNIDAD VARIABLE 1","TIPO DE BYTE VARIABLE 1","NOMBRE VARIABLE 2","UNIDAD VARIABLE 2","TIPO DE BYTE VARIABLE 2","MASCARA VARIABLE 2","NOMBRE VARIABLE 3","UNIDAD VARIABLE 3","TIPO DE BYTE VARIABLE 3","MASCARA VARIABLE 3","NOMBRE VARIABLE 4","UNIDAD VARIABLE 4","TIPO DE BYTE VARIABLE 4","MASCARA VARIABLE 4","NOMBRE VARIABLE 5","UNIDAD VARIABLE 5","TIPO DE BYTE VARIABLE 5","MASCARA VARIABLE 5","Checksum"]
["Unidad","Id de la Trama","Nombre del Equipo","Nombre del Equipo","Cantidad","Segundos","Segundos","Segundos","Cantidad de Olas","Unidad de la Variable","Cant.en numero:\n P=Positivo, \n N=Negativo, \n A=Ambos, \n F=Float","Altura de Ola","Unidad de la Variable","Cant.en numero:\n P=Positivo, \n N=Negativo, \n A=Ambos, \n F=Float",null,"Período de Ola","Unidad de la Variable","Cant.en numero:\n P=Positivo, \n N=Negativo, \n A=Ambos, \n F=Float",null,"Dirección Angular del Oleaje","Unidad de la Variable","Cant.en numero:\n P=Positivo, \n N=Negativo, \n A=Ambos, \n F=Float",null,"Flag","Unidad de la Variable","Cant.en numero:\n P=Positivo, \n N=Negativo, \n A=Ambos, \n F=Float",null,"Cantidad"]
["Valor Min.","D160",null,null,1,0.1,1,1,null,null,null,null,null,null,"0",null,null,null,"0",null,null,null,"00",null,null,null,"00"]
["Valor Max.","D169",null,null,32,10,3600,3600,null,null,null,null,null,null,1111,null,null,null,11111,null,null,null,11,null,null,null,11]
["bytes a tx",4,6,3,1,4,4,4,2,3,2,2,3,2,1,2,3,2,1,2,3,2,1,2,3,2,1,2]
["Ejm. completo","D160D",100522,"M4",5,1,1800,1800,1,1,"2P",2,22,"2P",{"$f":"BIN2HEX(O39)","v":"F"},3,31,"2P",{"$f":"BIN2HEX(S39)","v":"1F"},4,41,"2P",{"$f":"BIN2HEX(W39)","v":"3"},"F",1,"1P",{"$f":"BIN2HEX(AA39)","v":"3"},"4F"]
[null,"D160D",10422,"M4",5,1,1800,1800,1,1,"2P",2,22,"2P","F",3,31,"2P","1F",4,41,"2P",3,"F",1,"1P",3]
[]
["4. TRAMA CONFIGURACIÓN DEL EQUIPO EXTENDIDA (NOMBRE ESPECÍFICO DE LAS VARIABLES)"]
["Esta trama define lon nombres específicos y el orden de cada variable de la MBW3.\nEstá separado por comas y se transmite en ASCII"]
[]
["Posición del Campo",1,2,3,4,5,6,7,8,9,10,11,12,13,14,15,16,17,18,19]
["DESCRIPCIÓN","TIPO DE TRAMA","FECHA DEF TRAMA","DEF.EQUIPO","CANTIDAD VARIABLES","NOMBRE ESPECÍFICO VARIABLE 1","NOMBRE ESPECÍFICO VARIABLE 2.1","NOMBRE ESPECÍFICO VARIABLE 2.2","NOMBRE ESPECÍFICO VARIABLE 2.3","NOMBRE ESPECÍFICO VARIABLE 2.4","NOMBRE ESPECÍFICO VARIABLE 3.1","NOMBRE ESPECÍFICO VARIABLE 3.2","NOMBRE ESPECÍFICO VARIABLE 3.3","NOMBRE ESPECÍFICO VARIABLE 3.4","NOMBRE ESPECÍFICO VARIABLE 3.5","NOMBRE ESPECÍFICO VARIABLE 4.1","NOMBRE ESPECÍFICO VARIABLE 4.2","NOMBRE ESPECÍFICO VARIABLE 5.1","NOMBRE ESPECÍFICO VARIABLE 5.2","Checksum"]
["Unidad","Id de la Trama","Nombre del Equipo","Nombre del Equipo","Cantidad","NRO DE OLAS","H.MAX.","HSIG/10","HSIG/3","HMED","TMAX","TPICO","TSIG/10","TSIG/3","TMED","DIR","DESV","FLAG1","FLAG2","Cantidad"]
["Valor Min.","D160",null,null,1,"VQTY","VMXL","VH110","VAVH","VHM0","VTMX","VTPK","VT110","VAVT","VGTA","VDIR","VPSP","VFL1","VFL2"]
["Valor Max.","D169",null,null,64]
["bytes a tx",4,6,3,1,4,4,4,4,4,4,4,4,4,4,4,4,4,4,2]
["Ejm. completo","D160X",310322,"M4",14,"VQTY","VMXL","VH110","VAVH","VHM0","VTMX","VTPK","VT110","VAVT","VGTA","VDIR","VPSP","VFL1","VFL2","4F"]
[]
[]
[]
["5. TRAMA DE LA CONFIGURACIÓN DE UMBRALES DE DATOS MBW3"]
["Esta trama define los valores máximos y mínimos de cada variable, los valores fuera de este rango serán desechados.\nEstá separado por comas y se transmite en ASCII"]
[]
["Posición del Campo",1,2,3,4,5,6,7,8,9,10,11,12,13,14,15]
["DESCRIPCIÓN","TIPO DE TRAMA","FECHA DEF TRAMA","DEF.EQUIPO","CANTIDAD VARIABLES","VALOR MÍNIMO VARIABLE 1","VALOR MAXIMO VARIABLE 1","VALOR MÍNIMO VARIABLE 2","VALOR MAXIMO VARIABLE 2","VALOR MÍNIMO VARIABLE 3","VALOR MAXIMO VARIABLE 3","VALOR MÍNIMO VARIABLE 4","VALOR MAXIMO VARIABLE 4","VALOR MÍNIMO VARIABLE 5","VALOR MAXIMO VARIABLE 5","Checksum"]
["Unidad","Id de la Trama","Nombre del Equipo","Nombre del Equipo","Cantidad","Cantidad de Olas","Cantidad de Olas","Altura de Olas\n(m x10-2)","Altura de Olas\n(m x10-2)","Período de Olas\n(seg x10-1)","Período de Olas\n(seg x10-1)","Dirección Angular de Olas\n(º x10-1)","Dirección Angular de Olas\n(º x10-1)","Flag","Flag","Cantidad"]
["Valor Min.","D160U",null,null,1]
["Valor Max.","D169U",null,null,64]
["bytes a tx",4,6,3,1,null,null,null,null,null,null,null,null,null,null,2]
["Ejm. completo","D160U",310322,"M4",5,1,1000,1,3000,1,1000,0,3599,0,100,"4F"]
["Trama Real","D160U",10422,"M4",5,1,1000,1,3000,1,1000,0,3599,0,"100*46"]
[]
[]
[]
["DESCRIPCIÓN","Enable","Nivel reposo reset","Reset\nxx.x (seg)","Sincronización\nAutomática\nFecha","Factor \nCorrección \nDirección ","Método\nCálculo\nDireción","Altura\nMínima","Altura\nMáxima","Período\nMínimo","Período\nMáximo","Intervalo\nPromedio"]
["Valor Min.","0 => NO\n","0 => N.O.\n",1]
["Valor Max.","1 => SI","1 => N.C.",65535]
["bytes a tx",1,1,2,1,1,1,2,2,1,1,1]
[null,null,null,null,null,null,null,null,null,null,null,"Definido en la \nTrama 160"]

{"sheet":"EMA","index":8,"n_rows":57,"n_cols":27,"rows_kept":57,"cut":false,"hidden":false,"merged":[[3,0,4,0],[8,3,8,4],[8,5,8,6],[8,7,8,8],[8,9,8,10],[8,11,8,12],[8,13,8,14],[9,3,9,4],[9,5,9,6],[9,7,9,8],[9,9,9,10],[9,11,9,12],[9,13,9,14],[10,3,10,4],[10,5,10,6],[10,7,10,8],[10,9,10,10],[10,11,10,12],[10,13,10,14],[11,3,11,4],[11,5,11,6],[11,7,11,8],[11,9,11,10],[11,11,11,12],[11,13,11,14],[12,3,12,4],[12,5,12,6],[12,7,12,8],[12,9,12,10],[12,11,12,12],[12,13,12,14],[13,3,13,4],[13,5,13,6],[13,7,13,8],[13,9,13,10],[13,11,13,12],[13,13,13,14],[14,3,14,4],[14,5,14,6],[14,7,14,8],[14,9,14,10],[14,11,14,12],[14,13,14,14],[15,3,15,4],[15,5,15,6],[15,7,15,8],[15,9,15,10],[15,11,15,12],[15,13,15,14],[16,3,16,4],[16,5,16,6],[16,7,16,8],[16,9,16,10],[16,11,16,12],[16,13,16,14],[17,3,17,4],[34,0,34,7],[47,0,47,7]]}
[]
["1. TRAMA SALIDA DE DATOS DEL SENSOR EN ASCII Y SU INTREPETACIÓN"]
[]
["Trama actual del equipo:","$WIMDA,30.0143,I,1.0164,B,24.3,C,,,56.4,,15.0,C,132.9,T,131.3,M,11.6,N,6.0,M*51"]
[]
[]
[]
["2. TRAMA SALIDA DE DATOS DE LA EMA",null,null,{"$f":"SUM(B16:Q16)","v":14},null,{"$f":"D8*8","v":112},{"$f":"ROUNDUP(F8/6,0)","v":19}]
[null,null,null,"WDIR",null,"WSPD",null,"GDIR",null,"GSPD",null,"ATMS",null,"DRYT"]
[null,"ID TRAMA","DIF FECHA","Dirección del Viento",null,"Velocidad del Viento",null,"Dirección del Viento\nRáfaga",null,"Velocidad del Viento\nRáfaga",null,"Presión Atmosférica",null,"Temperatura"]
["Unidad","Id de la Trama","minutos \n(pos.y neg.)","º\n(pos)",null,"m/s x 10-2\n(pos)",null,"º\n(pos)",null,"m/s x 10-2\n(pos)",null,"hPa x 10-1\n(pos)",null,"ºC x 10-1\n(pos.y neg.)"]
["Valor Min.",120,126,0,null,0,null,0,null,0,null,300,null,-10]
["Valor Max.",159,-127,359,null,100.99,null,359,null,100.99,null,1200,null,50]
["Valor Max.",null,"127 (7Fh) y\n -128 (80h)",65535,null,65535,null,65535,null,65535,null,65535,null,"32770 (7FFFh) y \n-32768 (8000h)"]
["Posición trama a tx",1,{"$f":"B16+B15","v":2},{"$f":"C15+C16","v":3},null,{"$f":"D15+D16","v":5},null,{"$f":"F15+F16","v":7},null,{"$f":"H15+H16","v":9},null,{"$f":"J15+J16","v":11},null,{"$f":"L15+L16","v":13}]
["bytes a tx",1,1,2,null,2,null,2,null,2,null,2,null,2]
["Ejm. completo",122,-1,56,null,19,null,0,null,19,null,10156,null,217]
[null,null,null,null,null,null,"8 bits","6 bits"]
[null,null,null,null,null,"1 byte",255,63]
[null,null,null,null,null,"2 bytes",65535,4095]
[null,null,null,null,null,"3 bytes",16777215,262143]
[null,null,null,null,null,"4 bytes",{"$f":"4294967295","v":4294967295},16777215]
["3. TRAMA CONFIGURACIÓN DEL EQUIPO",null,null,{"$f":"SUM(B29:AA29)","v":63}]
["Posición del Campo",1,2,3,4,5,6,7,8,9,10,11,12,13,14,15,16,17,18,19,20,21,22,23,24,25,26]
["DESCRIPCIÓN","TIPO DE TRAMA","FECHA DEF TRAMA","DEF.EQUIPO","CANTIDAD VARIABLES","VELOCIDAD DE MUESTREO","TIEMPO DE LA MEDIA","FRECUENCIA DE MEDICIÓN","NOMBRE VARIABLE 1","UNIDAD VARIABLE 1","TIPO DE BYTE VARIABLE 1","NOMBRE VARIABLE 2","UNIDAD VARIABLE 2","TIPO DE BYTE VARIABLE 2","NOMBRE VARIABLE 3","UNIDAD VARIABLE 3","TIPO DE BYTE VARIABLE 3","NOMBRE VARIABLE 4","UNIDAD VARIABLE 4","TIPO DE BYTE VARIABLE 4","NOMBRE VARIABLE 5","UNIDAD VARIABLE 5","TIPO DE BYTE VARIABLE 5","NOMBRE VARIABLE 6","UNIDAD VARIABLE 6","TIPO DE BYTE VARIABLE 6","Checksum"]
["Unidad","Id de la Trama","Nombre del Equipo","Nombre del Equipo","Cantidad","Segundos","Segundos","Segundos","WDIR","º","Cant.en numero:\n P=Positivo, \n N=Negativo, \n A=Ambos, \n F=Float","WSPD","m/s x 10-2","Cant.en numero:\n P=Positivo, \n N=Negativo, \n A=Ambos, \n F=Float","GDIR","º","Cant.en numero:\n P=Positivo, \n N=Negativo, \n A=Ambos, \n F=Float","GSPD","m/s x 10-2","Cant.en numero:\n P=Positivo, \n N=Negativo, \n A=Ambos, \n F=Float","ATMS","hPa x 10-1","Cant.en numero:\n P=Positivo, \n N=Negativo, \n A=Ambos, \n F=Float","DRYT\n(Temp.Aire)","ºC x 10-1","Cant.en numero:\n P=Positivo, \n N=Negativo, \n A=Ambos, \n F=Float","Cantidad"]
["Valor Min.","D120D",null,null,1,1,1,1]
["Valor Max.","D159D",null,null,32,3600,3600,3600]
["bytes a tx",3,6,2,2,4,4,4,2,null,2,2,3,2,2,2,2,2,3,2,2,2,2,2,2,2,2]
["Ejm. completo","D122D",210522,"A1",6,1,1800,1800,4,40,"2P",13,92,"2P",4,40,"2P",14,92,"2P",11,111,"2P",6,61,"2A","4F"]
[null,"D122D",101022,"A1",6,1,1800,1800,4,40,"2P",13,92,"2P",4,40,"2P",14,92,"2P",11,111,"2P",6,61,"2A"]
[]
[]
["4. TRAMA CONFIGURACIÓN DEL EQUIPO EXTENDIDA (NOMBRE ESPECÍFICO DE LAS VARIABLES)"]
["Esta trama define los nombres específicos y el orden de cada variable de la EMA.\nEstá separado por comas y se transmite en ASCII"]
[]
["Posición del Campo",1,2,3,4,5,6,7,8,9,10,11]
["DESCRIPCIÓN","TIPO DE TRAMA","FECHA DEF TRAMA","DEF.EQUIPO","CANTIDAD VARIABLES","NOMBRE ESPECÍFICO VARIABLE 1","NOMBRE ESPECÍFICO VARIABLE 2","NOMBRE ESPECÍFICO VARIABLE 3","NOMBRE ESPECÍFICO VARIABLE 4","NOMBRE ESPECÍFICO VARIABLE 5","NOMBRE ESPECÍFICO VARIABLE 6","Checksum"]
["Unidad","Id de la Trama","Nombre del Equipo","Nombre del Equipo","Cantidad","Dirección del viento","Velocidad del viento","Dirección de ráfaga","Velocidad de ráfaga","Presión atmosférica","Temperatura del aire","Cantidad"]
["Valor Min.","D120X",null,null,1]
["Valor Max.","D159X",null,null,64]
["bytes a tx",4,6,3,1,4,4,4,4,4,6,2]
["Ejm. completo","D122X",310322,"A1",6,"WDIR","WSPD","GDIR","GSPD","ATMS","DRYT","4F"]
["Trama Real","D122X",10622,"A1",6,"WDIR","WSPD","GDIR","GSPD","ATMS","DRYT","*54"]
[]
[]
["5. TRAMA DE LA CONFIGURACIÓN DE UMBRALES DE DATOS CTD"]
["Esta trama define los valores máximos y mínimos de cada variable, los valores fuera de este rango serán desechados.\nEstá separado por comas y se transmite en ASCII"]
[]
["Posición del Campo",1,2,3,4,5,6,7,8,9,10,11,12,13,14,15,16,17]
["DESCRIPCIÓN","TIPO DE TRAMA","FECHA DEF TRAMA","DEF.EQUIPO","CANTIDAD VARIABLES","VALOR MÍNIMO VARIABLE 1","VALOR MAXIMO VARIABLE 1","VALOR MÍNIMO VARIABLE 2","VALOR MAXIMO VARIABLE 2","VALOR MÍNIMO VARIABLE 3","VALOR MAXIMO VARIABLE 3","VALOR MÍNIMO VARIABLE 4","VALOR MAXIMO VARIABLE 4","VALOR MÍNIMO VARIABLE 5","VALOR MAXIMO VARIABLE 5","VALOR MINIMO VARIABLE 6","VALOR MAXIMO VARIABLE 6","Checksum"]
["Unidad","Id de la Trama","Nombre del Equipo","Nombre del Equipo","Cantidad","WDIR\n(º)","WDIR\n(º)","WSPD\n(m/s x 10-2)","WSPD\n(m/s x 10-2)","GDIR\n(º)","GDIR\n(º)","GSPD\n(m/s x 10-2)","GSPD\n(m/s x 10-2)","ATMS\n(hPa x 10-1)","ATMS\n(hPa x 10-1)","DRYT\n(ºC x 10-1)","DRYT\n(ºC x 10-1)","Cantidad"]
["Valor Min.","D120U",null,null,1,0,359,0,60,0,359,0,60,300,1100,-10,50]
["Valor Max.","D159U",null,null,64]
["bytes a tx",4,6,3,1,null,null,null,null,null,null,null,null,null,null,null,null,2]
["Ejm. completo","D122U",310322,"A1",6,0,359,0,60,0,359,0,60,300,1100,-10,50,"4F"]
["Trama Real"]

{"sheet":"Edo.EMA","index":9,"n_rows":33,"n_cols":110,"rows_kept":33,"cut":false,"hidden":false,"merged":[[3,0,3,6],[3,7,3,11],[5,2,5,5],[5,6,5,9],[5,10,5,13],[6,2,6,5],[6,6,6,9],[6,10,6,13],[7,2,7,5],[7,6,7,9],[7,10,7,13],[8,2,8,5],[8,6,8,9],[8,10,8,13],[9,2,9,5],[9,6,9,9],[9,10,9,13],[10,2,10,5],[10,6,10,9],[10,10,10,13],[11,2,11,5],[11,6,11,9],[11,10,11,13],[17,2,17,5],[17,6,17,9],[17,10,17,13],[18,2,18,5],[18,6,18,9],[18,10,18,13],[19,2,19,3],[19,4,19,5],[19,6,19,9],[19,10,19,13],[22,0,22,12]]}
[]
[]
["2. TRAMA DE ESTADO DE LA EMA",null,null,{"$f":"SUM(B11:P11)","v":15}]
["En esta trama se transmiten los datos de las analógicas y digitales del datalogger\nNO están separados por comas, se identifican según su posición y se transmite en BIN",null,null,null,null,null,null,"TRAMA DE ESTADO"]
[]
[null,"ID TRAMA","Fecha GPS MBW3",null,null,null,"Latitud",null,null,null,"Longitud",null,null,null,"Cant. Sat.","PDOP","Checksum\n(solo cuando es un telemando individual)"]
["Unidad","Id de la Trama","DDMMAAhhmm",null,null,null,"Definido en la configuración",null,null,null,"Definido en la configuración",null,null,null,"Cantidad de Satélites","Calidad Posición","Cantidad"]
["Valor Min.",120,"0101200000",null,null,null,-900000000,null,null,null,-1799999999,null,null,null,0,1]
["Valor Max.",159,3112992359,null,null,null,"900000000",null,null,null,1800000000,null,null,null,255,9]
["Posición trama a tx",1,{"$f":"B10+B11","v":2},null,null,null,{"$f":"C10+C11","v":6},null,null,null,{"$f":"G11+G10","v":10},null,null,null,{"$f":"K10+K11","v":14},{"$f":"O10+O11","v":15},{"$f":"P10+P11","v":16}]
["bytes a tx",1,4,null,null,null,4,null,null,null,4,null,null,null,1,1]
["Ejm. completo",123,3103221345,null,null,null,4587765432,null,null,null,-15612345678,null,null,null,10,16,"4F"]
[]
["EJEMPLO:","A2 3B EA 75 52 01 6A 6A BF FF FB 22 70 05 03 B6 A1 3B EA 75 52 00 40 02 CF"]
[null,12,13,14,15,16,17,18,19,20,21,22,23,24,25,26]
["Posición byte",1,2,3,4,5,6,7,8,9,10,11,12,13,14,15,16]
["HEX Rx 2","7B","A7",34,42,"A9",1,69,"3B",14,"FF","FB","FC","BC",5,"1A","A1","A7",34,42,"A2",70,"6F",2,"A0","0A",0,1,0,2,0,2,0,2,0,2,0,"C8",0,"C8",0,"C8",0,"C8",0,"C8","0A","5E",0,0,64,64,"1D","D9","FA","EC","FD","BD","FF",17,"FF","8C","FB",91,2,"7A",9,"F4","1E",1,0,"5F",9,"F6",0,1,0,1,0,0,"A0","0A",0,2,0,2,0,2,0,2,0,2,1,16,0,"E0",1,16,1,16,0,"FB","0A",9,0,82,64,64,"2C","A6"]
["HEX",{"$f":"TEXT(B17,\"00\")","v":"7B"},{"$f":"CONCATENATE(TEXT(C17,\"00\"),TEXT(D17,\"00\"),TEXT(E17,\"00\"),TEXT(F17,\"00\"))","v":"A73442A9"},null,null,null,{"$f":"CONCATENATE(TEXT(G17,\"00\"),TEXT(H17,\"00\"),TEXT(I17,\"00\"),TEXT(J17,\"00\"))","v":"01693B14"},null,null,null,{"$f":"CONCATENATE(TEXT(K17,\"00\"),TEXT(L17,\"00\"),TEXT(M17,\"00\"),TEXT(N17,\"00\"))","v":"FFFBFCBC"},null,null,null,{"$f":"TEXT(O17,\"00\")","v":"05"},{"$f":"TEXT(P17,\"00\")","v":"1A"},{"$f":"TEXT(Q17,\"00\")","v":"A1"},{"$f":"TEXT(R17,\"00\")","v":"A7"},{"$f":"TEXT(S17,\"00\")","v":"34"},{"$f":"TEXT(T17,\"00\")","v":"42"}]
["DEC",{"$f":"HEX2DEC(B18)","v":123},{"$f":"TEXT(HEX2DEC(C18),\"0000000000\")","v":"2805220009"},null,null,null,{"$f":"TEXT(HEX2DEC(G18),\"0000000000\")","v":"0023673620"},null,null,null,{"$f":"TEXT(HEX2DEC(K18),\"0000000000\")","v":"4294704316"},null,null,null,{"$f":"HEX2DEC(O18)","v":5},{"$f":"HEX2DEC(P18)","v":26},{"$f":"HEX2DEC(Q18)","v":161},{"$f":"HEX2DEC(R18)","v":167},{"$f":"HEX2DEC(S18)","v":52},{"$f":"HEX2DEC(T18)","v":66}]
[null,{"$f":"B19","v":123},{"$f":"DATE(MID(C19,5,2)+100,MID(C19,3,2),MID(C19,1,2))","v":"2022-05-28"},null,{"$f":"(RIGHT(C19,4))","v":"0009"},null,{"$f":"(IF(HEX2DEC(G18)>(2147483647),HEX2DEC(G18)-4294967296,HEX2DEC(G18)))*10^-7","v":2.367362},null,null,null,{"$f":"(IF(HEX2DEC(K18)>(2147483647),HEX2DEC(K18)-4294967296,HEX2DEC(K18)))*10^-7","v":-0.026298},null,null,null,{"$f":"O19","v":5},{"$f":"P19","v":26},{"$f":"Q19","v":161},{"$f":"R19","v":167},{"$f":"S19","v":52},{"$f":"T19","v":66}]
[]
["3. TRAMA CONFIGURACIÓN DEL EQUIPO",null,null,null,{"$f":"LEN(CONCATENATE(B32,C32,D32,E32,F32,G32,H32,I32,J32,K32,L32,M32,N32,O32))+O26","v":45},{"$f":"SUM(A31:O31)+O26","v":51}]
["Esta trama define como está configurada la trama de Estado del GPS de la MBW3, qué tramas, cuantas y cuales celdas se tranmiten, junto con su unidad.\nEstá separado por comas y se transmite en ASCII (azul), las máscaras se transmiten en HEX y interpretan en binario (verde)"]
[]
[]
["Posición del Campo",1,2,3,4,5,6,7,8,9,10,11,12,13,14]
["DESCRIPCIÓN","TIPO DE TRAMA","FECHA DEF TRAMA","DEF.EQUIPO","CANTIDAD VARIABLES","NOMBRE VARIABLE 1","UNIDAD VARIABLE 1","TIPO DE BYTE VARIABLE 1","NOMBRE VARIABLE 2","UNIDAD VARIABLE 2","TIPO DE BYTE VARIABLE 2","NOMBRE VARIABLE 3","UNIDAD VARIABLE 3","TIPO DE BYTE VARIABLE 3","Checksum"]
["Unidad","Id de la Trama","Nombre del Equipo","Nombre del Equipo","Cantidad","Nombre de la Variable","Unidad de la Variable","Cant.en numero y Positivo, Negativo, Ambos, Float","Nombre de la Variable","Unidad de la Variable","Cant.en numero y Positivo, Negativo, Ambos, Float","Nombre de la Variable","Unidad de la Variable","Cant.en numero y Positivo, Negativo, Ambos, Float","Cantidad"]
["Valor Min.","D121E",null,null,1]
["Valor Max.","D159E",null,null,32]
["bytes a tx",5,6,2,1,2,3,2,2,3,2,2,3,2,2]
["Ejm. completo","D123E",210522,"A1",3,"P","P8","4A","PS",1,"1P","PQ",1,"1P","4F"]
[null,"D123E",101022,"A1",3,"P","P7","4A","PS",1,"1P","PQ",1,"1P"]

{"sheet":"Edo.CTD","index":10,"n_rows":33,"n_cols":94,"rows_kept":33,"cut":false,"hidden":false,"merged":[[3,0,3,8],[3,9,3,13],[5,2,5,5],[5,6,5,7],[5,8,5,9],[6,2,6,5],[6,6,6,7],[6,8,6,9],[7,2,7,5],[7,6,7,7],[7,8,7,9],[8,2,8,5],[8,6,8,7],[8,8,8,9],[9,2,9,5],[9,6,9,7],[9,8,9,9],[10,2,10,5],[10,6,10,7],[10,8,10,9],[11,2,11,5],[11,6,11,7],[11,8,11,9],[17,2,17,5],[17,6,17,7],[17,8,17,9],[18,2,18,5],[18,6,18,7],[18,8,18,9],[19,2,19,3],[19,4,19,5],[19,6,19,7],[19,8,19,9],[23,0,23,12]]}
[]
[]
["2. TRAMA DE ESTADO DEL CTD",null,null,{"$f":"SUM(B11:M11)","v":12}]
["En esta trama se transmiten los datos de las analógicas y digitales del datalogger\nNO están separados por comas, se identifican según su posición y se transmite en BIN",null,null,null,null,null,null,null,null,"TRAMA DE ESTADO"]
[]
[null,"ID TRAMA","Fecha CTD",null,null,null,"V1",null,"V2",null,"Cant.Sensores","Ocupación SD","Archivos en memoria","Checksum\n(solo cuando es un telemando individual)"]
["Unidad","Id de la Trama","DDMMAAhhmm\n(Telemandos date y time)",null,null,null,"Line V",null,"Bat V",null,"AD","%","AD","Cantidad"]
["Valor Min.",31,"0101200000",null,null,null,0,null,0,null,0,0,0]
["Valor Max.",31,3112992359,null,null,null,65535,null,65535,null,255,100,255]
["Posición trama a tx",1,{"$f":"B10+B11","v":2},null,null,null,{"$f":"C10+C11","v":6},null,{"$f":"G11+G10","v":8},null,{"$f":"I10+I11","v":10},{"$f":"K10+K11","v":11},{"$f":"L10+L11","v":12},{"$f":"M10+M11","v":13}]
["bytes a tx",1,4,null,null,null,2,null,2,null,1,1,1]
["Ejm. completo",31,3103221345,null,null,null,1244,null,1253,null,2,33,8,"4F"]
[]
["EJEMPLO:"]
[]
["Posición byte",1,2,3,4,5,6,7,8,9,10,11,12,13]
["HEX Rx 2","1F","A7",34,42,"A1",4,"AA",0,43,3,32,3,"A0","D8",0,1,0,2,0,2,0,2,0,2,0,"A6",0,"A6",0,"A6",0,"A6",0,"A6",3,"DE",0,0,64,64,"A2","A7",34,42,"A9",1,69,"3B",14,"FF","FB","FC","BC",5,"1A","A1","A7",34,42,"A2",70,"6F",2,"A0","0A",0,1,0,2,0,2,0,2,0,2,0,"C8",0,"C8",0,"C8",0,"C8",0,"C8","0A","5E",0,0,64,64,"1D","D9"]
["HEX",{"$f":"TEXT(B17,\"00\")","v":"1F"},{"$f":"CONCATENATE(TEXT(C17,\"00\"),TEXT(D17,\"00\"),TEXT(E17,\"00\"),TEXT(F17,\"00\"))","v":"A73442A1"},null,null,null,{"$f":"CONCATENATE(TEXT(G17,\"00\"),TEXT(H17,\"00\"))","v":"04AA"},null,{"$f":"CONCATENATE(TEXT(I17,\"00\"),TEXT(J17,\"00\"))","v":"0043"},null,{"$f":"TEXT(K17,\"00\")","v":"03"},{"$f":"TEXT(L17,\"00\")","v":"32"},{"$f":"TEXT(M17,\"00\")","v":"03"},{"$f":"TEXT(N17,\"00\")","v":"A0"}]
["DEC",{"$f":"HEX2DEC(B18)","v":31},{"$f":"TEXT(HEX2DEC(C18),\"0000000000\")","v":"2805220001"},null,null,null,{"$f":"HEX2DEC(G18)","v":1194},null,{"$f":"HEX2DEC(I18)","v":67},null,{"$f":"HEX2DEC(K18)","v":3},{"$f":"HEX2DEC(L18)","v":50},{"$f":"HEX2DEC(M18)","v":3},{"$f":"HEX2DEC(N18)","v":160}]
[null,{"$f":"B19","v":31},{"$f":"DATE(MID(C19,5,2)+100,MID(C19,3,2),MID(C19,1,2))","v":"2022-05-28"},null,{"$f":"(RIGHT(C19,4))","v":"0001"},null,{"$f":"G19","v":1194},null,{"$f":"I19","v":67},null,{"$f":"K19","v":3},{"$f":"L19","v":50},{"$f":"M19","v":3},{"$f":"N19","v":160}]
[]
[]
["3. TRAMA CONFIGURACIÓN DEL EQUIPO",null,null,null,{"$f":"LEN(CONCATENATE(B33,C33,D33,E33,F33,G33,H33,J33,K33,L33,M33,N33,O33,P33,Q33,S55,R33,I33,S33))+S27","v":54},{"$f":"SUM(A32:S32)+S27","v":58}]
["Esta trama define como está configurada la trama de Estado del CTD, qué tramas, cuantas y cuales celdas se tranmiten, junto con su unidad.\nEstá separado por comas y se transmite en ASCII (azul), las máscaras se transmiten en HEX y interpretan en binario (verde)"]
[]
[]
["Posición del Campo",1,2,3,4,5,6,7,8,9,10,11,12,13,14,15,16,17,18]
["DESCRIPCIÓN","TIPO DE TRAMA","FECHA DEF TRAMA","DEF.EQUIPO","CANTIDAD VARIABLES","NOMBRE VARIABLE 1","UNIDAD VARIABLE 1","TIPO DE BYTE VARIABLE 1","MASCARA VARIABLE 1","NOMBRE VARIABLE 2","UNIDAD VARIABLE 2","TIPO DE BYTE VARIABLE 2","NOMBRE VARIABLE 3","UNIDAD VARIABLE 3","TIPO DE BYTE VARIABLE 3","NOMBRE VARIABLE 4","UNIDAD VARIABLE 4","TIPO DE BYTE VARIABLE 4","Checksum"]
["Unidad","Id de la Trama","Nombre del Equipo","Nombre del Equipo","Cantidad","Nombre de la Variable","Unidad de la Variable","Cant.en numero y Positivo, Negativo, Ambos, Float",null,"Cantidad de Sensores","Unidad de la Variable","Cant.en numero y Positivo, Negativo, Ambos, Float","Cantidad de memoria Ocupada\n%","Unidad de la Variable","Cant.en numero y Positivo, Negativo, Ambos, Float","Cantidad de Archivos en Memoria","Unidad de la Variable","Cant.en numero y Positivo, Negativo, Ambos, Float","Cantidad"]
["Valor Min.","D31E",null,null,1,null,null,null,"0"]
["Valor Max.","D31E",null,null,32,null,null,null,11]
["bytes a tx",4,6,2,1,2,3,2,1,"E1",3,1,2,3,2,2,3,1,2]
["Ejm. completo","D31E",210522,"E1",4,"V","V2","2P",{"$f":"BIN2HEX(I31)","v":"3"},"E1",1,"1P","M","M0","1P","E2",1,"1P","4F"]

{"sheet":"ADCP Estado","index":11,"n_rows":34,"n_cols":17,"rows_kept":34,"cut":false,"hidden":false,"merged":[[3,0,3,8],[3,9,3,13],[5,2,5,5],[5,6,5,7],[5,8,5,9],[5,10,5,11],[5,12,5,13],[5,14,5,15],[6,2,6,5],[6,6,6,7],[6,8,6,9],[6,10,6,11],[6,12,6,13],[6,14,6,15],[7,2,7,5],[7,6,7,7],[7,8,7,9],[7,12,7,13],[8,2,8,5],[8,6,8,7],[8,8,8,9],[8,12,8,13],[9,2,9,5],[9,6,9,7],[9,8,9,9],[9,10,9,11],[9,12,9,13],[9,14,9,15],[10,2,10,5],[10,6,10,7],[10,8,10,9],[10,10,10,11],[10,12,10,13],[10,14,10,15],[11,2,11,5],[11,6,11,7],[11,8,11,9],[11,10,11,11],[11,12,11,13],[11,14,11,15],[17,2,17,5],[17,6,17,7],[17,8,17,9],[17,10,17,11],[17,12,17,13],[17,14,17,15],[18,2,18,5],[18,6,18,7],[18,8,18,9],[18,10,18,11],[18,12,18,13],[18,14,18,15],[19,2,19,3],[19,4,19,5],[19,6,19,7],[19,8,19,9],[19,10,19,11],[19,12,19,13],[19,14,19,15],[22,0,22,14]]}
[]
[]
["2. TRAMA DE ESTADO DEL ADCP",null,null,{"$f":"SUM(B11:P11)","v":15}]
["En esta trama se transmiten los datos de las analógicas y digitales del datalogger\nNO están separados por comas, se identifican según su posición y se transmite en BIN",null,null,null,null,null,null,null,null,"TRAMA DE ESTADO"]
[]
[null,"ID TRAMA","Fecha ADCP",null,null,null,"V1",null,"Presion ",null,"Compass heading",null,"Compass Pitch",null,"Compass Roll",null,"Checksum\n(solo cuando es un telemando individual)"]
["Unidad","Id de la Trama","DDMMAAhhmm\n(Telemando RC)",null,null,null,"Line V \n(Telemando BV)",null,"dBar",null,"º",null,"º",null,"º",null,"Cantidad"]
["Valor Min.",80,"0101200000",null,null,null,0,null,0]
["Valor Max.",119,3112992359,null,null,null,65535,null,65535]
["Posición trama a tx",1,{"$f":"B10+B11","v":2},null,null,null,{"$f":"C10+C11","v":6},null,{"$f":"G10+G11","v":8},null,{"$f":"I10+I11","v":10},null,{"$f":"K10+K11","v":12},null,{"$f":"M10+M11","v":14},null,{"$f":"P10+P11","v":0}]
["bytes a tx",1,4,null,null,null,2,null,2,null,2,null,2,null,2,null,2]
["Ejm. completo",81,3103221345,null,null,null,1244,null,1003,null,159.4,null,-161.4,null,-162.3,null,"4F"]
[]
["EJEMPLO:"]
[]
["Posición byte",1,2,3,4,5,10,11,12,13,14,15,16,17,18,19,20]
["HEX Rx 2",51,65,"A3","9A","F0","2D","8A",0,"1B",6,97,"FF",33,1,4,89]
["HEX",{"$f":"TEXT(B17,\"00\")","v":"51"},{"$f":"CONCATENATE(TEXT(C17,\"00\"),TEXT(D17,\"00\"),TEXT(E17,\"00\"),TEXT(F17,\"00\"))","v":"65A39AF0"},null,null,null,{"$f":"CONCATENATE(TEXT(G17,\"00\"),TEXT(H17,\"00\"))","v":"2D8A"},null,{"$f":"CONCATENATE(TEXT(I17,\"00\"),TEXT(J17,\"00\"))","v":"001B"},null,{"$f":"CONCATENATE(TEXT(K17,\"00\"),TEXT(L17,\"00\"))","v":"0697"},null,{"$f":"CONCATENATE(TEXT(M17,\"00\"),TEXT(N17,\"00\"))","v":"FF33"},null,{"$f":"CONCATENATE(TEXT(O17,\"00\"),TEXT(P17,\"00\"))","v":"0104"},null,{"$f":"TEXT(Q17,\"00\")","v":"89"}]
["DEC",{"$f":"HEX2DEC(B18)","v":81},{"$f":"TEXT(HEX2DEC(C18),\"0000000000\")","v":"1705220848"},null,null,null,{"$f":"HEX2DEC(G18)","v":11658},null,{"$f":"HEX2DEC(I18)","v":27},null,{"$f":"IF(HEX2DEC(K18)>(32767),HEX2DEC(K18)-65536,HEX2DEC(K18))","v":1687},null,{"$f":"IF(HEX2DEC(M18)>(32767),HEX2DEC(M18)-65536,HEX2DEC(M18))","v":-205},null,{"$f":"IF(HEX2DEC(O18)>(32767),HEX2DEC(O18)-65536,HEX2DEC(O18))","v":260},null,{"$f":"HEX2DEC(Q18)","v":137}]
[null,{"$f":"B19","v":81},{"$f":"DATE(MID(C19,5,2)+100,MID(C19,3,2),MID(C19,1,2))","v":"2022-05-17"},null,{"$f":"(RIGHT(C19,4))","v":"0848"},null,{"$f":"G19/1000","v":11.658},null,{"$f":"I19/1000","v":0.027},null,{"$f":"K19/10","v":168.7},null,{"$f":"M19/10","v":-20.5},null,{"$f":"O19/10","v":26},null,{"$f":"Q19","v":137}]
[]
["3. TRAMA CONFIGURACIÓN DEL EQUIPO",null,null,null,{"$f":"LEN(CONCATENATE(B32,C32,D32,E32,,F32,G32,H32,I32,P32,J32,K32,L32,M32,N32,S54,O32,Q32))+Q26","v":48},{"$f":"SUM(A31:Q31)+Q26","v":54}]
["Esta trama define como está configurada la trama de Estado del ADCP, qué tramas, cuantas y cuales celdas se tranmiten, junto con su unidad.\nEstá separado por comas y se transmite en ASCII (azul), las máscaras se transmiten en HEX y interpretan en binario (verde)"]
[]
[]
["Posición del Campo",1,2,3,4,5,6,7,8,9,10,11,12,13,14,15,16]
["DESCRIPCIÓN","TIPO DE TRAMA","FECHA DEF TRAMA","DEF.EQUIPO","CANTIDAD VARIABLES","NOMBRE VARIABLE 1","UNIDAD VARIABLE 1","TIPO DE BYTE VARIABLE 1","MASCARA VARIABLE 1","UNIDAD VARIABLE 2","TIPO DE BYTE VARIABLE 2","TIPO DE BYTE VARIABLE 2","NOMBRE VARIABLE 3","UNIDAD VARIABLE 3","TIPO DE BYTE VARIABLE 3","MASCARA VARIABLE 3","Checksum"]
["Unidad","Id de la Trama","Nombre del Equipo","Nombre del Equipo","Cantidad","Voltaje","mV","Cant.en numero y Positivo, Negativo, Ambos, Float",null,"Profundidad","cm","Cant.en numero y Positivo, Negativo, Ambos, Float","Angular \n(heading, pitch, roll)","º x10-1","Cant.en numero y Positivo, Negativo, Ambos, Float",null,"Cantidad"]
["Valor Min.","D81E",null,null,1,null,null,null,"0",null,null,null,null,null,null,"0"]
["Valor Max.","D81E",null,null,32,null,null,null,1,null,null,null,null,null,null,3]
["bytes a tx",4,6,2,1,2,3,2,1,2,3,2,2,3,2,1,2]
["Ejm. completo","D81E",210522,"N1",3,"V","V3","2P",1,5,52,"2P",4,41,"2A",1,"4F"]
["Trama Real","D81",210522,"N1",3,"V","V3","2P",1,5,52,"2P",4,41,"2A",7,"*42"]
[null,"D81E",10422,"N1",3,"V","V3","2P",1,5,52,"2P",4,41,"2A",7,"*07"]

{"sheet":"Edo.MMB03","index":12,"n_rows":121,"n_cols":35,"rows_kept":121,"cut":false,"hidden":false,"merged":[[6,0,6,8],[6,9,6,13],[8,2,8,5],[8,6,8,7],[8,8,8,9],[8,10,8,11],[8,12,8,13],[8,14,8,15],[8,16,8,18],[8,19,8,20],[8,21,8,22],[8,24,8,27],[8,28,8,31],[8,32,8,33],[9,2,9,5],[9,6,9,7],[9,8,9,9],[9,10,9,11],[9,12,9,13],[9,14,9,15],[9,21,9,22],[9,24,9,27],[9,28,9,31],[9,32,9,33],[10,2,10,5],[10,6,10,7],[10,8,10,9],[10,10,10,11],[10,12,10,13],[10,14,10,15],[10,16,10,18],[10,19,10,20],[10,21,10,22],[10,24,10,27],[10,28,10,31],[10,32,10,33],[11,2,11,5],[11,6,11,7],[11,8,11,9],[11,10,11,11],[11,12,11,13],[11,14,11,15],[11,16,11,18],[11,19,11,20],[11,21,11,22],[11,24,11,27],[11,28,11,31],[11,32,11,33],[12,2,12,5],[12,6,12,7],[12,8,12,9],[12,10,12,11],[12,12,12,13],[12,14,12,15],[12,16,12,18],[12,19,12,20],[12,21,12,22],[12,24,12,27],[12,28,12,31],[12,32,12,33],[13,2,13,5],[13,6,13,7],[13,8,13,9],[13,10,13,11],[13,12,13,13],[13,14,13,15],[13,16,13,18],[13,19,13,20],[13,21,13,22],[13,24,13,27],[13,28,13,31],[13,32,13,33],[14,2,14,5],[14,6,14,7],[14,8,14,9],[14,10,14,11],[14,12,14,13],[14,14,14,15],[14,16,14,18],[14,19,14,20],[14,21,14,22],[14,24,14,27],[14,28,14,31],[14,32,14,33],[15,2,15,5],[15,6,15,7],[15,8,15,9],[15,10,15,11],[15,12,15,13],[15,14,15,15],[15,16,15,18],[15,19,15,20],[15,21,15,22],[15,23,15,24],[15,25,15,26],[15,27,15,28],[15,32,15,33],[20,2,20,5],[20,6,20,7],[20,8,20,9],[20,10,20,11],[20,12,20,13],[20,14,20,15],[20,16,20,18],[20,19,20,20],[20,21,20,22],[20,24,20,27],[20,28,20,31],[21,2,21,5],[21,6,21,7],[21,8,21,9],[21,10,21,11],[21,12,21,13],[21,14,21,15],[21,16,21,18],[21,19,21,20],[21,21,21,22],[21,24,21,27],[21,28,21,31],[22,2,22,3],[22,4,22,5],[22,6,22,7],[22,8,22,9],[22,10,22,11],[22,12,22,13],[22,14,22,15],[22,17,22,18],[22,19,22,20],[22,21,22,22],[22,24,22,27],[22,28,22,31],[23,14,23,15],[23,16,23,18],[23,19,23,20],[23,21,23,22],[23,24,23,25],[23,26,23,27],[25,0,25,8],[39,0,39,7],[52,0,52,8],[64,0,64,8],[94,0,94,8],[105,0,105,3],[110,0,110,3],[116,0,116,3],[123,12,123,13]]}
[]
["1. TRAMA SALIDA DE DATOS DE LA MMB03 Y SU INTERPRETACIÓN"]
[]
[]
[]
["2. TRAMA DE ESTADO DEL DATALOGGER",null,null,{"$f":"SUM(B14:AH14)","v":33}]
["En esta trama se transmiten los datos de las analógicas y digitales del datalogger\nNO están separados por comas, se identifican según su posición y se transmite en BIN",null,null,null,null,null,null,null,null,"TRAMA DE ESTADO"]
[]
[null,"ID TRAMA","Fecha MMB03",null,null,null,"Volt.Batería",null,"V1",null,"V2",null,"V3",null,"I.Total",null,"Alarmas",null,null,"Estado de las Entradas",null,"Estado Sinc",null,"Memoria","Latitud",null,null,null,"Longitud",null,null,null,"Radio de Borneo",null,"Checksum\n(solo cuando es un telemando individual)"]
["Unidad","Id de la Trama","DDMMAAhhmm",null,null,null,"Definido en la configuración",null,"Definido en la configuración",null,"Definido en la configuración",null,"Definido en la configuración",null,"Definido en la configuración",null,"b0=Bateria baja\nb1=Tensión V1\nb2=Tensión V2\nb3=Tensión V3\nb4=Corriente I\nb5=Intrusión \nb6=MFGPS\nb7=Impacto Leve\n","b8=Impacto Grave\nb9=COM1\nb10=COM2\nb11=COM3\nb12=COM4\nb13=COM5\nb14=COM6\nb15=COM7","b16=COM8\nb17=COM9\nb18=COM10\nb19=Offposition\nb20=\nb21=\nb22=\nb23=","b0 =Ent.ext.2\n      (Edo. MF12)\n        0= Alarma\n        1= Vivo\nb1 =Ent.ext. 1\n    (Día/Noc.MF12)\n        0= Noche\n        1= Día\nb2 =Ent.ext.3\nb3 =Ent.ext.4\nb4 =Ent.ext.5","b5 =Ent.ext.6\nb6 =Ent.ext.7\nb7 =Ent.ext.8\nb8 =Ent.ext.9\nb9 =Ent.ext.10\nb10 =Ent.ext.11\nb11 =Ent.ext.12\nb12 =Ent.ext.13 MMb viva\nb13 =Ent.ext.14\nb14 =Ent.ext.15\nb15 =Ent.ext.16","B0 = Modo sincronizacion:\n         0 =No sincronizada\n         1 =Sincr. por Waves\n         2 =Sincr. por MFSINCLOC\n         3 =Sincr. por Telemando\n         4 =Sincr. por EMA\n         5 =Sincr. por AIS\n\nB1 = Disponible",null,"% SD  Usada\n(0-100)\nSi no hay tarjeta =255","Definido en la configuración",null,null,null,"Definido en la configuración",null,null,null,"Definido en la configuración",null,"Cantidad"]
["Valor Min.",10,"0101200000",null,null,null,0,null,0,null,0,null,0,null,0,null,0,null,null,0,null,0,null,0,-900000000,null,null,null,-1799999999,null,null,null,0]
["Valor Max.",29,3112992359,null,null,null,65535,null,65535,null,65535,null,65535,null,65535,null,65535,null,null,65535,null,65535,null,65535,"900000000",null,null,null,1800000000,null,null,null,65534]
["Posición trama a tx",1,{"$f":"B13+B14","v":2},null,null,null,{"$f":"C13+C14","v":6},null,{"$f":"G14+G13","v":8},null,{"$f":"I14+I13","v":10},null,{"$f":"K14+K13","v":12},null,{"$f":"M14+M13","v":14},null,{"$f":"O14+O13","v":16},null,null,{"$f":"Q14+Q13","v":19},null,{"$f":"T14+T13","v":21},null,{"$f":"V14+V13","v":23},{"$f":"X13+X14","v":24},null,null,null,{"$f":"Y14+Y13","v":28},null,null,null,{"$f":"AC13+AC14","v":32},null,{"$f":"AG13+AG14","v":34}]
["bytes a tx",1,4,null,null,null,2,null,2,null,2,null,2,null,2,null,3,null,null,2,null,2,null,1,4,null,null,null,4,null,null,null,2]
["Ejm. completo",10,3103221345,null,null,null,1235,null,1244,null,1253,null,1262,null,1234,null,10000,null,null,10000100,null,100000111,null,99,4587765432,null,null,null,-15612345678,null,null,null,1234,null,"4F"]
["Ejemplo:",10,2904221215,null,null,null,1191,null,1386,null,1196,null,1195,null,0,null,{"$f":"BIN2DEC(Q15)","v":16},null,null,{"$f":"BIN2DEC(T15)","v":132},null,{"$f":"BIN2DEC(V15)","v":263},null,1,null,null,null,null,null,null,null,null,0]
["EJEMPLO:"]
[]
["Posición byte",1,2,3,4,5,6,7,8,9,10,11,12,13,14,15,16,17,18,19,20,21,22,23,24,25,26,27,28,29,30,31,32,33,34]
["HEX Rx 2","0A",83,80,43,"AA",5,17,5,12,5,12,5,12,0,18,20,20,0,0,0,0,1,0,1,69,"3B","0D","FF","FB","FC","B1","ED"]
["HEX",{"$f":"TEXT(B20,\"00\")","v":"0A"},{"$f":"CONCATENATE(TEXT(C20,\"00\"),TEXT(D20,\"00\"),TEXT(E20,\"00\"),TEXT(F20,\"00\"))","v":"838043AA"},null,null,null,{"$f":"CONCATENATE(TEXT(G20,\"00\"),TEXT(H20,\"00\"))","v":"0517"},null,{"$f":"CONCATENATE(TEXT(I20,\"00\"),TEXT(J20,\"00\"))","v":"0512"},null,{"$f":"CONCATENATE(TEXT(K20,\"00\"),TEXT(L20,\"00\"))","v":"0512"},null,{"$f":"CONCATENATE(TEXT(M20,\"00\"),TEXT(N20,\"00\"))","v":"0512"},null,{"$f":"CONCATENATE(TEXT(O20,\"00\"),TEXT(P20,\"00\"))","v":"0018"},null,{"$f":"CONCATENATE(TEXT(Q20,\"00\"),TEXT(R20,\"00\"),TEXT(S20,\"00\"))","v":"202000"},null,null,{"$f":"CONCATENATE(TEXT(T20,\"00\"),TEXT(U20,\"00\"))","v":"0000"},null,{"$f":"CONCATENATE(TEXT(V20,\"00\"),TEXT(W20,\"00\"))","v":"0001"},null,{"$f":"TEXT(X20,\"00\")","v":"00"},{"$f":"CONCATENATE(TEXT(Y20,\"00\"),TEXT(Z20,\"00\"),TEXT(AA20,\"00\"),TEXT(AB20,\"00\"))","v":"01693B0D"},null,null,null,{"$f":"CONCATENATE(TEXT(AC20,\"00\"),TEXT(AD20,\"00\"),TEXT(AE20,\"00\"),TEXT(AF20,\"00\"))","v":"FFFBFCB1"},null,null,null,{"$f":"TEXT(AG20,\"00\")","v":"ED"},{"$f":"TEXT(AH20,\"00\")","v":"00"}]
["DEC",{"$f":"HEX2DEC(B21)","v":10},{"$f":"TEXT(HEX2DEC(C21),\"0000000000\")","v":"2206221226"},null,null,null,{"$f":"HEX2DEC(G21)","v":1303},null,{"$f":"IF(HEX2DEC(I21)>(32769),HEX2DEC(I21)-65536,HEX2DEC(I21))","v":1298},null,{"$f":"IF(HEX2DEC(K21)>(32769),HEX2DEC(K21)-65536,HEX2DEC(K21))","v":1298},null,{"$f":"IF(HEX2DEC(M21)>(32769),HEX2DEC(M21)-65536,HEX2DEC(M21))","v":1298},null,{"$f":"IF(HEX2DEC(O21)>(32769),HEX2DEC(O21)-65536,HEX2DEC(O21))","v":24},null,{"$f":"HEX2DEC(Q21)","v":2105344},null,null,{"$f":"IF(HEX2DEC(T21)>(32769),HEX2DEC(T21)-65536,HEX2DEC(T21))","v":0},null,{"$f":"IF(HEX2DEC(V21)>(32769),HEX2DEC(V21)-65536,HEX2DEC(V21))","v":1},null,{"$f":"HEX2DEC(X21)","v":0},{"$f":"TEXT(HEX2DEC(Y21),\"0000000000\")","v":"0023673613"},null,null,null,{"$f":"TEXT(HEX2DEC(AC21),\"0000000000\")","v":"4294704305"},null,null,null,{"$f":"HEX2DEC(AG21)","v":237},{"$f":"HEX2DEC(AH21)","v":0}]
[null,{"$f":"B22","v":10},{"$f":"DATE(MID(C22,5,2)+100,MID(C22,3,2),MID(C22,1,2))","v":"2022-06-22"},null,{"$f":"(RIGHT(C22,4))","v":"1226"},null,{"$f":"G22/100","v":13.03},null,{"$f":"I22/100","v":12.98},null,{"$f":"K22/100","v":12.98},null,{"$f":"M22/100","v":12.98},null,{"$f":"O22/100","v":0.24},null,null,null,null,null,null,null,null,{"$f":"X22","v":0},{"$f":"(IF(HEX2DEC(Y21)>(2147483647),HEX2DEC(Y21)-4294967296,HEX2DEC(Y21)))*10^-7","v":2.3673613},null,null,null,{"$f":"(IF(HEX2DEC(AC21)>(2147483647),HEX2DEC(AC21)-4294967296,HEX2DEC(AC21)))*10^-7","v":-0.0262991},null,null,null,{"$f":"AG22","v":237},{"$f":"AH22","v":0}]
[null,null,null,null,null,null,null,null,null,null,null,null,null,null,null,null,{"$f":"DEC2BIN(QUOTIENT(Q22,256^2),8)&DEC2BIN(QUOTIENT(MOD(Q22,256^2),256),8)&DEC2BIN(MOD(Q22,256),8)","v":"001000000010000000000000"},null,null,{"$f":"DEC2BIN(T22/256,8)&DEC2BIN(MOD(T22,256),8)","v":"0000000000000000"},null,{"$f":"DEC2BIN(V22/256,8)&DEC2BIN(MOD(V22,256),8)","v":"0000000000000001"}]
["3. TRAMA CONFIGURACIÓN DEL EQUIPO",null,null,null,{"$f":"LEN(CONCATENATE(B35,C35,D35,E35,F35,G35,H35,J35,K35,L35,M35,N35,O35,P35,Q35,S53,R35,S35,T35,U35,I35,V35,W35,X35,AA35,Y35,Z35,AE35))+AE29","v":72},{"$f":"SUM(A34:Z34)+AE29","v":86}]
["Esta trama define como está configurada la trama de Estado de la MMB03, qué tramas, cuantas y cuales celdas se tranmiten, junto con su unidad.\nEstá separado por comas y se transmite en ASCII (azul), las máscaras se transmiten en HEX y interpretan en binario (verde)"]
[]
[]
["Posición del Campo",1,2,3,4,5,6,7,8,9,10,11,12,13,14,15,16,17,15,16,17,18,19,20,21,22,23,18,19,20,24]
["DESCRIPCIÓN","TIPO DE TRAMA","FECHA DEF TRAMA","DEF.EQUIPO","CANTIDAD VARIABLES","NOMBRE VARIABLE 1","UNIDAD VARIABLE 1","TIPO DE BYTE VARIABLE 1","MASCARA VARIABLE 1","NOMBRE VARIABLE 2","UNIDAD VARIABLE 2","TIPO DE BYTE VARIABLE 2","NOMBRE VARIABLE 3","UNIDAD VARIABLE 3","TIPO DE BYTE VARIABLE 3","NOMBRE VARIABLE 4","UNIDAD VARIABLE 4","TIPO DE BYTE VARIABLE 4","NOMBRE VARIABLE 5","UNIDAD VARIABLE 5","TIPO DE BYTE VARIABLE 5","NOMBRE VARIABLE 6","UNIDAD VARIABLE 6","TIPO DE BYTE VARIABLE 6","NOMBRE VARIABLE 7","UNIDAD VARIABLE 7","TIPO DE BYTE VARIABLE 7","NOMBRE VARIABLE 8","UNIDAD VARIABLE 8","TIPO DE BYTE VARIABLE 8","Checksum"]
["Unidad","Id de la Trama","Nombre del Equipo","Nombre del Equipo","Cantidad","Voltaje","Voltios x10-2","Cant.en numero y Positivo, Negativo, Ambos, Float",null,"Corriente","Amperios x10-2","Cant.en numero y Positivo, Negativo, Ambos, Float","Alarma","Unidad de la Variable","Cant.en numero y Positivo, Negativo, Ambos, Float","Estado de Entradas/ Salidas","Unidad de la Variable","Cant.en numero y Positivo, Negativo, Ambos, Float","Estado Sincronizacion","Unidad de la Variable","Cant.en numero y Positivo, Negativo, Ambos, Float","Memoria","Unidad de la Variable","Cant.en numero y Positivo, Negativo, Ambos, Float","Posición","Unidad de la Variable","Cant.en numero y Positivo, Negativo, Ambos, Float","Distancia al centro del borneo","Unidad de la Variable","Cant.en numero y Positivo, Negativo, Ambos, Float","Cantidad"]
["Valor Min.","D10E",null,null,1,null,null,null,"0"]
["Valor Max.","D29E",null,null,32,null,null,null,1111]
["bytes a tx",4,6,2,1,2,3,2,1,2,3,2,2,3,3,2,3,2,2,3,2,2,3,2,2,3,2,2,3,2,2]
["Ejm. completo","D10E",210522,"M3",8,"V","V2","2P",{"$f":"BIN2HEX(I33)","v":"F"},"C","C2","2P","A",1,"3P","E",1,"2P","S",1,"2P","M","M0","1P","P","P8","4A","D","D0","2P","4F"]
[null,"D10E",10422,"M3",8,"V","V2","2P","F","C","C2","2P","A",1,"3P","E",1,"2P","S",1,"2P","M","M0","1P","P","P7","4A","D","D0","2P"]
[]
[]
["5. TRAMA DE LA CONFIGURACIÓN DE UMBRALES DE DATOS MMB03"]
["Esta trama define los valores máximos y mínimos de cada variable, los valores fuera de este rango serán desechados.\nEstá separado por comas y se transmite en ASCII"]
[]
["Posición del Campo",1,2,3,4,5,6,7,8,9,10,11,12,13,14,15,16,17,18,19,20,21]
["DESCRIPCIÓN","TIPO DE TRAMA","FECHA DEF TRAMA","DEF.EQUIPO","CANTIDAD VARIABLES","VALOR MÍNIMO VARIABLE 1","VALOR MAXIMO VARIABLE 1","VALOR MÍNIMO VARIABLE 2","VALOR MAXIMO VARIABLE 2","VALOR MÍNIMO VARIABLE 3","VALOR MAXIMO VARIABLE 3","VALOR MÍNIMO VARIABLE 4","VALOR MAXIMO VARIABLE 4","VALOR MÍNIMO VARIABLE 5","VALOR MAXIMO VARIABLE 5","VALOR MÍNIMO VARIABLE 6","VALOR MAXIMO VARIABLE 6","VALOR MÍNIMO VARIABLE 7","VALOR MAXIMO VARIABLE 7","VALOR MÍNIMO VARIABLE 8","VALOR MAXIMO VARIABLE 8","Checksum"]
["Unidad","Id de la Trama","Nombre del Equipo","Nombre del Equipo","Cantidad","Voltaje\nV x10-2","Voltaje\nV x10-2","Corriente\nA x10-2","Corriente\nA x10-2","Alarma\nadimensional","Alarma\nAdimensional","Estado de Entradas/ Salidas","Estado de Entradas/ Salidas","Estado Sincronizacion\nAdimensional","Estado Sincronizacion\nAdimensional","Memoria\n% usado","Memoria\n% usado","Posición\nLat, Long","Posición\nLat, Long","Distancia","Distancia","Cantidad"]
["Valor Min.","D10U",null,null,1]
["Valor Max.","D29U",null,null,64]
["bytes a tx",4,6,3,1,null,null,null,null,null,null,null,null,null,null,null,null,null,null,null,null,2]
["Ejm. completo","D10U",310322,"M3",8,1200,1400,10,100,0,65535,0,65535,0,263,0,80,-1799999999,1799999999,0,65534,"4F"]
["Trama Real","D10U",10422,"M3",8,1200,1400,10,100,0,65535,0,65535,0,263,0,80,-1799999999,1799999999,0,65534]
[]
[]
["6. TRAMA POSICION TEORICA DEL EQUIPO PARA ALARMA OFF-POSITION",null,null,null,{"$f":"LEN(CONCATENATE(B61,C61,D61,E73,F61,G61,J61,K61))+K55","v":49},{"$f":"SUM(B60:K60)+K55","v":56}]
["Esta trama define los parámetros para la alrma de fuera de posición.\nEstá separado por comas y se transmite en ASCII"]
[]
["Posición del Campo",1,2,3,null,5,6,7,8,9,10]
["DESCRIPCIÓN","TIPO DE TRAMA","FECHA DEF TRAMA","DEF.EQUIPO",null,"VARIABLE 1\nLatitud Teórica\nSi se indica 91 entonces la MMB03 tomará una nueva posición como centro","VARIABLE 2\nLongitud Teórica\nSi se indica 181 entonces la MMB03 tomará una nueva posición como centro","VARIABLE 3\n\nFrecuencia comprobación posición en \nmodo normal","VARIABLE 4\n\nFrecuencia comprobación posición en\nmodo rotura de cadena","VARIABLE 5\n\nMáximo radio de borneo","Checksum"]
["Unidad","Id de la Trama","Fecha del Equipo","Nombre del Equipo",null,"Grados","Grados","segundos","segundos","m","Cantidad"]
["Valor Min.","D10E",null,null,null,-89.99999,-179.99999,0,0,0]
["Valor Max.","D29E",null,null,null,89.99999,179.99999,65535,65535,99999]
["bytes a tx",4,6,2,null,9,10,4,4,5,2]
["Ejm. completo","D10P",210522,"M3",null,-81.99999,-179.99999,3600,900,10000,"4F"]
[null,"D10P",10422,"M3",null,39.45589,-0.43842,3600,900,10000]
[]
["7. TRAMA DEFINICIÓN DE COMUNICACIONES",null,null,null,{"$f":"LEN(CONCATENATE(B73,C73,D73,E73,F73,G73))+G67","v":26},{"$f":"SUM(B72:G72)+G67","v":28}]
["Esta trama define los parámetros de configuración de las entradas analógicas"]
[]
["Posición del Campo",1,2,3,4,5,6]
["DESCRIPCIÓN","TIPO DE TRAMA","FECHA DEF TRAMA","DEF.EQUIPO","CANTIDAD VARIABLES","Frecuencia comprobación conexión al servidor o reset","Checksum"]
["Unidad","Id de la Trama","Fecha del Equipo","Nombre del Equipo","Cantidad","segundos","Cantidad"]
["Valor Min.","D10E",null,null,1,0]
["Valor Max.","D29E",null,null,3,65535]
["bytes a tx",5,6,3,2,4,2]
["Ejm. completo","D10C1",210522,"MT1",1,900,"4F"]
[]
[]
["Posición del Campo",1,2,3,4,7,8,9,9,10,11,12,13,14,15,6]
["DESCRIPCIÓN","TIPO DE TRAMA","FECHA DEF TRAMA","DEF.EQUIPO","CANTIDAD VARIABLES","MODO DE TRANSMISIÓN","CONF FREC.Tx MSG 1 (10)","CONF FREC.Tx MSG 1 (10) Durante la primera hora de off position\n","CONF. MODO 2:\nTIEMPO DE FALLO CANAL PPAL PARA ACTIVAR EL IRIDIUM","MODIFICADOR MODOS 3 ó 4.\n(PARA TIPO TX PQTS EN CASO de:\n- FALLO CANAL PPAL. \n- MODO CONTÍNUO","FRECUENCIA CHEQUEO DE CORREO\n(Aplicable a todos los modos)\n(En caso de ser cada 24h será a las 1200)","Max SBD x Día","Timeout\nEnvío sbd","Max minutos\nSin registro en red","Checksum","Checksum"]
["Unidad","Id de la Trama","Fecha del Equipo","Nombre del Equipo","Cantidad","0: Iridium OFF total\n1: TX MSG 1 (tipo 10) solo cuando se active la de alerta off-position \n2: Tx datos Metoc y Edo según programación en caso fallo Cs canal Ppal.\n3: Tx de Estado según programación.\n4: Tx datos Metoc y Estado según programación","Modo 3\n0: se envía solo en el cambio día/noche y viceversa\n\nResto de modos\n\nnn: tx el mensaje 10 cada nn minutos","Minutos","Minutos","T: Todos los paquetes\nL: Solo el último pqte","Minutos","Cantidad SBD\n0 => Ilimitado","Minutos","Minutos","Cantidad","Cantidad"]
["Valor Min.","D10E",null,null,1,0,1,1,1,1,0,0,0,0]
["Valor Max.","D29E",null,null,3,5,1440,60,1440,1,1440,65535,255,255]
["bytes a tx",5,6,3,2,1,2,2,2,1,2,2,1,1,2,2]
["Ejm. completo","D10C3",210522,"IR1",7,0,60,60,60,"L",780,200,20,60,"4F","4F"]
[]
[]
["Posición del Campo",1,2,3,4,5,6]
["DESCRIPCIÓN","TIPO DE TRAMA","FECHA DEF TRAMA","DEF.EQUIPO","CANTIDAD VARIABLES","Transmisión tramas Ais por MTX \n(desactivado=0\nactivado=1)","Checksum"]
["Unidad","Id de la Trama","Fecha del Equipo","Nombre del Equipo","Cantidad",null,"Cantidad"]
["Valor Min.","D10E",null,null,1,0]
["Valor Max.","D29E",null,null,3,1]
["bytes a tx",5,6,3,2,2,2]
["Ejm. completo","D10C2",210522,"SR1",1,1,"4F"]
[]
[]
["8. TRAMA DEFINICIÓN DE ENTRADAS EXTERNAS",null,null,null,{"$f":"LEN(CONCATENATE(B103,C103,D103,E103,F103,G103,J103,K103))+K97","v":25},{"$f":"SUM(B102:K102)+K97","v":25}]
["Esta trama define los parámetros de configuración de las entradas analógicas"]
[]
["Posición del Campo",1,2,3,4,5,6,7,8,9,10]
["DESCRIPCIÓN","TIPO DE TRAMA","FECHA DEF TRAMA","DEF.EQUIPO","CANTIDAD VARIABLES",null,null,null,null,null,"Checksum"]
["Unidad","Id de la Trama","Fecha del Equipo","Nombre del Equipo","Cantidad",null,null,null,null,null,"Cantidad"]
["Valor Min.","D10E",null,null,1]
["Valor Max.","D29E",null,null,3]
["bytes a tx",4,6,2,1,null,null,null,null,null,2]
["Ejm. completo","D10P",210522,"M3",5,null,null,null,null,null,"4F"]
[]
[]
["Entradas externas (1-16)"]
["DESCRIPCIÓN","Tipo entrada","Nivel entrada","Reset\nxx.x (seg)"]
["Valor","0 => Disable\n1 => Monoestable\n2 => Biestable","0 => N.O.\n1 => N.C.","1\n65535"]
["bytes a tx",1,1,2]
[]
["Alarmas bateria, V1,V2 ,V3 e Isensor"]
["DESCRIPCIÓN","V alarma (VV.vv)","I sistema alarma"]
["Valor","0  \n40,00","0  \n10,00"]
["bytes a tx",2,2]
[]
[]
["Configuracion MMB03"]
["DESCRIPCIÓN","ID Estación","Grabación estado\n (horas)","Actualización fecha (horas)"]
["Valor","0 => Disable\n1 => Monoestable\n2 => Biestable","1\n23","1\n23"]
["bytes a tx",2,1,1]
[null,"Definido trama 1"]

{"sheet":"Edo.Wave","index":13,"n_rows":40,"n_cols":95,"rows_kept":40,"cut":false,"hidden":false,"merged":[[3,0,3,6],[3,7,3,11],[5,2,5,5],[6,2,6,5],[7,2,7,5],[8,2,8,5],[9,2,9,5],[10,2,10,5],[11,2,11,5],[17,2,17,5],[18,2,18,5],[19,2,19,3],[19,4,19,5],[22,0,22,12]]}
[]
[]
["2. TRAMA DE ESTADO DEL SBG WAVE",null,null,{"$f":"SUM(B11:I11)","v":8}]
["En esta trama se transmiten los datos de las analógicas y digitales del datalogger\nNO están separados por comas, se identifican según su posición y se transmite en BIN",null,null,null,null,null,null,"TRAMA DE ESTADO"]
[]
[null,"ID TRAMA","Fecha MBW3 \n(última ola)",null,null,null,"Ocupación SD","Nro. Reinicios","SBG/SD OK","Checksum\n(solo cuando es un telemando individual)"]
["Unidad","Id de la Trama","DDMMAAhhmm",null,null,null,"%\n111= no se puede mirar el % 112=no se tiene acceso a la SD (SD no presente)","Num","Estado del SBG y de la SD\nB0= Edo. SBG\nB1= Edo.  SD","Cantidad"]
["Valor Min.",161,"0101200000",null,null,null,0,0,0]
["Valor Max.",161,3112992359,null,null,null,100,255,3]
["Posición trama a tx",1,{"$f":"B10+B11","v":2},null,null,null,{"$f":"C10+C11","v":6},{"$f":"G10+G11","v":7},{"$f":"H10+H11","v":8},{"$f":"I10+I11","v":9}]
["bytes a tx",1,4,null,null,null,1,1,1]
["Ejm. completo",161,3103221345,null,null,null,61,4,3,"4F"]
[]
["EJEMPLO:","A1 3B EA 75 52 00 40 02 CF"]
[]
["Posición byte",1,2,3,4,5,10,11,12,13]
["HEX Rx 2","A1","A7",34,42,"A2",70,"6F",2,"A0","0A",0,1,0,2,0,2,0,2,0,2,0,"C8",0,"C8",0,"C8",0,"C8",0,"C8","0A","5E",0,0,64,64,"1D","D9","FA","EC","FD","BD","FF",17,"FF","8C","FB",91,2,"7A",9,"F4","1E",1,0,"5F",9,"F6",0,1,0,1,0,0,"A0","0A",0,2,0,2,0,2,0,2,0,2,1,16,0,"E0",1,16,1,16,0,"FB","0A",9,0,82,64,64,"2C","A6"]
["HEX",{"$f":"TEXT(B17,\"00\")","v":"A1"},{"$f":"CONCATENATE(TEXT(C17,\"00\"),TEXT(D17,\"00\"),TEXT(E17,\"00\"),TEXT(F17,\"00\"))","v":"A73442A2"},null,null,null,{"$f":"TEXT(G17,\"00\")","v":"70"},{"$f":"TEXT(H17,\"00\")","v":"6F"},{"$f":"TEXT(I17,\"00\")","v":"02"},{"$f":"TEXT(J17,\"00\")","v":"A0"}]
["DEC",{"$f":"HEX2DEC(B18)","v":161},{"$f":"TEXT(HEX2DEC(C18),\"0000000000\")","v":"2805220002"},null,null,null,{"$f":"HEX2DEC(G18)","v":112},{"$f":"HEX2DEC(H18)","v":111},{"$f":"HEX2DEC(I18)","v":2},{"$f":"HEX2DEC(J18)","v":160}]
[null,{"$f":"B19","v":161},{"$f":"DATE(MID(C19,5,2)+100,MID(C19,3,2),MID(C19,1,2))","v":"2022-05-28"},null,{"$f":"(RIGHT(C19,4))","v":"0002"},null,{"$f":"G19","v":112},{"$f":"H19","v":111},{"$f":"DEC2BIN(I19)","v":"10"},{"$f":"J19","v":160}]
[]
["3. TRAMA CONFIGURACIÓN DEL EQUIPO",null,null,null,{"$f":"LEN(CONCATENATE(B32,C32,D32,E32,F32,G32,H32,L32,M32,N32,I32,J32,K32,O32))+O26","v":43},{"$f":"SUM(A31:O31)+O26","v":51}]
["Esta trama define como está configurada la trama de Estado de la MBW3, qué tramas, cuantas y cuales celdas se tranmiten, junto con su unidad.\nEstá separado por comas y se transmite en ASCII (azul), las máscaras se transmiten en HEX y interpretan en binario (verde)"]
[]
[]
["Posición del Campo",1,2,3,4,5,6,7,8,9,10,11,12,13,14]
["DESCRIPCIÓN","TIPO DE TRAMA","FECHA DEF TRAMA","DEF.EQUIPO","CANTIDAD VARIABLES","NOMBRE VARIABLE 1","UNIDAD VARIABLE 1","TIPO DE BYTE VARIABLE 1","NOMBRE VARIABLE 2","UNIDAD VARIABLE 2","TIPO DE BYTE VARIABLE 2","NOMBRE VARIABLE 3","UNIDAD VARIABLE 3","TIPO DE BYTE VARIABLE 3","Checksum"]
["Unidad","Id de la Trama","Nombre del Equipo","Nombre del Equipo","Cantidad","Cantidad dememoria Ocupada\n%","Unidad de la Variable","Cant.en numero y Positivo, Negativo, Ambos, Float","Nombre de la Variable","Unidad de la Variable","Cant.en numero y Positivo, Negativo, Ambos, Float","Nombre de la Variable","Unidad de la Variable","Cant.en numero y Positivo, Negativo, Ambos, Float","Cantidad"]
["Valor Min.","D161E",null,null,1]
["Valor Max.","D161E",null,null,32]
["bytes a tx",5,6,2,1,2,3,2,2,3,2,2,3,2,2]
["Ejm. completo","D161E",210522,"M4",3,"M","M0","1P","R",1,"1P","E",1,"1P","4F"]
[null,"D161E",10422,"M4",3,"M","M0","1P","R",1,"1P","E",1,"1P"]
[]
[]
[]
[]
[]
[null,null,null,null,null,null,null,null,"SBG ok: 0 = no genera tramas. 1 = Genera tramas"]
[null,null,null,null,null,null,null,null,"SD ok: 0 = No se están escribiendo datos en la SD. 1 = Se están escribiendo datos en la SD."]

{"sheet":"Edo.GPS-Wave","index":14,"n_rows":33,"n_cols":110,"rows_kept":33,"cut":false,"hidden":false,"merged":[[3,0,3,6],[3,7,3,11],[5,2,5,5],[5,6,5,9],[5,10,5,13],[6,2,6,5],[6,6,6,9],[6,10,6,13],[7,2,7,5],[7,6,7,9],[7,10,7,13],[8,2,8,5],[8,6,8,9],[8,10,8,13],[9,2,9,5],[9,6,9,9],[9,10,9,13],[10,2,10,5],[10,6,10,9],[10,10,10,13],[11,2,11,5],[11,6,11,9],[11,10,11,13],[17,2,17,5],[17,6,17,9],[17,10,17,13],[18,2,18,5],[18,6,18,9],[18,10,18,13],[19,2,19,3],[19,4,19,5],[19,6,19,9],[19,10,19,13],[22,0,22,12]]}
[]
[]
["2. TRAMA DE ESTADO DEL GPS WAVE",null,null,{"$f":"SUM(B11:P11)","v":15}]
["En esta trama se transmiten los datos de las analógicas y digitales del datalogger\nNO están separados por comas, se identifican según su posición y se transmite en BIN",null,null,null,null,null,null,"TRAMA DE ESTADO"]
[]
[null,"ID TRAMA","Fecha GPS MBW3",null,null,null,"Latitud",null,null,null,"Longitud",null,null,null,"Cant. Sat.","PDOP","Checksum\n(solo cuando es un telemando individual)"]
["Unidad","Id de la Trama","DDMMAAhhmm",null,null,null,"Definido en la configuración",null,null,null,"Definido en la configuración",null,null,null,"Cantidad de Satélites","Calidad Posición","Cantidad"]
["Valor Min.",162,"0101200000",null,null,null,-900000000,null,null,null,-1799999999,null,null,null,0,1]
["Valor Max.",162,3112992359,null,null,null,"900000000",null,null,null,1800000000,null,null,null,255,9]
["Posición trama a tx",1,{"$f":"B10+B11","v":2},null,null,null,{"$f":"C10+C11","v":6},null,null,null,{"$f":"G11+G10","v":10},null,null,null,{"$f":"K10+K11","v":14},{"$f":"O10+O11","v":15},{"$f":"P10+P11","v":16}]
["bytes a tx",1,4,null,null,null,4,null,null,null,4,null,null,null,1,1]
["Ejm. completo",162,3103221345,null,null,null,4587765432,null,null,null,-15612345678,null,null,null,10,16,"4F"]
[]
["EJEMPLO:","A2 3B EA 75 52 01 6A 6A BF FF FB 22 70 05 03 B6 A1 3B EA 75 52 00 40 02 CF"]
[null,12,13,14,15,16,17,18,19,20,21,22,23,24,25,26]
["Posición byte",1,2,3,4,5,6,7,8,9,10,11,12,13,14,15,16]
["HEX Rx 2","A2","A7",34,42,"A9",1,69,"3B",14,"FF","FB","FC","BC",5,"1A","A1","A7",34,42,"A2",70,"6F",2,"A0","0A",0,1,0,2,0,2,0,2,0,2,0,"C8",0,"C8",0,"C8",0,"C8",0,"C8","0A","5E",0,0,64,64,"1D","D9","FA","EC","FD","BD","FF",17,"FF","8C","FB",91,2,"7A",9,"F4","1E",1,0,"5F",9,"F6",0,1,0,1,0,0,"A0","0A",0,2,0,2,0,2,0,2,0,2,1,16,0,"E0",1,16,1,16,0,"FB","0A",9,0,82,64,64,"2C","A6"]
["HEX",{"$f":"TEXT(B17,\"00\")","v":"A2"},{"$f":"CONCATENATE(TEXT(C17,\"00\"),TEXT(D17,\"00\"),TEXT(E17,\"00\"),TEXT(F17,\"00\"))","v":"A73442A9"},null,null,null,{"$f":"CONCATENATE(TEXT(G17,\"00\"),TEXT(H17,\"00\"),TEXT(I17,\"00\"),TEXT(J17,\"00\"))","v":"01693B14"},null,null,null,{"$f":"CONCATENATE(TEXT(K17,\"00\"),TEXT(L17,\"00\"),TEXT(M17,\"00\"),TEXT(N17,\"00\"))","v":"FFFBFCBC"},null,null,null,{"$f":"TEXT(O17,\"00\")","v":"05"},{"$f":"TEXT(P17,\"00\")","v":"1A"},{"$f":"TEXT(Q17,\"00\")","v":"A1"},{"$f":"TEXT(R17,\"00\")","v":"A7"},{"$f":"TEXT(S17,\"00\")","v":"34"},{"$f":"TEXT(T17,\"00\")","v":"42"}]
["DEC",{"$f":"HEX2DEC(B18)","v":162},{"$f":"TEXT(HEX2DEC(C18),\"0000000000\")","v":"2805220009"},null,null,null,{"$f":"TEXT(HEX2DEC(G18),\"0000000000\")","v":"0023673620"},null,null,null,{"$f":"TEXT(HEX2DEC(K18),\"0000000000\")","v":"4294704316"},null,null,null,{"$f":"HEX2DEC(O18)","v":5},{"$f":"HEX2DEC(P18)","v":26},{"$f":"HEX2DEC(Q18)","v":161},{"$f":"HEX2DEC(R18)","v":167},{"$f":"HEX2DEC(S18)","v":52},{"$f":"HEX2DEC(T18)","v":66}]
[null,{"$f":"B19","v":162},{"$f":"DATE(MID(C19,5,2)+100,MID(C19,3,2),MID(C19,1,2))","v":"2022-05-28"},null,{"$f":"(RIGHT(C19,4))","v":"0009"},null,{"$f":"(IF(HEX2DEC(G18)>(2147483647),HEX2DEC(G18)-4294967296,HEX2DEC(G18)))*10^-7","v":2.367362},null,null,null,{"$f":"(IF(HEX2DEC(K18)>(2147483647),HEX2DEC(K18)-4294967296,HEX2DEC(K18)))*10^-7","v":-0.026298},null,null,null,{"$f":"O19","v":5},{"$f":"P19","v":26},{"$f":"Q19","v":161},{"$f":"R19","v":167},{"$f":"S19","v":52},{"$f":"T19","v":66}]
[]
["3. TRAMA CONFIGURACIÓN DEL EQUIPO",null,null,null,{"$f":"LEN(CONCATENATE(B32,C32,D32,E32,F32,G32,H32,I32,J32,K32,L32,M32,N32,O32))+O26","v":45},{"$f":"SUM(A31:O31)+O26","v":51}]
["Esta trama define como está configurada la trama de Estado del GPS de la MBW3, qué tramas, cuantas y cuales celdas se tranmiten, junto con su unidad.\nEstá separado por comas y se transmite en ASCII (azul), las máscaras se transmiten en HEX y interpretan en binario (verde)"]
[]
[]
["Posición del Campo",1,2,3,4,5,6,7,8,9,10,11,12,13,14]
["DESCRIPCIÓN","TIPO DE TRAMA","FECHA DEF TRAMA","DEF.EQUIPO","CANTIDAD VARIABLES","NOMBRE VARIABLE 1","UNIDAD VARIABLE 1","TIPO DE BYTE VARIABLE 1","NOMBRE VARIABLE 2","UNIDAD VARIABLE 2","TIPO DE BYTE VARIABLE 2","NOMBRE VARIABLE 3","UNIDAD VARIABLE 3","TIPO DE BYTE VARIABLE 3","Checksum"]
["Unidad","Id de la Trama","Nombre del Equipo","Nombre del Equipo","Cantidad","Nombre de la Variable","Unidad de la Variable","Cant.en numero y Positivo, Negativo, Ambos, Float","Nombre de la Variable","Unidad de la Variable","Cant.en numero y Positivo, Negativo, Ambos, Float","Nombre de la Variable","Unidad de la Variable","Cant.en numero y Positivo, Negativo, Ambos, Float","Cantidad"]
["Valor Min.","D162E",null,null,1]
["Valor Max.","D162E",null,null,32]
["bytes a tx",5,6,2,1,2,3,2,2,3,2,2,3,2,2]
["Ejm. completo","D162E",210522,"M4",3,"P","P8","4A","PS",1,"1P","PQ",1,"1P","4F"]
[null,"D162E",10422,"M4",3,"P","P7","4A","PS",1,"1P","PQ",1,"1P"]

{"sheet":"Conf ADCP","index":15,"n_rows":56,"n_cols":1024,"rows_kept":56,"cut":false,"hidden":false,"merged":[[8,3,8,4],[8,5,8,6],[8,7,8,8],[8,9,8,10],[8,11,8,12],[8,13,8,14],[8,15,8,16],[8,17,8,18],[8,19,8,20],[8,21,8,22],[8,23,8,24],[8,25,8,26],[8,27,8,28],[8,29,8,30],[8,31,8,32],[8,33,8,34],[8,35,8,36],[8,37,8,38],[8,39,8,40],[8,41,8,46],[8,47,8,48],[8,49,8,54],[8,55,8,58],[8,59,8,60],[8,61,8,62],[8,63,8,64],[8,65,8,66],[8,67,8,68],[8,69,8,70],[8,71,8,72],[8,73,8,74],[8,75,8,76],[8,77,8,256],[8,257,8,336],[8,337,8,384],[8,385,8,386],[8,387,8,436],[8,437,8,438],[8,439,8,440],[8,441,8,442],[8,443,8,444],[8,445,8,446],[8,447,8,448],[8,449,8,450],[8,451,8,452],[8,453,8,454],[8,455,8,456],[8,457,8,458],[8,459,8,460],[8,461,8,462],[8,463,8,464],[8,465,8,486],[8,511,8,512],[12,3,12,4],[12,5,12,6],[12,7,12,8],[12,9,12,10],[12,11,12,12],[12,13,12,14],[12,15,12,16],[12,17,12,18],[12,19,12,20],[12,21,12,22],[12,23,12,24],[12,25,12,26],[12,27,12,28],[12,29,12,30],[12,31,12,32],[12,33,12,34],[12,35,12,36],[12,37,12,38],[12,39,12,40],[12,47,12,48],[12,49,12,54],[12,59,12,60],[12,61,12,62],[12,63,12,64],[12,65,12,66],[12,67,12,68],[12,69,12,70],[12,71,12,72],[12,73,12,74],[12,75,12,76],[12,385,12,386],[12,437,12,438],[12,439,12,440],[12,447,12,448],[12,509,12,510],[12,511,12,512],[12,513,12,514],[13,3,13,4],[13,5,13,6],[13,7,13,8],[13,9,13,10],[13,11,13,12],[13,13,13,14],[13,15,13,16],[13,17,13,18],[13,19,13,20],[13,21,13,22],[13,23,13,24],[13,25,13,26],[13,27,13,28],[13,29,13,30],[13,31,13,32],[13,33,13,34],[13,35,13,36],[13,37,13,38],[13,39,13,40],[13,59,13,60],[13,61,13,62],[13,63,13,64],[13,65,13,66],[13,67,13,68],[13,69,13,70],[13,71,13,72],[13,73,13,74],[13,75,13,76],[13,385,13,386],[13,437,13,438],[13,439,13,440],[13,447,13,448],[13,509,13,510],[13,511,13,512],[13,513,13,514],[14,7,14,8],[14,37,14,38]]}
[null,"A5 00 00 01 4A 00 90 00 13 00 A8 0D 00 02 03 00 78 00 03 00 00 40 60 00 00 00 00 00 00 00 01 00 00 00 14 00 76 12 84 03 00 00 00 00 00 00 01 00 09 31 07 08 23 02 10 0E 00 00 20 00 11 41 01 00 01 00 03 00 04 00 00 00 22 4E 5E 01 02 3D 1E 3D 39 3D 53 3D 6E 3D 88 3D A2 3D BB 3D D4 3D ED 3D 06 3E 1E 3E 36 3E 4E 3E 65 3E 7D 3E 93 3E AA 3E C0 3E D6 3E EC 3E 02 3F 17 3F 2C 3F 41 3F 55 3F 69 3F 7D 3F 91 3F A4 3F B8 3F CA 3F DD 3F F0 3F 02 40 14 40 26 40 37 40 49 40 5A 40 6B 40 7C 40 8C 40 9C 40 AC 40 BC 40 CC 40 DB 40 EA 40 F9 40 08 41 17 41 25 41 33 41 42 41 4F 41 5D 41 6A 41 78 41 85 41 92 41 9E 41 AB 41 B7 41 C3 41 CF 41 DB 41 E7 41 F2 41 FD 41 08 42 13 42 1E 42 28 42 33 42 3D 42 47 42 51 42 5B 42 64 42 6E 42 77 42 80 42 89 42 91 42 9A 42 A2 42 AA 42 B2 42 BA 42 00 00 00 00 00 00 00 00 00 00 00 00 00 00 00 00 00 00 00 00 00 00 00 00 00 00 00 00 00 00 00 00 00 00 00 00 00 00 00 00 00 00 00 00 00 00 00 00 00 00 00 00 00 00 00 00 00 00 00 00 00 00 00 00 00 00 00 00 00 00 00 00 00 00 00 00 00 00 00 00 00 00 00 00 00 00 00 00 1E 00 5A 00 5A 00 BC 02 32 00 00 00 00 00 00 00 07 00 00 00 00 00 00 00 00 00 00 00 00 00 1E 00 00 00 00 00 2A 00 00 00 02 00 14 00 EA 01 14 00 EA 01 0A 00 05 00 00 00 40 00 40 00 02 00 0F 00 5A 00 00 00 01 00 C8 00 00 00 00 00 0F 00 EA 01 EA 01 00 00 00 00 00 00 00 00 00 00 00 00 00 00 85 00 06 01 77 21 00 04 00 00 00 00 0A 00 00 00 00 00 00 00 00 00 06 00 14 00 00 00 54 00 28 00 15 00 00 00 00 00 00 00 00 00 00 00 00 00 A4 FF A4 FF A4 FF A4 FF C3 FF E1 FF 00 00 1F 00 3E 00 5C 00 7B 00 99 00 1B D4"]
["fw MMB","A5,00,00,01,4A,00,90,00,13,00,A8,0D,00,02,03,00,78,00,03,00,00,40,60,00,00,00,00,00,00,00,01,00,00,00,14,00,76,12,08,07,00,00,00,00,00,00,01,00,09,31,07,08,23,02,10,0E,00,00,20,00,11,41,01,00,01,00,03,00,04,00,00,00,22,4E,5E,01,02,3D,1E,3D,39,3D,53,3D,6E,3D,88,3D,A2,3D,BB,3D,D4,3D,ED,3D,06,3E,1E,3E,36,3E,4E,3E,65,3E,7D,3E,93,3E,AA,3E,C0,3E,D6,3E,EC,3E,02,3F,17,3F,2C,3F,41,3F,55,3F,69,3F,7D,3F,91,3F,A4,3F,B8,3F,CA,3F,DD,3F,F0,3F,02,40,14,40,26,40,37,40,49,40,5A,40,6B,40,7C,40,8C,40,9C,40,AC,40,BC,40,CC,40,DB,40,EA,40,F9,40,08,41,17,41,25,41,33,41,42,41,4F,41,5D,41,6A,41,78,41,85,41,92,41,9E,41,AB,41,B7,41,C3,41,CF,41,DB,41,E7,41,F2,41,FD,41,08,42,13,42,1E,42,28,42,33,42,3D,42,47,42,51,42,5B,42,64,42,6E,42,77,42,80,42,89,42,91,42,9A,42,A2,42,AA,42,B2,42,BA,42,00,00,00,00,00,00,00,00,00,00,00,00,00,00,00,00,00,00,00,00,00,00,00,00,00,00,00,00,00,00,00,00,00,00,00,00,00,00,00,00,00,00,00,00,00,00,00,00,00,00,00,00,00,00,00,00,00,00,00,00,00,00,00,00,00,00,00,00,00,00,00,00,00,00,00,00,00,00,00,00,00,00,00,00,00,00,00,00,1E,00,5A,00,5A,00,BC,02,32,00,00,00,00,00,00,00,07,00,00,00,00,00,00,00,00,00,00,00,00,00,1E,00,00,00,00,00,2A,00,00,00,02,00,14,00,EA,01,14,00,EA,01,0A,00,05,00,00,00,40,00,40,00,02,00,0F,00,5A,00,00,00,01,00,C8,00,00,00,00,00,0F,00,EA,01,EA,01,00,00,00,00,00,00,00,00,00,00,00,00,00,00,85,00,06,01,77,21,00,04,00,00,00,00,0A,00,00,00,00,00,00,00,00,00,06,00,14,00,00,00,54,00,28,00,15,00,00,00,00,00,00,00,00,00,00,00,00,00,A4,FF,A4,FF,A4,FF,A4,FF,C3,FF,E1,FF,00,00,1F,00,3E,00,5C,00,7B,00,99,00,9F,D7,06,06"]
["30 min","A5 00 00 01 4A 00 90 00 13 00 A8 0D 00 02 03 00 78 00 03 00 00 40 60 00 00 00 00 00 00 00 01 00 00 00 14 00 76 12 08 07 44 45 46 00 00 00 01 00 09 31 07 08 23 02 10 0E 00 00 20 00 11 41 01 00 01 00 03 00 04 00 00 00 22 4E 5E 01 02 3D 1E 3D 39 3D 53 3D 6E 3D 88 3D A2 3D BB 3D D4 3D ED 3D 06 3E 1E 3E 36 3E 4E 3E 65 3E 7D 3E 93 3E AA 3E C0 3E D6 3E EC 3E 02 3F 17 3F 2C 3F 41 3F 55 3F 69 3F 7D 3F 91 3F A4 3F B8 3F CA 3F DD 3F F0 3F 02 40 14 40 26 40 37 40 49 40 5A 40 6B 40 7C 40 8C 40 9C 40 AC 40 BC 40 CC 40 DB 40 EA 40 F9 40 08 41 17 41 25 41 33 41 42 41 4F 41 5D 41 6A 41 78 41 85 41 92 41 9E 41 AB 41 B7 41 C3 41 CF 41 DB 41 E7 41 F2 41 FD 41 08 42 13 42 1E 42 28 42 33 42 3D 42 47 42 51 42 5B 42 64 42 6E 42 77 42 80 42 89 42 91 42 9A 42 A2 42 AA 42 B2 42 BA 42 00 00 00 00 00 00 00 00 00 00 00 00 00 00 00 00 00 00 00 00 00 00 00 00 00 00 00 00 00 00 00 00 00 00 00 00 00 00 00 00 00 00 00 00 00 00 00 00 00 00 00 00 00 00 00 00 00 00 00 00 00 00 00 00 00 00 00 00 00 00 00 00 00 00 00 00 00 00 00 00 00 00 00 00 00 00 00 00 1E 00 5A 00 5A 00 BC 02 32 00 00 00 00 00 00 00 07 00 00 00 00 00 00 00 00 00 00 00 00 00 1E 00 00 00 00 00 2A 00 00 00 02 00 14 00 EA 01 14 00 EA 01 0A 00 05 00 00 00 40 00 40 00 02 00 0F 00 5A 00 00 00 01 00 C8 00 00 00 00 00 0F 00 EA 01 EA 01 00 00 00 00 00 00 00 00 00 00 00 00 00 00 85 00 06 01 77 21 00 04 00 00 00 00 0A 00 00 00 00 00 00 00 00 00 06 00 14 00 00 00 54 00 28 00 15 00 00 00 00 00 00 00 00 00 00 00 00 00 A4 FF A4 FF A4 FF A4 FF C3 FF E1 FF 00 00 1F 00 3E 00 5C 00 7B 00 99 00 29 1D 06 06"]
["15 min","A5 00 00 01 4A 00 90 00 13 00 A8 0D 00 02 03 00 78 00 03 00 00 40 60 00 00 00 00 00 00 00 01 00 00 00 14 00 76 12 84 03 00 00 00 00 00 00 01 00 09 31 07 08 23 02 10 0E 00 00 20 00 11 41 01 00 01 00 03 00 04 00 00 00 22 4E 5E 01 02 3D 1E 3D 39 3D 53 3D 6E 3D 88 3D A2 3D BB 3D D4 3D ED 3D 06 3E 1E 3E 36 3E 4E 3E 65 3E 7D 3E 93 3E AA 3E C0 3E D6 3E EC 3E 02 3F 17 3F 2C 3F 41 3F 55 3F 69 3F 7D 3F 91 3F A4 3F B8 3F CA 3F DD 3F F0 3F 02 40 14 40 26 40 37 40 49 40 5A 40 6B 40 7C 40 8C 40 9C 40 AC 40 BC 40 CC 40 DB 40 EA 40 F9 40 08 41 17 41 25 41 33 41 42 41 4F 41 5D 41 6A 41 78 41 85 41 92 41 9E 41 AB 41 B7 41 C3 41 CF 41 DB 41 E7 41 F2 41 FD 41 08 42 13 42 1E 42 28 42 33 42 3D 42 47 42 51 42 5B 42 64 42 6E 42 77 42 80 42 89 42 91 42 9A 42 A2 42 AA 42 B2 42 BA 42 00 00 00 00 00 00 00 00 00 00 00 00 00 00 00 00 00 00 00 00 00 00 00 00 00 00 00 00 00 00 00 00 00 00 00 00 00 00 00 00 00 00 00 00 00 00 00 00 00 00 00 00 00 00 00 00 00 00 00 00 00 00 00 00 00 00 00 00 00 00 00 00 00 00 00 00 00 00 00 00 00 00 00 00 00 00 00 00 1E 00 5A 00 5A 00 BC 02 32 00 00 00 00 00 00 00 07 00 00 00 00 00 00 00 00 00 00 00 00 00 1E 00 00 00 00 00 2A 00 00 00 02 00 14 00 EA 01 14 00 EA 01 0A 00 05 00 00 00 40 00 40 00 02 00 0F 00 5A 00 00 00 01 00 C8 00 00 00 00 00 0F 00 EA 01 EA 01 00 00 00 00 00 00 00 00 00 00 00 00 00 00 85 00 06 01 77 21 00 04 00 00 00 00 0A 00 00 00 00 00 00 00 00 00 06 00 14 00 00 00 54 00 28 00 15 00 00 00 00 00 00 00 00 00 00 00 00 00 A4 FF A4 FF A4 FF A4 FF C3 FF E1 FF 00 00 1F 00 3E 00 5C 00 7B 00 99 00 1B D4 06 06"]
[null,null,null,null,null,"4A",0,90,0,13,0,"A8","0D",0,2,13,83,"C0","CA","A1",95,"6B",40,"0A","D7","A3",70,"3D","0A","C7","3F",13,83,"C0","CA","A1",95,"6B",40,0,0,0,0,0,40,"BF",40,0,0,0,0,0,0,80,40,3,0,3,0,0,0,0,0,1,0,0,0,0,0,0,0,0,0,0,0,0,0,0,0,1,0,3,0,0,0,0,0,0,0,0,0,85,0,6,1,77,21,0,0,0,0,0,0,79,40,0,0,0,0,0,0,79,40,0,0,0,0,0,0,"0C",0,5,0,"A0",1,0,2,0,0,0,0,0,0,"1C",40,0,0,0,0,0,0,10,40,0,0,0,0,0,10,"8F",40,0,0,0,0,0,0,80,40,28,0,3,0,0,0,0,0,0,0,0,0,0,0,0,0,0,0,0,0,0,0,0,0,0,0,0,0,0,0,0,0,0,0,0,0,0,0,0,0,0,0,0,0,0,0,0,0,0,0,0,0,0,0,0,0,0,0,0,0,0,0,0,0,0,0,0,0,0,0,0,0,0,0,0,0,0,0,0,0,0,0,0,0,0,0,0,0,0,0,0,0,0,0,0,0,0,0,0,0,0,0,0,0,0,0,9,0,0,0,0,0,0,0,1,0,32,0,0,0,0,0,0,0,0,0,8,40,"A4","FF","A4","FF","A4","FF","A4","FF","C3","FF","E1","FF",0,0,"1F",0,"3E",0,"5C",0,"7B",0,99,0,0,0,0,0,0,0,0,0,0,0,0,0,0,0,0,0,0,0,0,0,0,0,0,0,6,0,2,0,0,0,0,0,0,0,0,0,0,0,0,0,0,0,0,0,0,0,"9B",0,40,1,0,0,0,0,0,0,0,0,0,0,0,0,0,0,0,0,0,0,0,0,0,0,44,40,0,0,0,0,0,0,0,0,0,0,0,0,0,0,0,0,0,0,0,0,0,0,0,0,0,0,0,0,1,0,0,0,0,0,0,0,0,0,0,0,0,0,0,0,1,0,0,0,0,0,0,0,0,0,0,0,0,0,0,0,0,0,0,0,0,0,0,0,0,0,0,0,0,0,0,0,"0A",0,0,0,0,0,0,0,29,51,"CE","E0","AA","F4","E5",40,58,2,29,51,"CE","E0","AA",3,"E6",40,58,2,0,0,0,0,0,0,0,0,0,0,0,0,0,0,0,0,0,0,0,0,0,0,0,0,"2A",0,0,0,0,0,0,0,0,0,0,0,0,0,0,0,0,0,54,0,28,0,15,0,"B5",1,0,0,0,0,0,0,49,40,0,0,0,0,0,0,44,40,0,0,0,0,0,0,49,40,0,0,0,0,0,40,"8F",40,0,0,0,0,0,0,0,0,0,0,0,0,0,0,0,0,0,0,0,0,0,0,0,0,0,0,29,51,"CE","E0","8A","F4","E5",40,0,0,0,0,0,0,0,0,0,0,0,0,0,0,0,0,0,0,0,0,0,0,0,0,0,0,0,0,0,0,0,0,0,0,0,0,0,0,0,0,0,0,0,0,0,0,0,0,0,0,0,0,0,0,0,0,0,0,0,0,0,0,0,0,0,0,0,0,0,0,0,0,0,0,0,0,0,0,0,0,0,0,0,0,0,0,0,0,0,0,0,0,0,0,0,0,0,0,0,0,0,0,0,0,0,0,0,0,0,0,0,0,0,0,0,0,0,0,0,0,0,0,0,0,0,0,0,0,0,0,0,0,0,0,0,0,0,0,0,0,0,0,0,0,0,0,0,0,0,0,0,0,0,0,0,0,0,0,0,0,0,0,0,0,0,0,0,0,0,0,0,0,0,0,0,0,0,0,0,0,0,0,0,0,0,0,0,0,0,0,0,0,0,0,"3E",40,0,0,0,0,0,0,0,0,0,0,49,40,0,0,0,0,0,0,0,0,0,0,0,0,0,0,0,0,0,0,0,0,0,0,0,0,0,0,0,0,0,0,0,0,0,0,0,0,0,0,0,0,0,0,0,0,0,0,0,0,0,0,0,0,0,0,0,0,0,0,0,0,0,0,0,0,0,0,0,0,0,0,0,0,0,0,0,0,0,0,0,0,0,0,0,0,0,0,0,0,0,0,0,0,0,0,0,0,0,0,0,0,0,0,0,0,0,0,0,0,0,0,0,0,0,0,0,0,0,0,0,0,0,0,0,0,0,0,0,0,0,0,0,0,0,0,0,0,0,0,0,0,0,0,0,0,0,0,0,0,0,0,0,0,0,0,0,0,0,0,0,0,0,0,0,0,0,0,0,0,0,0,0,0,0,0,0,0,0,0,0,0,0,0,0,0,0,0,0,0,0,0,0,0,0,0,0,0,0,0,0,0,0,0,0,0,0,0,0,0,0,0,0]
["Configuración frc med 30 min, aver inter 2 min Psal 35"]
[null,"A5 00 00 01 4A 00 90 00 13 00 A8 0D 00 02 03 00 78 00 03 00 00 40 60 00 00 00 00 00 00 00 01 00 00 00 14 00 76 12 84 03 00 00 00 00 00 00 01 00 09 31 07 08 23 02 10 0E 00 00 20 00 11 41 01 00 01 00 03 00 04 00 00 00 22 4E 5E 01 02 3D 1E 3D 39 3D 53 3D 6E 3D 88 3D A2 3D BB 3D D4 3D ED 3D 06 3E 1E 3E 36 3E 4E 3E 65 3E 7D 3E 93 3E AA 3E C0 3E D6 3E EC 3E 02 3F 17 3F 2C 3F 41 3F 55 3F 69 3F 7D 3F 91 3F A4 3F B8 3F CA 3F DD 3F F0 3F 02 40 14 40 26 40 37 40 49 40 5A 40 6B 40 7C 40 8C 40 9C 40 AC 40 BC 40 CC 40 DB 40 EA 40 F9 40 08 41 17 41 25 41 33 41 42 41 4F 41 5D 41 6A 41 78 41 85 41 92 41 9E 41 AB 41 B7 41 C3 41 CF 41 DB 41 E7 41 F2 41 FD 41 08 42 13 42 1E 42 28 42 33 42 3D 42 47 42 51 42 5B 42 64 42 6E 42 77 42 80 42 89 42 91 42 9A 42 A2 42 AA 42 B2 42 BA 42 00 00 00 00 00 00 00 00 00 00 00 00 00 00 00 00 00 00 00 00 00 00 00 00 00 00 00 00 00 00 00 00 00 00 00 00 00 00 00 00 00 00 00 00 00 00 00 00 00 00 00 00 00 00 00 00 00 00 00 00 00 00 00 00 00 00 00 00 00 00 00 00 00 00 00 00 00 00 00 00 00 00 00 00 00 00 00 00 1E 00 5A 00 5A 00 BC 02 32 00 00 00 00 00 00 00 07 00 00 00 00 00 00 00 00 00 00 00 00 00 1E 00 00 00 00 00 2A 00 00 00 02 00 14 00 EA 01 14 00 EA 01 0A 00 05 00 00 00 40 00 40 00 02 00 0F 00 5A 00 00 00 01 00 C8 00 00 00 00 00 0F 00 EA 01 EA 01 00 00 00 00 00 00 00 00 00 00 00 00 00 00 85 00 06 01 77 21 00 04 00 00 00 00 0A 00 00 00 00 00 00 00 00 00 06 00 14 00 00 00 54 00 28 00 15 00 00 00 00 00 00 00 00 00 00 00 00 00 A4 FF A4 FF A4 FF A4 FF C3 FF E1 FF 00 00 1F 00 3E 00 5C 00 7B 00 99 00 1B D4 06 06"]
["Posición",0,1,2,3,4,5,6,7,8,9,10,11,12,13,14,15,16,17,18,19,20,21,22,23,24,25,26,27,28,29,30,31,32,33,34,35,36,37,38,39,40,41,42,43,44,45,46,47,48,49,50,51,52,53,54,55,56,57,58,59,60,61,62,63,64,65,66,67,68,69,70,71,72,73,74,75,76,77,78,79,80,81,82,83,84,85,86,87,88,89,90,91,92,93,94,95,96,97,98,99,100,101,102,103,104,105,106,107,108,109,110,111,112,113,114,115,116,117,118,119,120,121,122,123,124,125,126,127,128,129,130,131,132,133,134,135,136,137,138,139,140,141,142,143,144,145,146,147,148,149,150,151,152,153,154,155,156,157,158,159,160,161,162,163,164,165,166,167,168,169,170,171,172,173,174,175,176,177,178,179,180,181,182,183,184,185,186,187,188,189,190,191,192,193,194,195,196,197,198,199,200,201,202,203,204,205,206,207,208,209,210,211,212,213,214,215,216,217,218,219,220,221,222,223,224,225,226,227,228,229,230,231,232,233,234,235,236,237,238,239,240,241,242,243,244,245,246,247,248,249,250,251,252,253,254,255,256,257,258,259,260,261,262,263,264,265,266,267,268,269,270,271,272,273,274,275,276,277,278,279,280,281,282,283,284,285,286,287,288,289,290,291,292,293,294,295,296,297,298,299,300,301,302,303,304,305,306,307,308,309,310,311,312,313,314,315,316,317,318,319,320,321,322,323,324,325,326,327,328,329,330,331,332,333,334,335,336,337,338,339,340,341,342,343,344,345,346,347,348,349,350,351,352,353,354,355,356,357,358,359,360,361,362,363,364,365,366,367,368,369,370,371,372,373,374,375,376,377,378,379,380,381,382,383,384,385,386,387,388,389,390,391,392,393,394,395,396,397,398,399,400,401,402,403,404,405,406,407,408,409,410,411,412,413,414,415,416,417,418,419,420,421,422,423,424,425,426,427,428,429,430,431,432,433,434,435,436,437,438,439,440,441,442,443,444,445,446,447,448,449,450,451,452,453,454,455,456,457,458,459,460,461,462,463,464,465,466,467,468,469,470,471,472,473,474,475,476,477,478,479,480,481,482,483,484,485,486,487,488,489,490,491,492,493,494,495,496,497,498,499,500,501,502,503,504,505,506,507,508,509,510,511,512,513]
[null,"Sinc","ID","Size (nro de palabras)",null,"T1 (tx pulse lenght)",null,"T2 (blk dist)",null,"T3 (rx lenght)",null,"T4 (t entre pings)",null,"T5 (t entre seq raf)",null,"Nro de pings",null,"Avg Interval (seg)",null,"Nro de Beams",null,"TimCtrlreg",null,"PwrCtrlreg",null,"Not Used",null,"Not Used",null,"Not Used",null,"Compass Updrate",null,"Coord Sistem",null,"Nro celdas",null,"Cell Size",null,"Profile Interval (s)",null,"Deploy Name",null,null,null,null,null,"Wrap mode",null,"Deploy Time",null,null,null,null,null,"Diagnostic  Interval",null,null,null,"Mode",null,"Adj Sound Speed",null,"Nro Sampling Diag",null,"Nro Beams Cell Diag",null,"Nro Pings Diag",null,"Mode Test",null,"Ana In Addre",null,"SWVersion",null,"Salinity",null,"Velocity Adjust Table",null,null,null,null,null,null,null,null,null,null,null,null,null,null,null,null,null,null,null,null,null,null,null,null,null,null,null,null,null,null,null,null,null,null,null,null,null,null,null,null,null,null,null,null,null,null,null,null,null,null,null,null,null,null,null,null,null,null,null,null,null,null,null,null,null,null,null,null,null,null,null,null,null,null,null,null,null,null,null,null,null,null,null,null,null,null,null,null,null,null,null,null,null,null,null,null,null,null,null,null,null,null,null,null,null,null,null,null,null,null,null,null,null,null,null,null,null,null,null,null,null,null,null,null,null,null,null,null,null,null,null,null,null,null,null,null,null,null,null,null,null,null,null,null,null,null,null,null,null,null,null,null,null,null,null,null,null,null,null,null,null,null,null,null,null,null,null,null,null,null,null,null,null,null,null,null,null,null,null,"Spare",null,null,null,null,null,null,null,null,null,null,null,null,null,null,null,null,null,null,null,null,null,null,null,null,null,null,null,null,null,null,null,null,null,null,null,null,null,null,null,null,null,null,null,null,null,null,null,null,null,null,null,null,null,null,null,null,null,null,null,null,null,null,null,null,null,null,null,null,null,null,null,null,null,null,null,null,null,null,null,"Comments",null,null,null,null,null,null,null,null,null,null,null,null,null,null,null,null,null,null,null,null,null,null,null,null,null,null,null,null,null,null,null,null,null,null,null,null,null,null,null,null,null,null,null,null,null,null,null,"Processing Metod",null,"Spare",null,null,null,null,null,null,null,null,null,null,null,null,null,null,null,null,null,null,null,null,null,null,null,null,null,null,null,null,null,null,null,null,null,null,null,null,null,null,null,null,null,null,null,null,null,null,null,null,null,"Mode",null,"DynPercPos",null,"T1",null,"T2",null,"T3",null,"Wave Nsamp",null,"A1",null,"B0",null,"B1",null,"Spare",null,"AnaOutSclae",null,"CorrThres",null,"Spare",null,"TiLag2",null,"Spare",null,null,null,null,null,null,null,null,null,null,null,null,null,null,null,null,null,null,null,null,null,"QualConst",null,null,null,null,null,null,null,null,null,null,null,null,null,null,null,null,null,null,null,null,null,null,null,"Checksum"]
["User/Depl Conf","A5",0,0,1,"4A",0,90,0,13,0,"A8","0D",0,2,3,0,"3C",0,3,0,0,40,60,0,0,0,0,0,0,0,1,0,0,0,14,0,76,12,8,7,0,0,0,0,0,0,0,0,9,31,7,8,23,2,30,"2A",0,0,20,0,11,41,1,0,1,0,3,0,4,0,0,0,22,"4E","5E",1,2,"3D","1E","3D",39,"3D",53,"3D","6E","3D",88,"3D","A2","3D","BB","3D","D4","3D","ED","3D",6,"3E","1E","3E",36,"3E","4E","3E",65,"3E","7D","3E",93,"3E","AA","3E","C0","3E","D6","3E","EC","3E",2,"3F",17,"3F","2C","3F",41,"3F",55,"3F",69,"3F","7D","3F",91,"3F","A4","3F","B8","3F","CA","3F","DD","3F","F0","3F",2,40,14,40,26,40,37,40,49,40,"5A",40,"6B",40,"7C",40,"8C",40,"9C",40,"AC",40,"BC",40,"CC",40,"DB",40,"EA",40,"F9",40,8,41,17,41,25,41,33,41,42,41,"4F",41,"5D",41,"6A",41,78,41,85,41,92,41,"9E",41,"AB",41,"B7",41,"C3",41,"CF",41,"DB",41,"E7",41,"F2",41,"FD",41,8,42,13,42,"1E",42,28,42,33,42,"3D",42,47,42,51,42,"5B",42,64,42,"6E",42,77,42,80,42,89,42,91,42,"9A",42,"A2",42,"AA",42,"B2",42,"BA",42,0,0,0,0,0,0,0,0,0,0,0,0,0,0,0,0,0,0,0,0,0,0,0,0,0,0,0,0,0,0,0,0,0,0,0,0,0,0,0,0,0,0,0,0,0,0,0,0,0,0,0,0,0,0,0,0,0,0,0,0,0,0,0,0,0,0,0,0,0,0,0,0,0,0,0,0,0,0,0,0,0,0,0,0,0,0,0,0,"1E",0,"5A",0,"5A",0,"BC",2,32,0,0,0,0,0,0,0,7,0,0,0,0,0,0,0,0,0,0,0,0,0,"1E",0,0,0,0,0,"2A",0,0,0,2,0,14,0,"EA",1,14,0,"EA",1,"0A",0,5,0,0,0,40,0,40,0,2,0,"0F",0,"5A",0,0,0,1,0,"C8",0,0,0,0,0,"0F",0,"EA",1,"EA",1,0,0,0,0,0,0,0,0,0,0,0,0,0,0,85,0,6,1,77,21,0,4,0,0,0,0,"0A",0,0,0,0,0,0,0,0,0,6,0,14,0,0,0,54,0,28,0,15,0,0,0,0,0,0,0,0,0,0,0,0,0,"A4","FF","A4","FF","A4","FF","A4","FF","C3","FF","E1","FF",0,0,"1F",0,"3E",0,"5C",0,"7B",0,99,0,82,"F3",6,6]
[null,{"$f":"TEXT(B10,\"00\")","v":"A5"},{"$f":"TEXT(C10,\"00\")","v":"00"},{"$f":"TEXT(D10,\"00\")","v":"00"},{"$f":"TEXT(E10,\"00\")","v":"01"},{"$f":"TEXT(F10,\"00\")","v":"4A"},{"$f":"TEXT(G10,\"00\")","v":"00"},{"$f":"TEXT(H10,\"00\")","v":"90"},{"$f":"TEXT(I10,\"00\")","v":"00"},{"$f":"TEXT(J10,\"00\")","v":"13"},{"$f":"TEXT(K10,\"00\")","v":"00"},{"$f":"TEXT(L10,\"00\")","v":"A8"},{"$f":"TEXT(M10,\"00\")","v":"0D"},{"$f":"TEXT(N10,\"00\")","v":"00"},{"$f":"TEXT(O10,\"00\")","v":"02"},{"$f":"TEXT(P10,\"00\")","v":"03"},{"$f":"TEXT(Q10,\"00\")","v":"00"},{"$f":"TEXT(R10,\"00\")","v":"3C"},{"$f":"TEXT(S10,\"00\")","v":"00"},{"$f":"TEXT(T10,\"00\")","v":"03"},{"$f":"TEXT(U10,\"00\")","v":"00"},{"$f":"TEXT(V10,\"00\")","v":"00"},{"$f":"TEXT(W10,\"00\")","v":"40"},{"$f":"TEXT(X10,\"00\")","v":"60"},{"$f":"TEXT(Y10,\"00\")","v":"00"},{"$f":"TEXT(Z10,\"00\")","v":"00"},{"$f":"TEXT(AA10,\"00\")","v":"00"},{"$f":"TEXT(AB10,\"00\")","v":"00"},{"$f":"TEXT(AC10,\"00\")","v":"00"},{"$f":"TEXT(AD10,\"00\")","v":"00"},{"$f":"TEXT(AE10,\"00\")","v":"00"},{"$f":"TEXT(AF10,\"00\")","v":"01"},{"$f":"TEXT(AG10,\"00\")","v":"00"},{"$f":"TEXT(AH10,\"00\")","v":"00"},{"$f":"TEXT(AI10,\"00\")","v":"00"},{"$f":"TEXT(AJ10,\"00\")","v":"14"},{"$f":"TEXT(AK10,\"00\")","v":"00"},{"$f":"TEXT(AL10,\"00\")","v":"76"},{"$f":"TEXT(AM10,\"00\")","v":"12"},{"$f":"TEXT(AN10,\"00\")","v":"08"},{"$f":"TEXT(AO10,\"00\")","v":"07"},{"$f":"TEXT(AP10,\"00\")","v":"00"},{"$f":"TEXT(AQ10,\"00\")","v":"00"},{"$f":"TEXT(AR10,\"00\")","v":"00"},{"$f":"TEXT(AS10,\"00\")","v":"00"},{"$f":"TEXT(AT10,\"00\")","v":"00"},{"$f":"TEXT(AU10,\"00\")","v":"00"},{"$f":"TEXT(AV10,\"00\")","v":"00"},{"$f":"TEXT(AW10,\"00\")","v":"00"},{"$f":"TEXT(AX10,\"00\")","v":"09"},{"$f":"TEXT(AY10,\"00\")","v":"31"},{"$f":"TEXT(AZ10,\"00\")","v":"07"},{"$f":"TEXT(BA10,\"00\")","v":"08"},{"$f":"TEXT(BB10,\"00\")","v":"23"},{"$f":"TEXT(BC10,\"00\")","v":"02"},{"$f":"TEXT(BD10,\"00\")","v":"30"},{"$f":"TEXT(BE10,\"00\")","v":"2A"},{"$f":"TEXT(BF10,\"00\")","v":"00"},{"$f":"TEXT(BG10,\"00\")","v":"00"},{"$f":"TEXT(BH10,\"00\")","v":"20"},{"$f":"TEXT(BI10,\"00\")","v":"00"},{"$f":"TEXT(BJ10,\"00\")","v":"11"},{"$f":"TEXT(BK10,\"00\")","v":"41"},{"$f":"TEXT(BL10,\"00\")","v":"01"},{"$f":"TEXT(BM10,\"00\")","v":"00"},{"$f":"TEXT(BN10,\"00\")","v":"01"},{"$f":"TEXT(BO10,\"00\")","v":"00"},{"$f":"TEXT(BP10,\"00\")","v":"03"},{"$f":"TEXT(BQ10,\"00\")","v":"00"},{"$f":"TEXT(BR10,\"00\")","v":"04"},{"$f":"TEXT(BS10,\"00\")","v":"00"},{"$f":"TEXT(BT10,\"00\")","v":"00"},{"$f":"TEXT(BU10,\"00\")","v":"00"},{"$f":"TEXT(BV10,\"00\")","v":"22"},{"$f":"TEXT(BW10,\"00\")","v":"4E"},{"$f":"TEXT(BX10,\"00\")","v":"5E"},{"$f":"TEXT(BY10,\"00\")","v":"01"},{"$f":"TEXT(BZ10,\"00\")","v":"02"},{"$f":"TEXT(CA10,\"00\")","v":"3D"},{"$f":"TEXT(CB10,\"00\")","v":"1E"},{"$f":"TEXT(CC10,\"00\")","v":"3D"},{"$f":"TEXT(CD10,\"00\")","v":"39"},{"$f":"TEXT(CE10,\"00\")","v":"3D"},{"$f":"TEXT(CF10,\"00\")","v":"53"},{"$f":"TEXT(CG10,\"00\")","v":"3D"},{"$f":"TEXT(CH10,\"00\")","v":"6E"},{"$f":"TEXT(CI10,\"00\")","v":"3D"},{"$f":"TEXT(CJ10,\"00\")","v":"88"},{"$f":"TEXT(CK10,\"00\")","v":"3D"},{"$f":"TEXT(CL10,\"00\")","v":"A2"},{"$f":"TEXT(CM10,\"00\")","v":"3D"},{"$f":"TEXT(CN10,\"00\")","v":"BB"},{"$f":"TEXT(CO10,\"00\")","v":"3D"},{"$f":"TEXT(CP10,\"00\")","v":"D4"},{"$f":"TEXT(CQ10,\"00\")","v":"3D"},{"$f":"TEXT(CR10,\"00\")","v":"ED"},{"$f":"TEXT(CS10,\"00\")","v":"3D"},{"$f":"TEXT(CT10,\"00\")","v":"06"},{"$f":"TEXT(CU10,\"00\")","v":"3E"},{"$f":"TEXT(CV10,\"00\")","v":"1E"},{"$f":"TEXT(CW10,\"00\")","v":"3E"},{"$f":"TEXT(CX10,\"00\")","v":"36"},{"$f":"TEXT(CY10,\"00\")","v":"3E"},{"$f":"TEXT(CZ10,\"00\")","v":"4E"},{"$f":"TEXT(DA10,\"00\")","v":"3E"},{"$f":"TEXT(DB10,\"00\")","v":"65"},{"$f":"TEXT(DC10,\"00\")","v":"3E"},{"$f":"TEXT(DD10,\"00\")","v":"7D"},{"$f":"TEXT(DE10,\"00\")","v":"3E"},{"$f":"TEXT(DF10,\"00\")","v":"93"},{"$f":"TEXT(DG10,\"00\")","v":"3E"},{"$f":"TEXT(DH10,\"00\")","v":"AA"},{"$f":"TEXT(DI10,\"00\")","v":"3E"},{"$f":"TEXT(DJ10,\"00\")","v":"C0"},{"$f":"TEXT(DK10,\"00\")","v":"3E"},{"$f":"TEXT(DL10,\"00\")","v":"D6"},{"$f":"TEXT(DM10,\"00\")","v":"3E"},{"$f":"TEXT(DN10,\"00\")","v":"EC"},{"$f":"TEXT(DO10,\"00\")","v":"3E"},{"$f":"TEXT(DP10,\"00\")","v":"02"},{"$f":"TEXT(DQ10,\"00\")","v":"3F"},{"$f":"TEXT(DR10,\"00\")","v":"17"},{"$f":"TEXT(DS10,\"00\")","v":"3F"},{"$f":"TEXT(DT10,\"00\")","v":"2C"},{"$f":"TEXT(DU10,\"00\")","v":"3F"},{"$f":"TEXT(DV10,\"00\")","v":"41"},{"$f":"TEXT(DW10,\"00\")","v":"3F"},{"$f":"TEXT(DX10,\"00\")","v":"55"},{"$f":"TEXT(DY10,\"00\")","v":"3F"},{"$f":"TEXT(DZ10,\"00\")","v":"69"},{"$f":"TEXT(EA10,\"00\")","v":"3F"},{"$f":"TEXT(EB10,\"00\")","v":"7D"},{"$f":"TEXT(EC10,\"00\")","v":"3F"},{"$f":"TEXT(ED10,\"00\")","v":"91"},{"$f":"TEXT(EE10,\"00\")","v":"3F"},{"$f":"TEXT(EF10,\"00\")","v":"A4"},{"$f":"TEXT(EG10,\"00\")","v":"3F"},{"$f":"TEXT(EH10,\"00\")","v":"B8"},{"$f":"TEXT(EI10,\"00\")","v":"3F"},{"$f":"TEXT(EJ10,\"00\")","v":"CA"},{"$f":"TEXT(EK10,\"00\")","v":"3F"},{"$f":"TEXT(EL10,\"00\")","v":"DD"},{"$f":"TEXT(EM10,\"00\")","v":"3F"},{"$f":"TEXT(EN10,\"00\")","v":"F0"},{"$f":"TEXT(EO10,\"00\")","v":"3F"},{"$f":"TEXT(EP10,\"00\")","v":"02"},{"$f":"TEXT(EQ10,\"00\")","v":"40"},{"$f":"TEXT(ER10,\"00\")","v":"14"},{"$f":"TEXT(ES10,\"00\")","v":"40"},{"$f":"TEXT(ET10,\"00\")","v":"26"},{"$f":"TEXT(EU10,\"00\")","v":"40"},{"$f":"TEXT(EV10,\"00\")","v":"37"},{"$f":"TEXT(EW10,\"00\")","v":"40"},{"$f":"TEXT(EX10,\"00\")","v":"49"},{"$f":"TEXT(EY10,\"00\")","v":"40"},{"$f":"TEXT(EZ10,\"00\")","v":"5A"},{"$f":"TEXT(FA10,\"00\")","v":"40"},{"$f":"TEXT(FB10,\"00\")","v":"6B"},{"$f":"TEXT(FC10,\"00\")","v":"40"},{"$f":"TEXT(FD10,\"00\")","v":"7C"},{"$f":"TEXT(FE10,\"00\")","v":"40"},{"$f":"TEXT(FF10,\"00\")","v":"8C"},{"$f":"TEXT(FG10,\"00\")","v":"40"},{"$f":"TEXT(FH10,\"00\")","v":"9C"},{"$f":"TEXT(FI10,\"00\")","v":"40"},{"$f":"TEXT(FJ10,\"00\")","v":"AC"},{"$f":"TEXT(FK10,\"00\")","v":"40"},{"$f":"TEXT(FL10,\"00\")","v":"BC"},{"$f":"TEXT(FM10,\"00\")","v":"40"},{"$f":"TEXT(FN10,\"00\")","v":"CC"},{"$f":"TEXT(FO10,\"00\")","v":"40"},{"$f":"TEXT(FP10,\"00\")","v":"DB"},{"$f":"TEXT(FQ10,\"00\")","v":"40"},{"$f":"TEXT(FR10,\"00\")","v":"EA"},{"$f":"TEXT(FS10,\"00\")","v":"40"},{"$f":"TEXT(FT10,\"00\")","v":"F9"},{"$f":"TEXT(FU10,\"00\")","v":"40"},{"$f":"TEXT(FV10,\"00\")","v":"08"},{"$f":"TEXT(FW10,\"00\")","v":"41"},{"$f":"TEXT(FX10,\"00\")","v":"17"},{"$f":"TEXT(FY10,\"00\")","v":"41"},{"$f":"TEXT(FZ10,\"00\")","v":"25"},{"$f":"TEXT(GA10,\"00\")","v":"41"},{"$f":"TEXT(GB10,\"00\")","v":"33"},{"$f":"TEXT(GC10,\"00\")","v":"41"},{"$f":"TEXT(GD10,\"00\")","v":"42"},{"$f":"TEXT(GE10,\"00\")","v":"41"},{"$f":"TEXT(GF10,\"00\")","v":"4F"},{"$f":"TEXT(GG10,\"00\")","v":"41"},{"$f":"TEXT(GH10,\"00\")","v":"5D"},{"$f":"TEXT(GI10,\"00\")","v":"41"},{"$f":"TEXT(GJ10,\"00\")","v":"6A"},{"$f":"TEXT(GK10,\"00\")","v":"41"},{"$f":"TEXT(GL10,\"00\")","v":"78"},{"$f":"TEXT(GM10,\"00\")","v":"41"},{"$f":"TEXT(GN10,\"00\")","v":"85"},{"$f":"TEXT(GO10,\"00\")","v":"41"},{"$f":"TEXT(GP10,\"00\")","v":"92"},{"$f":"TEXT(GQ10,\"00\")","v":"41"},{"$f":"TEXT(GR10,\"00\")","v":"9E"},{"$f":"TEXT(GS10,\"00\")","v":"41"},{"$f":"TEXT(GT10,\"00\")","v":"AB"},{"$f":"TEXT(GU10,\"00\")","v":"41"},{"$f":"TEXT(GV10,\"00\")","v":"B7"},{"$f":"TEXT(GW10,\"00\")","v":"41"},{"$f":"TEXT(GX10,\"00\")","v":"C3"},{"$f":"TEXT(GY10,\"00\")","v":"41"},{"$f":"TEXT(GZ10,\"00\")","v":"CF"},{"$f":"TEXT(HA10,\"00\")","v":"41"},{"$f":"TEXT(HB10,\"00\")","v":"DB"},{"$f":"TEXT(HC10,\"00\")","v":"41"},{"$f":"TEXT(HD10,\"00\")","v":"E7"},{"$f":"TEXT(HE10,\"00\")","v":"41"},{"$f":"TEXT(HF10,\"00\")","v":"F2"},{"$f":"TEXT(HG10,\"00\")","v":"41"},{"$f":"TEXT(HH10,\"00\")","v":"FD"},{"$f":"TEXT(HI10,\"00\")","v":"41"},{"$f":"TEXT(HJ10,\"00\")","v":"08"},{"$f":"TEXT(HK10,\"00\")","v":"42"},{"$f":"TEXT(HL10,\"00\")","v":"13"},{"$f":"TEXT(HM10,\"00\")","v":"42"},{"$f":"TEXT(HN10,\"00\")","v":"1E"},{"$f":"TEXT(HO10,\"00\")","v":"42"},{"$f":"TEXT(HP10,\"00\")","v":"28"},{"$f":"TEXT(HQ10,\"00\")","v":"42"},{"$f":"TEXT(HR10,\"00\")","v":"33"},{"$f":"TEXT(HS10,\"00\")","v":"42"},{"$f":"TEXT(HT10,\"00\")","v":"3D"},{"$f":"TEXT(HU10,\"00\")","v":"42"},{"$f":"TEXT(HV10,\"00\")","v":"47"},{"$f":"TEXT(HW10,\"00\")","v":"42"},{"$f":"TEXT(HX10,\"00\")","v":"51"},{"$f":"TEXT(HY10,\"00\")","v":"42"},{"$f":"TEXT(HZ10,\"00\")","v":"5B"},{"$f":"TEXT(IA10,\"00\")","v":"42"},{"$f":"TEXT(IB10,\"00\")","v":"64"},{"$f":"TEXT(IC10,\"00\")","v":"42"},{"$f":"TEXT(ID10,\"00\")","v":"6E"},{"$f":"TEXT(IE10,\"00\")","v":"42"},{"$f":"TEXT(IF10,\"00\")","v":"77"},{"$f":"TEXT(IG10,\"00\")","v":"42"},{"$f":"TEXT(IH10,\"00\")","v":"80"},{"$f":"TEXT(II10,\"00\")","v":"42"},{"$f":"TEXT(IJ10,\"00\")","v":"89"},{"$f":"TEXT(IK10,\"00\")","v":"42"},{"$f":"TEXT(IL10,\"00\")","v":"91"},{"$f":"TEXT(IM10,\"00\")","v":"42"},{"$f":"TEXT(IN10,\"00\")","v":"9A"},{"$f":"TEXT(IO10,\"00\")","v":"42"},{"$f":"TEXT(IP10,\"00\")","v":"A2"},{"$f":"TEXT(IQ10,\"00\")","v":"42"},{"$f":"TEXT(IR10,\"00\")","v":"AA"},{"$f":"TEXT(IS10,\"00\")","v":"42"},{"$f":"TEXT(IT10,\"00\")","v":"B2"},{"$f":"TEXT(IU10,\"00\")","v":"42"},{"$f":"TEXT(IV10,\"00\")","v":"BA"},{"$f":"TEXT(IW10,\"00\")","v":"42"},{"$f":"TEXT(IX10,\"00\")","v":"00"},{"$f":"TEXT(IY10,\"00\")","v":"00"},{"$f":"TEXT(IZ10,\"00\")","v":"00"},{"$f":"TEXT(JA10,\"00\")","v":"00"},{"$f":"TEXT(JB10,\"00\")","v":"00"},{"$f":"TEXT(JC10,\"00\")","v":"00"},{"$f":"TEXT(JD10,\"00\")","v":"00"},{"$f":"TEXT(JE10,\"00\")","v":"00"},{"$f":"TEXT(JF10,\"00\")","v":"00"},{"$f":"TEXT(JG10,\"00\")","v":"00"},{"$f":"TEXT(JH10,\"00\")","v":"00"},{"$f":"TEXT(JI10,\"00\")","v":"00"},{"$f":"TEXT(JJ10,\"00\")","v":"00"},{"$f":"TEXT(JK10,\"00\")","v":"00"},{"$f":"TEXT(JL10,\"00\")","v":"00"},{"$f":"TEXT(JM10,\"00\")","v":"00"},{"$f":"TEXT(JN10,\"00\")","v":"00"},{"$f":"TEXT(JO10,\"00\")","v":"00"},{"$f":"TEXT(JP10,\"00\")","v":"00"},{"$f":"TEXT(JQ10,\"00\")","v":"00"},{"$f":"TEXT(JR10,\"00\")","v":"00"},{"$f":"TEXT(JS10,\"00\")","v":"00"},{"$f":"TEXT(JT10,\"00\")","v":"00"},{"$f":"TEXT(JU10,\"00\")","v":"00"},{"$f":"TEXT(JV10,\"00\")","v":"00"},{"$f":"TEXT(JW10,\"00\")","v":"00"},{"$f":"TEXT(JX10,\"00\")","v":"00"},{"$f":"TEXT(JY10,\"00\")","v":"00"},{"$f":"TEXT(JZ10,\"00\")","v":"00"},{"$f":"TEXT(KA10,\"00\")","v":"00"},{"$f":"TEXT(KB10,\"00\")","v":"00"},{"$f":"TEXT(KC10,\"00\")","v":"00"},{"$f":"TEXT(KD10,\"00\")","v":"00"},{"$f":"TEXT(KE10,\"00\")","v":"00"},{"$f":"TEXT(KF10,\"00\")","v":"00"},{"$f":"TEXT(KG10,\"00\")","v":"00"},{"$f":"TEXT(KH10,\"00\")","v":"00"},{"$f":"TEXT(KI10,\"00\")","v":"00"},{"$f":"TEXT(KJ10,\"00\")","v":"00"},{"$f":"TEXT(KK10,\"00\")","v":"00"},{"$f":"TEXT(KL10,\"00\")","v":"00"},{"$f":"TEXT(KM10,\"00\")","v":"00"},{"$f":"TEXT(KN10,\"00\")","v":"00"},{"$f":"TEXT(KO10,\"00\")","v":"00"},{"$f":"TEXT(KP10,\"00\")","v":"00"},{"$f":"TEXT(KQ10,\"00\")","v":"00"},{"$f":"TEXT(KR10,\"00\")","v":"00"},{"$f":"TEXT(KS10,\"00\")","v":"00"},{"$f":"TEXT(KT10,\"00\")","v":"00"},{"$f":"TEXT(KU10,\"00\")","v":"00"},{"$f":"TEXT(KV10,\"00\")","v":"00"},{"$f":"TEXT(KW10,\"00\")","v":"00"},{"$f":"TEXT(KX10,\"00\")","v":"00"},{"$f":"TEXT(KY10,\"00\")","v":"00"},{"$f":"TEXT(KZ10,\"00\")","v":"00"},{"$f":"TEXT(LA10,\"00\")","v":"00"},{"$f":"TEXT(LB10,\"00\")","v":"00"},{"$f":"TEXT(LC10,\"00\")","v":"00"},{"$f":"TEXT(LD10,\"00\")","v":"00"},{"$f":"TEXT(LE10,\"00\")","v":"00"},{"$f":"TEXT(LF10,\"00\")","v":"00"},{"$f":"TEXT(LG10,\"00\")","v":"00"},{"$f":"TEXT(LH10,\"00\")","v":"00"},{"$f":"TEXT(LI10,\"00\")","v":"00"},{"$f":"TEXT(LJ10,\"00\")","v":"00"},{"$f":"TEXT(LK10,\"00\")","v":"00"},{"$f":"TEXT(LL10,\"00\")","v":"00"},{"$f":"TEXT(LM10,\"00\")","v":"00"},{"$f":"TEXT(LN10,\"00\")","v":"00"},{"$f":"TEXT(LO10,\"00\")","v":"00"},{"$f":"TEXT(LP10,\"00\")","v":"00"},{"$f":"TEXT(LQ10,\"00\")","v":"00"},{"$f":"TEXT(LR10,\"00\")","v":"00"},{"$f":"TEXT(LS10,\"00\")","v":"00"},{"$f":"TEXT(LT10,\"00\")","v":"00"},{"$f":"TEXT(LU10,\"00\")","v":"00"},{"$f":"TEXT(LV10,\"00\")","v":"00"},{"$f":"TEXT(LW10,\"00\")","v":"00"},{"$f":"TEXT(LX10,\"00\")","v":"00"},{"$f":"TEXT(LY10,\"00\")","v":"00"},{"$f":"TEXT(LZ10,\"00\")","v":"00"},{"$f":"TEXT(MA10,\"00\")","v":"00"},{"$f":"TEXT(MB10,\"00\")","v":"00"},{"$f":"TEXT(MC10,\"00\")","v":"00"},{"$f":"TEXT(MD10,\"00\")","v":"00"},{"$f":"TEXT(ME10,\"00\")","v":"00"},{"$f":"TEXT(MF10,\"00\")","v":"00"},{"$f":"TEXT(MG10,\"00\")","v":"00"},{"$f":"TEXT(MH10,\"00\")","v":"1E"},{"$f":"TEXT(MI10,\"00\")","v":"00"},{"$f":"TEXT(MJ10,\"00\")","v":"5A"},{"$f":"TEXT(MK10,\"00\")","v":"00"},{"$f":"TEXT(ML10,\"00\")","v":"5A"},{"$f":"TEXT(MM10,\"00\")","v":"00"},{"$f":"TEXT(MN10,\"00\")","v":"BC"},{"$f":"TEXT(MO10,\"00\")","v":"02"},{"$f":"TEXT(MP10,\"00\")","v":"32"},{"$f":"TEXT(MQ10,\"00\")","v":"00"},{"$f":"TEXT(MR10,\"00\")","v":"00"},{"$f":"TEXT(MS10,\"00\")","v":"00"},{"$f":"TEXT(MT10,\"00\")","v":"00"},{"$f":"TEXT(MU10,\"00\")","v":"00"},{"$f":"TEXT(MV10,\"00\")","v":"00"},{"$f":"TEXT(MW10,\"00\")","v":"00"},{"$f":"TEXT(MX10,\"00\")","v":"07"},{"$f":"TEXT(MY10,\"00\")","v":"00"},{"$f":"TEXT(MZ10,\"00\")","v":"00"},{"$f":"TEXT(NA10,\"00\")","v":"00"},{"$f":"TEXT(NB10,\"00\")","v":"00"},{"$f":"TEXT(NC10,\"00\")","v":"00"},{"$f":"TEXT(ND10,\"00\")","v":"00"},{"$f":"TEXT(NE10,\"00\")","v":"00"},{"$f":"TEXT(NF10,\"00\")","v":"00"},{"$f":"TEXT(NG10,\"00\")","v":"00"},{"$f":"TEXT(NH10,\"00\")","v":"00"},{"$f":"TEXT(NI10,\"00\")","v":"00"},{"$f":"TEXT(NJ10,\"00\")","v":"00"},{"$f":"TEXT(NK10,\"00\")","v":"00"},{"$f":"TEXT(NL10,\"00\")","v":"1E"},{"$f":"TEXT(NM10,\"00\")","v":"00"},{"$f":"TEXT(NN10,\"00\")","v":"00"},{"$f":"TEXT(NO10,\"00\")","v":"00"},{"$f":"TEXT(NP10,\"00\")","v":"00"},{"$f":"TEXT(NQ10,\"00\")","v":"00"},{"$f":"TEXT(NR10,\"00\")","v":"2A"},{"$f":"TEXT(NS10,\"00\")","v":"00"},{"$f":"TEXT(NT10,\"00\")","v":"00"},{"$f":"TEXT(NU10,\"00\")","v":"00"},{"$f":"TEXT(NV10,\"00\")","v":"02"},{"$f":"TEXT(NW10,\"00\")","v":"00"},{"$f":"TEXT(NX10,\"00\")","v":"14"},{"$f":"TEXT(NY10,\"00\")","v":"00"},{"$f":"TEXT(NZ10,\"00\")","v":"EA"},{"$f":"TEXT(OA10,\"00\")","v":"01"},{"$f":"TEXT(OB10,\"00\")","v":"14"},{"$f":"TEXT(OC10,\"00\")","v":"00"},{"$f":"TEXT(OD10,\"00\")","v":"EA"},{"$f":"TEXT(OE10,\"00\")","v":"01"},{"$f":"TEXT(OF10,\"00\")","v":"0A"},{"$f":"TEXT(OG10,\"00\")","v":"00"},{"$f":"TEXT(OH10,\"00\")","v":"05"},{"$f":"TEXT(OI10,\"00\")","v":"00"},{"$f":"TEXT(OJ10,\"00\")","v":"00"},{"$f":"TEXT(OK10,\"00\")","v":"00"},{"$f":"TEXT(OL10,\"00\")","v":"40"},{"$f":"TEXT(OM10,\"00\")","v":"00"},{"$f":"TEXT(ON10,\"00\")","v":"40"},{"$f":"TEXT(OO10,\"00\")","v":"00"},{"$f":"TEXT(OP10,\"00\")","v":"02"},{"$f":"TEXT(OQ10,\"00\")","v":"00"},{"$f":"TEXT(OR10,\"00\")","v":"0F"},{"$f":"TEXT(OS10,\"00\")","v":"00"},{"$f":"TEXT(OT10,\"00\")","v":"5A"},{"$f":"TEXT(OU10,\"00\")","v":"00"},{"$f":"TEXT(OV10,\"00\")","v":"00"},{"$f":"TEXT(OW10,\"00\")","v":"00"},{"$f":"TEXT(OX10,\"00\")","v":"01"},{"$f":"TEXT(OY10,\"00\")","v":"00"},{"$f":"TEXT(OZ10,\"00\")","v":"C8"},{"$f":"TEXT(PA10,\"00\")","v":"00"},{"$f":"TEXT(PB10,\"00\")","v":"00"},{"$f":"TEXT(PC10,\"00\")","v":"00"},{"$f":"TEXT(PD10,\"00\")","v":"00"},{"$f":"TEXT(PE10,\"00\")","v":"00"},{"$f":"TEXT(PF10,\"00\")","v":"0F"},{"$f":"TEXT(PG10,\"00\")","v":"00"},{"$f":"TEXT(PH10,\"00\")","v":"EA"},{"$f":"TEXT(PI10,\"00\")","v":"01"},{"$f":"TEXT(PJ10,\"00\")","v":"EA"},{"$f":"TEXT(PK10,\"00\")","v":"01"},{"$f":"TEXT(PL10,\"00\")","v":"00"},{"$f":"TEXT(PM10,\"00\")","v":"00"},{"$f":"TEXT(PN10,\"00\")","v":"00"},{"$f":"TEXT(PO10,\"00\")","v":"00"},{"$f":"TEXT(PP10,\"00\")","v":"00"},{"$f":"TEXT(PQ10,\"00\")","v":"00"},{"$f":"TEXT(PR10,\"00\")","v":"00"},{"$f":"TEXT(PS10,\"00\")","v":"00"},{"$f":"TEXT(PT10,\"00\")","v":"00"},{"$f":"TEXT(PU10,\"00\")","v":"00"},{"$f":"TEXT(PV10,\"00\")","v":"00"},{"$f":"TEXT(PW10,\"00\")","v":"00"},{"$f":"TEXT(PX10,\"00\")","v":"00"},{"$f":"TEXT(PY10,\"00\")","v":"00"},{"$f":"TEXT(PZ10,\"00\")","v":"85"},{"$f":"TEXT(QA10,\"00\")","v":"00"},{"$f":"TEXT(QB10,\"00\")","v":"06"},{"$f":"TEXT(QC10,\"00\")","v":"01"},{"$f":"TEXT(QD10,\"00\")","v":"77"},{"$f":"TEXT(QE10,\"00\")","v":"21"},{"$f":"TEXT(QF10,\"00\")","v":"00"},{"$f":"TEXT(QG10,\"00\")","v":"04"},{"$f":"TEXT(QH10,\"00\")","v":"00"},{"$f":"TEXT(QI10,\"00\")","v":"00"},{"$f":"TEXT(QJ10,\"00\")","v":"00"},{"$f":"TEXT(QK10,\"00\")","v":"00"},{"$f":"TEXT(QL10,\"00\")","v":"0A"},{"$f":"TEXT(QM10,\"00\")","v":"00"},{"$f":"TEXT(QN10,\"00\")","v":"00"},{"$f":"TEXT(QO10,\"00\")","v":"00"},{"$f":"TEXT(QP10,\"00\")","v":"00"},{"$f":"TEXT(QQ10,\"00\")","v":"00"},{"$f":"TEXT(QR10,\"00\")","v":"00"},{"$f":"TEXT(QS10,\"00\")","v":"00"},{"$f":"TEXT(QT10,\"00\")","v":"00"},{"$f":"TEXT(QU10,\"00\")","v":"00"},{"$f":"TEXT(QV10,\"00\")","v":"06"},{"$f":"TEXT(QW10,\"00\")","v":"00"},{"$f":"TEXT(QX10,\"00\")","v":"14"},{"$f":"TEXT(QY10,\"00\")","v":"00"},{"$f":"TEXT(QZ10,\"00\")","v":"00"},{"$f":"TEXT(RA10,\"00\")","v":"00"},{"$f":"TEXT(RB10,\"00\")","v":"54"},{"$f":"TEXT(RC10,\"00\")","v":"00"},{"$f":"TEXT(RD10,\"00\")","v":"28"},{"$f":"TEXT(RE10,\"00\")","v":"00"},{"$f":"TEXT(RF10,\"00\")","v":"15"},{"$f":"TEXT(RG10,\"00\")","v":"00"},{"$f":"TEXT(RH10,\"00\")","v":"00"},{"$f":"TEXT(RI10,\"00\")","v":"00"},{"$f":"TEXT(RJ10,\"00\")","v":"00"},{"$f":"TEXT(RK10,\"00\")","v":"00"},{"$f":"TEXT(RL10,\"00\")","v":"00"},{"$f":"TEXT(RM10,\"00\")","v":"00"},{"$f":"TEXT(RN10,\"00\")","v":"00"},{"$f":"TEXT(RO10,\"00\")","v":"00"},{"$f":"TEXT(RP10,\"00\")","v":"00"},{"$f":"TEXT(RQ10,\"00\")","v":"00"},{"$f":"TEXT(RR10,\"00\")","v":"00"},{"$f":"TEXT(RS10,\"00\")","v":"00"},{"$f":"TEXT(RT10,\"00\")","v":"A4"},{"$f":"TEXT(RU10,\"00\")","v":"FF"},{"$f":"TEXT(RV10,\"00\")","v":"A4"},{"$f":"TEXT(RW10,\"00\")","v":"FF"},{"$f":"TEXT(RX10,\"00\")","v":"A4"},{"$f":"TEXT(RY10,\"00\")","v":"FF"},{"$f":"TEXT(RZ10,\"00\")","v":"A4"},{"$f":"TEXT(SA10,\"00\")","v":"FF"},{"$f":"TEXT(SB10,\"00\")","v":"C3"},{"$f":"TEXT(SC10,\"00\")","v":"FF"},{"$f":"TEXT(SD10,\"00\")","v":"E1"},{"$f":"TEXT(SE10,\"00\")","v":"FF"},{"$f":"TEXT(SF10,\"00\")","v":"00"},{"$f":"TEXT(SG10,\"00\")","v":"00"},{"$f":"TEXT(SH10,\"00\")","v":"1F"},{"$f":"TEXT(SI10,\"00\")","v":"00"},{"$f":"TEXT(SJ10,\"00\")","v":"3E"},{"$f":"TEXT(SK10,\"00\")","v":"00"},{"$f":"TEXT(SL10,\"00\")","v":"5C"},{"$f":"TEXT(SM10,\"00\")","v":"00"},{"$f":"TEXT(SN10,\"00\")","v":"7B"},{"$f":"TEXT(SO10,\"00\")","v":"00"},{"$f":"TEXT(SP10,\"00\")","v":"99"},{"$f":"TEXT(SQ10,\"00\")","v":"00"},{"$f":"TEXT(SR10,\"00\")","v":"82"},{"$f":"TEXT(SS10,\"00\")","v":"F3"},{"$f":"TEXT(ST10,\"00\")","v":"06"},{"$f":"TEXT(SU10,\"00\")","v":"06"}]
["GC",{"$f":"HEX2DEC(B10)","v":165},{"$f":"HEX2DEC(C10)","v":0},{"$f":"HEX2DEC(D10)","v":0},{"$f":"HEX2DEC(E10)","v":1},{"$f":"HEX2DEC(F10)","v":74},{"$f":"HEX2DEC(G10)","v":0},{"$f":"HEX2DEC(H10)","v":144},{"$f":"HEX2DEC(I10)","v":0},{"$f":"HEX2DEC(J10)","v":19},{"$f":"HEX2DEC(K10)","v":0},{"$f":"HEX2DEC(L10)","v":168},{"$f":"HEX2DEC(M10)","v":13},{"$f":"HEX2DEC(N10)","v":0},{"$f":"HEX2DEC(O10)","v":2},{"$f":"HEX2DEC(P10)","v":3},{"$f":"HEX2DEC(Q10)","v":0},{"$f":"HEX2DEC(R10)","v":60},{"$f":"HEX2DEC(S10)","v":0},{"$f":"HEX2DEC(T10)","v":3},{"$f":"HEX2DEC(U10)","v":0},{"$f":"HEX2DEC(V10)","v":0},{"$f":"HEX2DEC(W10)","v":64},{"$f":"HEX2DEC(X10)","v":96},{"$f":"HEX2DEC(Y10)","v":0},{"$f":"HEX2DEC(Z10)","v":0},{"$f":"HEX2DEC(AA10)","v":0},{"$f":"HEX2DEC(AB10)","v":0},{"$f":"HEX2DEC(AC10)","v":0},{"$f":"HEX2DEC(AD10)","v":0},{"$f":"HEX2DEC(AE10)","v":0},{"$f":"HEX2DEC(AF10)","v":1},{"$f":"HEX2DEC(AG10)","v":0},{"$f":"HEX2DEC(AH10)","v":0},{"$f":"HEX2DEC(AI10)","v":0},{"$f":"HEX2DEC(AJ10)","v":20},{"$f":"HEX2DEC(AK10)","v":0},{"$f":"HEX2DEC(AL10)","v":118},{"$f":"HEX2DEC(AM10)","v":18},{"$f":"HEX2DEC(AN10)","v":8},{"$f":"HEX2DEC(AO10)","v":7},{"$f":"HEX2DEC(AP10)","v":0},{"$f":"HEX2DEC(AQ10)","v":0},{"$f":"HEX2DEC(AR10)","v":0},{"$f":"HEX2DEC(AS10)","v":0},{"$f":"HEX2DEC(AT10)","v":0},{"$f":"HEX2DEC(AU10)","v":0},{"$f":"HEX2DEC(AV10)","v":0},{"$f":"HEX2DEC(AW10)","v":0},{"$f":"HEX2DEC(AX10)","v":9},{"$f":"HEX2DEC(AY10)","v":49},{"$f":"HEX2DEC(AZ10)","v":7},{"$f":"HEX2DEC(BA10)","v":8},{"$f":"HEX2DEC(BB10)","v":35},{"$f":"HEX2DEC(BC10)","v":2},{"$f":"HEX2DEC(BD10)","v":48},{"$f":"HEX2DEC(BE10)","v":42},{"$f":"HEX2DEC(BF10)","v":0},{"$f":"HEX2DEC(BG10)","v":0},{"$f":"HEX2DEC(BH10)","v":32},{"$f":"HEX2DEC(BI10)","v":0},{"$f":"HEX2DEC(BJ10)","v":17},{"$f":"HEX2DEC(BK10)","v":65},{"$f":"HEX2DEC(BL10)","v":1},{"$f":"HEX2DEC(BM10)","v":0},{"$f":"HEX2DEC(BN10)","v":1},{"$f":"HEX2DEC(BO10)","v":0},{"$f":"HEX2DEC(BP10)","v":3},{"$f":"HEX2DEC(BQ10)","v":0},{"$f":"HEX2DEC(BR10)","v":4},{"$f":"HEX2DEC(BS10)","v":0},{"$f":"HEX2DEC(BT10)","v":0},{"$f":"HEX2DEC(BU10)","v":0},{"$f":"HEX2DEC(BV10)","v":34},{"$f":"HEX2DEC(BW10)","v":78},{"$f":"HEX2DEC(BX10)","v":94},{"$f":"HEX2DEC(BY10)","v":1},{"$f":"HEX2DEC(BZ10)","v":2},{"$f":"HEX2DEC(CA10)","v":61},{"$f":"HEX2DEC(CB10)","v":30},{"$f":"HEX2DEC(CC10)","v":61},{"$f":"HEX2DEC(CD10)","v":57},{"$f":"HEX2DEC(CE10)","v":61},{"$f":"HEX2DEC(CF10)","v":83},{"$f":"HEX2DEC(CG10)","v":61},{"$f":"HEX2DEC(CH10)","v":110},{"$f":"HEX2DEC(CI10)","v":61},{"$f":"HEX2DEC(CJ10)","v":136},{"$f":"HEX2DEC(CK10)","v":61},{"$f":"HEX2DEC(CL10)","v":162},{"$f":"HEX2DEC(CM10)","v":61},{"$f":"HEX2DEC(CN10)","v":187},{"$f":"HEX2DEC(CO10)","v":61},{"$f":"HEX2DEC(CP10)","v":212},{"$f":"HEX2DEC(CQ10)","v":61},{"$f":"HEX2DEC(CR10)","v":237},{"$f":"HEX2DEC(CS10)","v":61},{"$f":"HEX2DEC(CT10)","v":6},{"$f":"HEX2DEC(CU10)","v":62},{"$f":"HEX2DEC(CV10)","v":30},{"$f":"HEX2DEC(CW10)","v":62},{"$f":"HEX2DEC(CX10)","v":54},{"$f":"HEX2DEC(CY10)","v":62},{"$f":"HEX2DEC(CZ10)","v":78},{"$f":"HEX2DEC(DA10)","v":62},{"$f":"HEX2DEC(DB10)","v":101},{"$f":"HEX2DEC(DC10)","v":62},{"$f":"HEX2DEC(DD10)","v":125},{"$f":"HEX2DEC(DE10)","v":62},{"$f":"HEX2DEC(DF10)","v":147},{"$f":"HEX2DEC(DG10)","v":62},{"$f":"HEX2DEC(DH10)","v":170},{"$f":"HEX2DEC(DI10)","v":62},{"$f":"HEX2DEC(DJ10)","v":192},{"$f":"HEX2DEC(DK10)","v":62},{"$f":"HEX2DEC(DL10)","v":214},{"$f":"HEX2DEC(DM10)","v":62},{"$f":"HEX2DEC(DN10)","v":236},{"$f":"HEX2DEC(DO10)","v":62},{"$f":"HEX2DEC(DP10)","v":2},{"$f":"HEX2DEC(DQ10)","v":63},{"$f":"HEX2DEC(DR10)","v":23},{"$f":"HEX2DEC(DS10)","v":63},{"$f":"HEX2DEC(DT10)","v":44},{"$f":"HEX2DEC(DU10)","v":63},{"$f":"HEX2DEC(DV10)","v":65},{"$f":"HEX2DEC(DW10)","v":63},{"$f":"HEX2DEC(DX10)","v":85},{"$f":"HEX2DEC(DY10)","v":63},{"$f":"HEX2DEC(DZ10)","v":105},{"$f":"HEX2DEC(EA10)","v":63},{"$f":"HEX2DEC(EB10)","v":125},{"$f":"HEX2DEC(EC10)","v":63},{"$f":"HEX2DEC(ED10)","v":145},{"$f":"HEX2DEC(EE10)","v":63},{"$f":"HEX2DEC(EF10)","v":164},{"$f":"HEX2DEC(EG10)","v":63},{"$f":"HEX2DEC(EH10)","v":184},{"$f":"HEX2DEC(EI10)","v":63},{"$f":"HEX2DEC(EJ10)","v":202},{"$f":"HEX2DEC(EK10)","v":63},{"$f":"HEX2DEC(EL10)","v":221},{"$f":"HEX2DEC(EM10)","v":63},{"$f":"HEX2DEC(EN10)","v":240},{"$f":"HEX2DEC(EO10)","v":63},{"$f":"HEX2DEC(EP10)","v":2},{"$f":"HEX2DEC(EQ10)","v":64},{"$f":"HEX2DEC(ER10)","v":20},{"$f":"HEX2DEC(ES10)","v":64},{"$f":"HEX2DEC(ET10)","v":38},{"$f":"HEX2DEC(EU10)","v":64},{"$f":"HEX2DEC(EV10)","v":55},{"$f":"HEX2DEC(EW10)","v":64},{"$f":"HEX2DEC(EX10)","v":73},{"$f":"HEX2DEC(EY10)","v":64},{"$f":"HEX2DEC(EZ10)","v":90},{"$f":"HEX2DEC(FA10)","v":64},{"$f":"HEX2DEC(FB10)","v":107},{"$f":"HEX2DEC(FC10)","v":64},{"$f":"HEX2DEC(FD10)","v":124},{"$f":"HEX2DEC(FE10)","v":64},{"$f":"HEX2DEC(FF10)","v":140},{"$f":"HEX2DEC(FG10)","v":64},{"$f":"HEX2DEC(FH10)","v":156},{"$f":"HEX2DEC(FI10)","v":64},{"$f":"HEX2DEC(FJ10)","v":172},{"$f":"HEX2DEC(FK10)","v":64},{"$f":"HEX2DEC(FL10)","v":188},{"$f":"HEX2DEC(FM10)","v":64},{"$f":"HEX2DEC(FN10)","v":204},{"$f":"HEX2DEC(FO10)","v":64},{"$f":"HEX2DEC(FP10)","v":219},{"$f":"HEX2DEC(FQ10)","v":64},{"$f":"HEX2DEC(FR10)","v":234},{"$f":"HEX2DEC(FS10)","v":64},{"$f":"HEX2DEC(FT10)","v":249},{"$f":"HEX2DEC(FU10)","v":64},{"$f":"HEX2DEC(FV10)","v":8},{"$f":"HEX2DEC(FW10)","v":65},{"$f":"HEX2DEC(FX10)","v":23},{"$f":"HEX2DEC(FY10)","v":65},{"$f":"HEX2DEC(FZ10)","v":37},{"$f":"HEX2DEC(GA10)","v":65},{"$f":"HEX2DEC(GB10)","v":51},{"$f":"HEX2DEC(GC10)","v":65},{"$f":"HEX2DEC(GD10)","v":66},{"$f":"HEX2DEC(GE10)","v":65},{"$f":"HEX2DEC(GF10)","v":79},{"$f":"HEX2DEC(GG10)","v":65},{"$f":"HEX2DEC(GH10)","v":93},{"$f":"HEX2DEC(GI10)","v":65},{"$f":"HEX2DEC(GJ10)","v":106},{"$f":"HEX2DEC(GK10)","v":65},{"$f":"HEX2DEC(GL10)","v":120},{"$f":"HEX2DEC(GM10)","v":65},{"$f":"HEX2DEC(GN10)","v":133},{"$f":"HEX2DEC(GO10)","v":65},{"$f":"HEX2DEC(GP10)","v":146},{"$f":"HEX2DEC(GQ10)","v":65},{"$f":"HEX2DEC(GR10)","v":158},{"$f":"HEX2DEC(GS10)","v":65},{"$f":"HEX2DEC(GT10)","v":171},{"$f":"HEX2DEC(GU10)","v":65},{"$f":"HEX2DEC(GV10)","v":183},{"$f":"HEX2DEC(GW10)","v":65},{"$f":"HEX2DEC(GX10)","v":195},{"$f":"HEX2DEC(GY10)","v":65},{"$f":"HEX2DEC(GZ10)","v":207},{"$f":"HEX2DEC(HA10)","v":65},{"$f":"HEX2DEC(HB10)","v":219},{"$f":"HEX2DEC(HC10)","v":65},{"$f":"HEX2DEC(HD10)","v":231},{"$f":"HEX2DEC(HE10)","v":65},{"$f":"HEX2DEC(HF10)","v":242},{"$f":"HEX2DEC(HG10)","v":65},{"$f":"HEX2DEC(HH10)","v":253},{"$f":"HEX2DEC(HI10)","v":65},{"$f":"HEX2DEC(HJ10)","v":8},{"$f":"HEX2DEC(HK10)","v":66},{"$f":"HEX2DEC(HL10)","v":19},{"$f":"HEX2DEC(HM10)","v":66},{"$f":"HEX2DEC(HN10)","v":30},{"$f":"HEX2DEC(HO10)","v":66},{"$f":"HEX2DEC(HP10)","v":40},{"$f":"HEX2DEC(HQ10)","v":66},{"$f":"HEX2DEC(HR10)","v":51},{"$f":"HEX2DEC(HS10)","v":66},{"$f":"HEX2DEC(HT10)","v":61},{"$f":"HEX2DEC(HU10)","v":66},{"$f":"HEX2DEC(HV10)","v":71},{"$f":"HEX2DEC(HW10)","v":66},{"$f":"HEX2DEC(HX10)","v":81},{"$f":"HEX2DEC(HY10)","v":66},{"$f":"HEX2DEC(HZ10)","v":91},{"$f":"HEX2DEC(IA10)","v":66},{"$f":"HEX2DEC(IB10)","v":100},{"$f":"HEX2DEC(IC10)","v":66},{"$f":"HEX2DEC(ID10)","v":110},{"$f":"HEX2DEC(IE10)","v":66},{"$f":"HEX2DEC(IF10)","v":119},{"$f":"HEX2DEC(IG10)","v":66},{"$f":"HEX2DEC(IH10)","v":128},{"$f":"HEX2DEC(II10)","v":66},{"$f":"HEX2DEC(IJ10)","v":137},{"$f":"HEX2DEC(IK10)","v":66},{"$f":"HEX2DEC(IL10)","v":145},{"$f":"HEX2DEC(IM10)","v":66},{"$f":"HEX2DEC(IN10)","v":154},{"$f":"HEX2DEC(IO10)","v":66},{"$f":"HEX2DEC(IP10)","v":162},{"$f":"HEX2DEC(IQ10)","v":66},{"$f":"HEX2DEC(IR10)","v":170},{"$f":"HEX2DEC(IS10)","v":66},{"$f":"HEX2DEC(IT10)","v":178},{"$f":"HEX2DEC(IU10)","v":66},{"$f":"HEX2DEC(IV10)","v":186},{"$f":"HEX2DEC(IW10)","v":66},{"$f":"HEX2DEC(IX10)","v":0},{"$f":"HEX2DEC(IY10)","v":0},{"$f":"HEX2DEC(IZ10)","v":0},{"$f":"HEX2DEC(JA10)","v":0},{"$f":"HEX2DEC(JB10)","v":0},{"$f":"HEX2DEC(JC10)","v":0},{"$f":"HEX2DEC(JD10)","v":0},{"$f":"HEX2DEC(JE10)","v":0},{"$f":"HEX2DEC(JF10)","v":0},{"$f":"HEX2DEC(JG10)","v":0},{"$f":"HEX2DEC(JH10)","v":0},{"$f":"HEX2DEC(JI10)","v":0},{"$f":"HEX2DEC(JJ10)","v":0},{"$f":"HEX2DEC(JK10)","v":0},{"$f":"HEX2DEC(JL10)","v":0},{"$f":"HEX2DEC(JM10)","v":0},{"$f":"HEX2DEC(JN10)","v":0},{"$f":"HEX2DEC(JO10)","v":0},{"$f":"HEX2DEC(JP10)","v":0},{"$f":"HEX2DEC(JQ10)","v":0},{"$f":"HEX2DEC(JR10)","v":0},{"$f":"HEX2DEC(JS10)","v":0},{"$f":"HEX2DEC(JT10)","v":0},{"$f":"HEX2DEC(JU10)","v":0},{"$f":"HEX2DEC(JV10)","v":0},{"$f":"HEX2DEC(JW10)","v":0},{"$f":"HEX2DEC(JX10)","v":0},{"$f":"HEX2DEC(JY10)","v":0},{"$f":"HEX2DEC(JZ10)","v":0},{"$f":"HEX2DEC(KA10)","v":0},{"$f":"HEX2DEC(KB10)","v":0},{"$f":"HEX2DEC(KC10)","v":0},{"$f":"HEX2DEC(KD10)","v":0},{"$f":"HEX2DEC(KE10)","v":0},{"$f":"HEX2DEC(KF10)","v":0},{"$f":"HEX2DEC(KG10)","v":0},{"$f":"HEX2DEC(KH10)","v":0},{"$f":"HEX2DEC(KI10)","v":0},{"$f":"HEX2DEC(KJ10)","v":0},{"$f":"HEX2DEC(KK10)","v":0},{"$f":"HEX2DEC(KL10)","v":0},{"$f":"HEX2DEC(KM10)","v":0},{"$f":"HEX2DEC(KN10)","v":0},{"$f":"HEX2DEC(KO10)","v":0},{"$f":"HEX2DEC(KP10)","v":0},{"$f":"HEX2DEC(KQ10)","v":0},{"$f":"HEX2DEC(KR10)","v":0},{"$f":"HEX2DEC(KS10)","v":0},{"$f":"HEX2DEC(KT10)","v":0},{"$f":"HEX2DEC(KU10)","v":0},{"$f":"HEX2DEC(KV10)","v":0},{"$f":"HEX2DEC(KW10)","v":0},{"$f":"HEX2DEC(KX10)","v":0},{"$f":"HEX2DEC(KY10)","v":0},{"$f":"HEX2DEC(KZ10)","v":0},{"$f":"HEX2DEC(LA10)","v":0},{"$f":"HEX2DEC(LB10)","v":0},{"$f":"HEX2DEC(LC10)","v":0},{"$f":"HEX2DEC(LD10)","v":0},{"$f":"HEX2DEC(LE10)","v":0},{"$f":"HEX2DEC(LF10)","v":0},{"$f":"HEX2DEC(LG10)","v":0},{"$f":"HEX2DEC(LH10)","v":0},{"$f":"HEX2DEC(LI10)","v":0},{"$f":"HEX2DEC(LJ10)","v":0},{"$f":"HEX2DEC(LK10)","v":0},{"$f":"HEX2DEC(LL10)","v":0},{"$f":"HEX2DEC(LM10)","v":0},{"$f":"HEX2DEC(LN10)","v":0},{"$f":"HEX2DEC(LO10)","v":0},{"$f":"HEX2DEC(LP10)","v":0},{"$f":"HEX2DEC(LQ10)","v":0},{"$f":"HEX2DEC(LR10)","v":0},{"$f":"HEX2DEC(LS10)","v":0},{"$f":"HEX2DEC(LT10)","v":0},{"$f":"HEX2DEC(LU10)","v":0},{"$f":"HEX2DEC(LV10)","v":0},{"$f":"HEX2DEC(LW10)","v":0},{"$f":"HEX2DEC(LX10)","v":0},{"$f":"HEX2DEC(LY10)","v":0},{"$f":"HEX2DEC(LZ10)","v":0},{"$f":"HEX2DEC(MA10)","v":0},{"$f":"HEX2DEC(MB10)","v":0},{"$f":"HEX2DEC(MC10)","v":0},{"$f":"HEX2DEC(MD10)","v":0},{"$f":"HEX2DEC(ME10)","v":0},{"$f":"HEX2DEC(MF10)","v":0},{"$f":"HEX2DEC(MG10)","v":0},{"$f":"HEX2DEC(MH10)","v":30},{"$f":"HEX2DEC(MI10)","v":0},{"$f":"HEX2DEC(MJ10)","v":90},{"$f":"HEX2DEC(MK10)","v":0},{"$f":"HEX2DEC(ML10)","v":90},{"$f":"HEX2DEC(MM10)","v":0},{"$f":"HEX2DEC(MN10)","v":188},{"$f":"HEX2DEC(MO10)","v":2},{"$f":"HEX2DEC(MP10)","v":50},{"$f":"HEX2DEC(MQ10)","v":0},{"$f":"HEX2DEC(MR10)","v":0},{"$f":"HEX2DEC(MS10)","v":0},{"$f":"HEX2DEC(MT10)","v":0},{"$f":"HEX2DEC(MU10)","v":0},{"$f":"HEX2DEC(MV10)","v":0},{"$f":"HEX2DEC(MW10)","v":0},{"$f":"HEX2DEC(MX10)","v":7},{"$f":"HEX2DEC(MY10)","v":0},{"$f":"HEX2DEC(MZ10)","v":0},{"$f":"HEX2DEC(NA10)","v":0},{"$f":"HEX2DEC(NB10)","v":0},{"$f":"HEX2DEC(NC10)","v":0},{"$f":"HEX2DEC(ND10)","v":0},{"$f":"HEX2DEC(NE10)","v":0},{"$f":"HEX2DEC(NF10)","v":0},{"$f":"HEX2DEC(NG10)","v":0},{"$f":"HEX2DEC(NH10)","v":0},{"$f":"HEX2DEC(NI10)","v":0},{"$f":"HEX2DEC(NJ10)","v":0},{"$f":"HEX2DEC(NK10)","v":0},{"$f":"HEX2DEC(NL10)","v":30},{"$f":"HEX2DEC(NM10)","v":0},{"$f":"HEX2DEC(NN10)","v":0},{"$f":"HEX2DEC(NO10)","v":0},{"$f":"HEX2DEC(NP10)","v":0},{"$f":"HEX2DEC(NQ10)","v":0},{"$f":"HEX2DEC(NR10)","v":42},{"$f":"HEX2DEC(NS10)","v":0},{"$f":"HEX2DEC(NT10)","v":0},{"$f":"HEX2DEC(NU10)","v":0},{"$f":"HEX2DEC(NV10)","v":2},{"$f":"HEX2DEC(NW10)","v":0},{"$f":"HEX2DEC(NX10)","v":20},{"$f":"HEX2DEC(NY10)","v":0},{"$f":"HEX2DEC(NZ10)","v":234},{"$f":"HEX2DEC(OA10)","v":1},{"$f":"HEX2DEC(OB10)","v":20},{"$f":"HEX2DEC(OC10)","v":0},{"$f":"HEX2DEC(OD10)","v":234},{"$f":"HEX2DEC(OE10)","v":1},{"$f":"HEX2DEC(OF10)","v":10},{"$f":"HEX2DEC(OG10)","v":0},{"$f":"HEX2DEC(OH10)","v":5},{"$f":"HEX2DEC(OI10)","v":0},{"$f":"HEX2DEC(OJ10)","v":0},{"$f":"HEX2DEC(OK10)","v":0},{"$f":"HEX2DEC(OL10)","v":64},{"$f":"HEX2DEC(OM10)","v":0},{"$f":"HEX2DEC(ON10)","v":64},{"$f":"HEX2DEC(OO10)","v":0},{"$f":"HEX2DEC(OP10)","v":2},{"$f":"HEX2DEC(OQ10)","v":0},{"$f":"HEX2DEC(OR10)","v":15},{"$f":"HEX2DEC(OS10)","v":0},{"$f":"HEX2DEC(OT10)","v":90},{"$f":"HEX2DEC(OU10)","v":0},{"$f":"HEX2DEC(OV10)","v":0},{"$f":"HEX2DEC(OW10)","v":0},{"$f":"HEX2DEC(OX10)","v":1},{"$f":"HEX2DEC(OY10)","v":0},{"$f":"HEX2DEC(OZ10)","v":200},{"$f":"HEX2DEC(PA10)","v":0},{"$f":"HEX2DEC(PB10)","v":0},{"$f":"HEX2DEC(PC10)","v":0},{"$f":"HEX2DEC(PD10)","v":0},{"$f":"HEX2DEC(PE10)","v":0},{"$f":"HEX2DEC(PF10)","v":15},{"$f":"HEX2DEC(PG10)","v":0},{"$f":"HEX2DEC(PH10)","v":234},{"$f":"HEX2DEC(PI10)","v":1},{"$f":"HEX2DEC(PJ10)","v":234},{"$f":"HEX2DEC(PK10)","v":1},{"$f":"HEX2DEC(PL10)","v":0},{"$f":"HEX2DEC(PM10)","v":0},{"$f":"HEX2DEC(PN10)","v":0},{"$f":"HEX2DEC(PO10)","v":0},{"$f":"HEX2DEC(PP10)","v":0},{"$f":"HEX2DEC(PQ10)","v":0},{"$f":"HEX2DEC(PR10)","v":0},{"$f":"HEX2DEC(PS10)","v":0},{"$f":"HEX2DEC(PT10)","v":0},{"$f":"HEX2DEC(PU10)","v":0},{"$f":"HEX2DEC(PV10)","v":0},{"$f":"HEX2DEC(PW10)","v":0},{"$f":"HEX2DEC(PX10)","v":0},{"$f":"HEX2DEC(PY10)","v":0},{"$f":"HEX2DEC(PZ10)","v":133},{"$f":"HEX2DEC(QA10)","v":0},{"$f":"HEX2DEC(QB10)","v":6},{"$f":"HEX2DEC(QC10)","v":1},{"$f":"HEX2DEC(QD10)","v":119},{"$f":"HEX2DEC(QE10)","v":33},{"$f":"HEX2DEC(QF10)","v":0},{"$f":"HEX2DEC(QG10)","v":4},{"$f":"HEX2DEC(QH10)","v":0},{"$f":"HEX2DEC(QI10)","v":0},{"$f":"HEX2DEC(QJ10)","v":0},{"$f":"HEX2DEC(QK10)","v":0},{"$f":"HEX2DEC(QL10)","v":10},{"$f":"HEX2DEC(QM10)","v":0},{"$f":"HEX2DEC(QN10)","v":0},{"$f":"HEX2DEC(QO10)","v":0},{"$f":"HEX2DEC(QP10)","v":0},{"$f":"HEX2DEC(QQ10)","v":0},{"$f":"HEX2DEC(QR10)","v":0},{"$f":"HEX2DEC(QS10)","v":0},{"$f":"HEX2DEC(QT10)","v":0},{"$f":"HEX2DEC(QU10)","v":0},{"$f":"HEX2DEC(QV10)","v":6},{"$f":"HEX2DEC(QW10)","v":0},{"$f":"HEX2DEC(QX10)","v":20},{"$f":"HEX2DEC(QY10)","v":0},{"$f":"HEX2DEC(QZ10)","v":0},{"$f":"HEX2DEC(RA10)","v":0},{"$f":"HEX2DEC(RB10)","v":84},{"$f":"HEX2DEC(RC10)","v":0},{"$f":"HEX2DEC(RD10)","v":40},{"$f":"HEX2DEC(RE10)","v":0},{"$f":"HEX2DEC(RF10)","v":21},{"$f":"HEX2DEC(RG10)","v":0},{"$f":"HEX2DEC(RH10)","v":0},{"$f":"HEX2DEC(RI10)","v":0},{"$f":"HEX2DEC(RJ10)","v":0},{"$f":"HEX2DEC(RK10)","v":0},{"$f":"HEX2DEC(RL10)","v":0},{"$f":"HEX2DEC(RM10)","v":0},{"$f":"HEX2DEC(RN10)","v":0},{"$f":"HEX2DEC(RO10)","v":0},{"$f":"HEX2DEC(RP10)","v":0},{"$f":"HEX2DEC(RQ10)","v":0},{"$f":"HEX2DEC(RR10)","v":0},{"$f":"HEX2DEC(RS10)","v":0},{"$f":"HEX2DEC(RT10)","v":164},{"$f":"HEX2DEC(RU10)","v":255},{"$f":"HEX2DEC(RV10)","v":164},{"$f":"HEX2DEC(RW10)","v":255},{"$f":"HEX2DEC(RX10)","v":164},{"$f":"HEX2DEC(RY10)","v":255},{"$f":"HEX2DEC(RZ10)","v":164},{"$f":"HEX2DEC(SA10)","v":255},{"$f":"HEX2DEC(SB10)","v":195},{"$f":"HEX2DEC(SC10)","v":255},{"$f":"HEX2DEC(SD10)","v":225},{"$f":"HEX2DEC(SE10)","v":255},{"$f":"HEX2DEC(SF10)","v":0},{"$f":"HEX2DEC(SG10)","v":0},{"$f":"HEX2DEC(SH10)","v":31},{"$f":"HEX2DEC(SI10)","v":0},{"$f":"HEX2DEC(SJ10)","v":62},{"$f":"HEX2DEC(SK10)","v":0},{"$f":"HEX2DEC(SL10)","v":92},{"$f":"HEX2DEC(SM10)","v":0},{"$f":"HEX2DEC(SN10)","v":123},{"$f":"HEX2DEC(SO10)","v":0},{"$f":"HEX2DEC(SP10)","v":153},{"$f":"HEX2DEC(SQ10)","v":0},{"$f":"HEX2DEC(SR10)","v":130},{"$f":"HEX2DEC(SS10)","v":243},{"$f":"HEX2DEC(ST10)","v":6},{"$f":"HEX2DEC(SU10)","v":6}]
[null,null,null,{"$f":"CONCATENATE(E11,D11)","v":"0100"},null,{"$f":"CONCATENATE(G11,F11)","v":"004A"},null,{"$f":"CONCATENATE(I11,H11)","v":"0090"},null,{"$f":"CONCATENATE(K11,J11)","v":"0013"},null,{"$f":"CONCATENATE(M11,L11)","v":"0DA8"},null,{"$f":"CONCATENATE(O11,N11)","v":"0200"},null,{"$f":"CONCATENATE(Q11,P11)","v":"0003"},null,{"$f":"CONCATENATE(S11,R11)","v":"003C"},null,{"$f":"CONCATENATE(U11,T11)","v":"0003"},null,{"$f":"CONCATENATE(W11,V11)","v":"4000"},null,{"$f":"CONCATENATE(Y11,X11)","v":"0060"},null,{"$f":"CONCATENATE(AA11,Z11)","v":"0000"},null,{"$f":"CONCATENATE(AC11,AB11)","v":"0000"},null,{"$f":"CONCATENATE(AE11,AD11)","v":"0000"},null,{"$f":"CONCATENATE(AG11,AF11)","v":"0001"},null,{"$f":"CONCATENATE(AI11,AH11)","v":"0000"},null,{"$f":"CONCATENATE(AK11,AJ11)","v":"0014"},null,{"$f":"CONCATENATE(AM11,AL11)","v":"1276"},null,{"$f":"CONCATENATE(AO11,AN11)","v":"0708"},null,null,null,null,null,null,null,null,null,{"$f":"DATE(BB10,BC10,AZ10)+TIME(BA10,AX10,AY10)","v":"1923-02-07T08:09:31"},null,null,null,null,null,null,null,null,null,{"$f":"CONCATENATE(BI11,BH11)","v":"0020"},null,{"$f":"CONCATENATE(BK11,BJ11)","v":"4111"},null,{"$f":"CONCATENATE(BM11,BL11)","v":"0001"},null,{"$f":"CONCATENATE(BO11,BN11)","v":"0001"},null,{"$f":"CONCATENATE(BQ11,BP11)","v":"0003"},null,{"$f":"CONCATENATE(BS11,BR11)","v":"0004"},null,{"$f":"CONCATENATE(BU11,BT11)","v":"0000"},null,{"$f":"CONCATENATE(BW11,BV11)","v":"4E22"},null,{"$f":"CONCATENATE(BY11,BX11)","v":"015E"},null,null,null,null,null,null,null,null,null,null,null,null,null,null,null,null,null,null,null,null,null,null,null,null,null,null,null,null,null,null,null,null,null,null,null,null,null,null,null,null,null,null,null,null,null,null,null,null,null,null,null,null,null,null,null,null,null,null,null,null,null,null,null,null,null,null,null,null,null,null,null,null,null,null,null,null,null,null,null,null,null,null,null,null,null,null,null,null,null,null,null,null,null,null,null,null,null,null,null,null,null,null,null,null,null,null,null,null,null,null,null,null,null,null,null,null,null,null,null,null,null,null,null,null,null,null,null,null,null,null,null,null,null,null,null,null,null,null,null,null,null,null,null,null,null,null,null,null,null,null,null,null,null,null,null,null,null,null,null,null,null,null,null,null,null,null,null,null,null,null,null,null,null,null,null,null,null,null,null,null,null,null,null,null,null,null,null,null,null,null,null,null,null,null,null,null,null,null,null,null,null,null,null,null,null,null,null,null,null,null,null,null,null,null,null,null,null,null,null,null,null,null,null,null,null,null,null,null,null,null,null,null,null,null,null,null,null,null,null,null,null,null,null,null,null,null,null,null,null,null,null,null,null,null,null,null,null,null,null,null,null,null,null,null,null,null,null,null,null,null,null,null,null,null,null,null,null,null,null,null,null,null,null,null,null,null,null,null,null,null,null,null,null,null,null,null,null,null,null,null,null,null,null,null,null,null,null,null,null,{"$f":"CONCATENATE(NW11,NV11)","v":"0002"},null,null,null,null,null,null,null,null,null,null,null,null,null,null,null,null,null,null,null,null,null,null,null,null,null,null,null,null,null,null,null,null,null,null,null,null,null,null,null,null,null,null,null,null,null,null,null,null,null,null,null,{"$f":"CONCATENATE(PW11,PV11)","v":"0000"},null,{"$f":"CONCATENATE(PY11,PX11)","v":"0000"},null,null,null,null,null,null,null,{"$f":"CONCATENATE(QG11,QF11)","v":"0400"},null,null,null,null,null,null,null,null,null,null,null,null,null,null,null,null,null,null,null,null,null,null,null,null,null,null,null,null,null,null,null,null,null,null,null,null,null,null,null,null,null,null,null,null,null,null,null,null,null,null,null,null,null,null,null,null,null,null,null,null,null,"b58c",null,{"$f":"CONCATENATE(SS10,SR10)","v":"F382"},null,{"$f":"CONCATENATE(SR10,SS10)","v":"82F3"}]
["Interpretación",null,null,{"$f":"(IF(HEX2DEC(D13)>(32769),HEX2DEC(D13)-65536,HEX2DEC(D13)))/1","v":256},null,{"$f":"(IF(HEX2DEC(F13)>(32769),HEX2DEC(F13)-65536,HEX2DEC(F13)))/1","v":74},null,{"$f":"(IF(HEX2DEC(H13)>(32769),HEX2DEC(H13)-65536,HEX2DEC(H13)))/1","v":144},null,{"$f":"(IF(HEX2DEC(J13)>(32769),HEX2DEC(J13)-65536,HEX2DEC(J13)))/1","v":19},null,{"$f":"(IF(HEX2DEC(L13)>(32769),HEX2DEC(L13)-65536,HEX2DEC(L13)))/256/10","v":1.365625},null,0,null,{"$f":"(IF(HEX2DEC(P13)>(32769),HEX2DEC(P13)-65536,HEX2DEC(P13)))/1","v":3},null,{"$f":"(IF(HEX2DEC(R13)>(32769),HEX2DEC(R13)-65536,HEX2DEC(R13)))/1","v":60},null,{"$f":"(IF(HEX2DEC(T13)>(32769),HEX2DEC(T13)-65536,HEX2DEC(T13)))/1","v":3},null,{"$f":"_xlfn.CONCAT(HEX2BIN(W11),HEX2BIN(V11))","v":"10000000"},null,{"$f":"(IF(HEX2DEC(X13)>(32769),HEX2DEC(X13)-65536,HEX2DEC(X13)))/1","v":96},null,{"$f":"(IF(HEX2DEC(Z13)>(32769),HEX2DEC(Z13)-65536,HEX2DEC(Z13)))/1","v":0},null,{"$f":"(IF(HEX2DEC(AB13)>(32769),HEX2DEC(AB13)-65536,HEX2DEC(AB13)))/1","v":0},null,{"$f":"(IF(HEX2DEC(AD13)>(32769),HEX2DEC(AD13)-65536,HEX2DEC(AD13)))/1","v":0},null,{"$f":"(IF(HEX2DEC(AF13)>(32769),HEX2DEC(AF13)-65536,HEX2DEC(AF13)))/1","v":1},null,{"$f":"(IF(HEX2DEC(AH13)>(32769),HEX2DEC(AH13)-65536,HEX2DEC(AH13)))/1","v":0},null,{"$f":"(IF(HEX2DEC(AJ13)>(32769),HEX2DEC(AJ13)-65536,HEX2DEC(AJ13)))/1","v":20},null,{"$f":"(IF(HEX2DEC(AL13)>(32769),HEX2DEC(AL13)-65536,HEX2DEC(AL13)))/1","v":4726},null,{"$f":"(IF(HEX2DEC(AN13)>(32769),HEX2DEC(AN13)-65536,HEX2DEC(AN13)))/1","v":1800},null,null,null,null,null,null,null,null,null,null,null,null,null,null,null,null,null,null,null,{"$f":"IF(MID(BH13,1,1)=\"f\",(HEX2DEC(BH13)-65535)/1,HEX2DEC(BH13)/1)","v":32},null,{"$f":"IF(MID(BJ13,1,1)=\"f\",(HEX2DEC(BJ13)-65535)/10,HEX2DEC(BJ13)/10)","v":1665.7},null,{"$f":"IF(MID(BL13,1,1)=\"f\",(HEX2DEC(BL13)-65535)/1,HEX2DEC(BL13)/1)","v":1},null,{"$f":"IF(MID(BN13,1,1)=\"f\",(HEX2DEC(BN13)-65535)/1,HEX2DEC(BN13)/1)","v":1},null,{"$f":"IF(MID(BP13,1,1)=\"f\",(HEX2DEC(BP13)-65535)/1,HEX2DEC(BP13)/1)","v":3},null,{"$f":"IF(MID(BR13,1,1)=\"f\",(HEX2DEC(BR13)-65535)/1,HEX2DEC(BR13)/1)","v":4},null,{"$f":"IF(MID(BT13,1,1)=\"f\",(HEX2DEC(BT13)-65535)/1,HEX2DEC(BT13)/1)","v":0},null,{"$f":"IF(MID(BV13,1,1)=\"f\",(HEX2DEC(BV13)-65535)/1,HEX2DEC(BV13)/1)","v":20002},null,{"$f":"IF(MID(BX13,1,1)=\"f\",(HEX2DEC(BX13)-65535)/10,HEX2DEC(BX13)/10)","v":35},null,null,null,null,null,null,null,null,null,null,null,null,null,null,null,null,null,null,null,null,null,null,null,null,null,null,null,null,null,null,null,null,null,null,null,null,null,null,null,null,null,null,null,null,null,null,null,null,null,null,null,null,null,null,null,null,null,null,null,null,null,null,null,null,null,null,null,null,null,null,null,null,null,null,null,null,null,null,null,null,null,null,null,null,null,null,null,null,null,null,null,null,null,null,null,null,null,null,null,null,null,null,null,null,null,null,null,null,null,null,null,null,null,null,null,null,null,null,null,null,null,null,null,null,null,null,null,null,null,null,null,null,null,null,null,null,null,null,null,null,null,null,null,null,null,null,null,null,null,null,null,null,null,null,null,null,null,null,null,null,null,null,null,null,null,null,null,null,null,null,null,null,null,null,null,null,null,null,null,null,null,null,null,null,null,null,null,null,null,null,null,null,null,null,null,null,null,null,null,null,null,null,null,null,null,null,null,null,null,null,null,null,null,null,null,null,null,null,null,null,null,null,null,null,null,null,null,null,null,null,null,null,null,null,null,null,null,null,null,null,null,null,null,null,null,null,null,null,null,null,null,null,null,null,null,null,null,null,null,null,null,null,null,null,null,null,null,null,null,null,null,null,null,null,null,null,null,null,null,null,null,null,null,null,null,null,null,null,null,null,null,null,null,null,null,null,null,null,null,null,null,null,null,null,null,null,null,null,null,{"$f":"IF(MID(NV13,1,1)=\"f\",(HEX2DEC(NV13)-65535)/1,HEX2DEC(NV13)/1)","v":2},null,null,null,null,null,null,null,null,null,null,null,null,null,null,null,null,null,null,null,null,null,null,null,null,null,null,null,null,null,null,null,null,null,null,null,null,null,null,null,null,null,null,null,null,null,null,null,null,null,null,null,{"$f":"IF(MID(PV13,1,1)=\"f\",(HEX2DEC(PV13)-65535)/1,HEX2DEC(PV13)/1)","v":0},null,{"$f":"IF(MID(PX13,1,1)=\"f\",(HEX2DEC(PX13)-65535)/1,HEX2DEC(PX13)/1)","v":0},null,null,null,null,null,null,null,{"$f":"IF(MID(QF13,1,1)=\"f\",(HEX2DEC(QF13)-65535)/1,HEX2DEC(QF13)/1)","v":1024},null,null,null,null,null,null,null,null,null,null,null,null,null,null,null,null,null,null,null,null,null,null,null,null,null,null,null,null,null,null,null,null,null,null,null,null,null,null,null,null,null,null,null,null,null,null,null,null,null,null,null,null,null,null,null,null,null,null,null,null,{"$f":"SR14-SP14","v":15862},{"$f":"HEX2DEC(SP13)","v":46476},null,{"$f":"HEX2DEC(SR13)","v":62338},null,{"$f":"HEX2DEC(ST13)","v":33523}]
[null,null,null,null,null,null,null,{"$f":"ROUND((H14*100*(750/32768))-(F14*100*((750/600000)*16)),-1)","v":180},null,"cm",null,null,null,null,null,null,null,null,null,null,null,null,null,null,null,null,null,null,null,null,null,null,null,null,null,null,null,{"$f":"ROUND(((AL14/256)*(750*17*15/(600*4))*COS(RADIANS(25)))/10,0)","v":133},null,"cm"]
[]
[]
[]
[]
[]
[]
[]
[]
[]
[]
[]
[null,{"$f":"750/32768","v":0.02288818359375},{"$f":"12100*B27","v":276.947021484375}]
[]
[{"$f":"750/600000","v":0.00125},{"$f":"A29*16","v":0.02},{"$f":"11100*B29","v":222}]
[]
[null,null,{"$f":"C27-C29","v":54.947021484375}]
[]
[]
[]
[]
[]
[]
[]
[]
[]
[]
[]
[]
[]
[]
[]
[]
[]
[null,"RF"]
[null,"SYSLOG<SOH>_x0001_<EOT>_x0004_<NUL>\u007fp<NUL>\u007f<NUL>\u007fHq<NUL>\u007f<NUL>\u007fMSMPR1<STX>_x0002_<DLE>_x0010_<NUL>\u007fr<NUL>\u007f<NUL>\u007fVr<NUL>\u007f<NUL>\u007fMSMPR1<ETX>_x0003_<DLE>_x0010_<NUL>\u007ft<NUL>\u007f<NUL>\u007fVt<NUL>\u007f<NUL>\u007fMSMPR1<EOT>_x0004_<DLE>_x0010_<NUL>\u007fv<NUL>\u007f<NUL>\u007f„\u008d<NUL>\u007f<NUL>\u007fMSMPR1<ENQ>_x0005_<DLE>_x0010_<NUL>\u007fŽ<NUL>\u007f<NUL>\u007f ž<NUL>\u007f<NUL>\u007fMSMPR1<ACK>_x0006_<DLE>_x0010_<NUL>\u007f <NUL>\u007f<NUL>\u007fV <NUL>\u007f<NUL>\u007fMSMPR1<BEL> <DLE>_x0010_<NUL>\u007f¢<NUL>\u007f<NUL>\u007f<STX>_x0002_£<NUL>\u007f<NUL>\u007fMSMPR1<BS>_x0008_<DLE>_x0010_<NUL>\u007f¤<NUL>\u007f<NUL>\u007f`©<NUL>\u007f<NUL>\u007fMSMPR1<HT>\t<DLE>_x0010_<NUL>\u007fª<NUL>\u007f<NUL>\u007f<NUL>\u007fª<NUL>\u007f<NUL>\u007fMSMPR1<LF>\n<DLE>_x0010_<NUL>\u007f¬<NUL>\u007f<NUL>\u007fŠÆ<NUL>\u007f<NUL>\u007fMSMPR1<VT>_x000B_<DLE>_x0010_<NUL>\u007fÈ<NUL>\u007f<NUL>\u007flÓ<NUL>\u007f<NUL>\u007fMSMPR1<FF>\n<DLE>_x0010_<NUL>\u007fÔ<NUL>\u007f<NUL>\u007fjÞ<NUL>\u007f<NUL>\u007fMSMPR1<CR>\n<DLE>_x0010_<NUL>\u007fà<NUL>\u007f<NUL>\u007fVà<NUL>\u007f<NUL>\u007fMSMPR1<SO>_x000E_<DLE>_x0010_<NUL>\u007fâ<NUL>\u007f<NUL>\u007fVâ<NUL>\u007f<NUL>\u007fMSMPR1<SI>_x000F_<DLE>_x0010_<NUL>\u007fä<NUL>\u007f<NUL>\u007fVä<NUL>\u007f<NUL>\u007fMSMPR1<DLE>_x0010_<DLE>_x0010_<NUL>\u007fæ<NUL>\u007f<NUL>\u007fVæ<NUL>\u007f<NUL>\u007fTMSM1<NUL>\u007f<DC1>_x0011_<DLE>_x0010_<NUL>\u007fè<NUL>\u007f<NUL>\u007fVè<NUL>\u007f<NUL>\u007fTMSM1<NUL>\u007f<DC2>_x0012_<DLE>_x0010_<NUL>\u007fê<NUL>\u007f<NUL>\u007fVê<NUL>\u007f<NUL>\u007fMSMPR1<DC3>_x0013_<DLE>_x0010_<NUL>\u007fì<NUL>\u007f<NUL>\u007fVì<NUL>\u007f<NUL>\u007fMSMPR1<DC4>_x0014_<DLE>_x0010_<NUL>\u007fî<NUL>\u007f<NUL>\u007fVî<NUL>\u007f<NUL>\u007f<NUL>\u007f<NUL>\u007f<NUL>\u007f<NUL>\u007f<NUL>\u007f<NUL>\u007f<NUL>\u007f<NUL>\u007f<NUL>\u007f<NUL>\u007f<NUL>\u007f<NUL>\u007f<NUL>\u007f<NUL>\u007f<NUL>\u007f<NUL>\u007f<NUL>\u007f<NUL>\u007f<NUL>\u007f<NUL>\u007f<NUL>\u007f<NUL>\u007f<NUL>\u007f<NUL>\u007f<NUL>\u007f<NUL>\u007f<NUL>\u007f<NUL>\u007f<NUL>\u007f<NUL>\u007f<NUL>\u007f<NUL>\u007f<NUL>\u007f<NUL>\u007f<NUL>\u007f<NUL>\u007f<NUL>\u007f<NUL>\u007f<NUL>\u007f<NUL>\u007f<NUL>\u007f<NUL>\u007f<NUL>\u007f<NUL>\u007f<NUL>\u007f<NUL>\u007f<NUL>\u007f<NUL>\u007f<NUL>\u007f<NUL>\u007f<NUL>\u007f<NUL>\u007f<NUL>\u007f<NUL>\u007f<NUL>\u007f<NUL>\u007f<NUL>\u007f<NUL>\u007f<NUL>\u007f<NUL>\u007f<NUL>\u007f<NUL>\u007f<NUL>\u007f<NUL>\u007f<NUL>\u007f<NUL>\u007f<NUL>\u007f<NUL>\u007f<NUL>\u007f<NUL>\u007f<NUL>\u007f<NUL>\u007f<NUL>\u007f<NUL>\u007f<NUL>\u007f<NUL>\u007f<NUL>\u007f<NUL>\u007f<NUL>\u007f<NUL>\u007f<NUL>\u007f<NUL>\u007f<NUL>\u007f<NUL>\u007f<NUL>\u007f<NUL>\u007f<NUL>\u007f<NUL>\u007f<NUL>\u007f<NUL>\u007f<NUL>\u007f<NUL>\u007f<NUL>\u007f<NUL>\u007f<NUL>\u007f<NUL>\u007f<NUL>\u007f<NUL>\u007f<NUL>\u007f<NUL>\u007f<NUL>\u007f<NUL>\u007f<NUL>\u007f<NUL>\u007f<NUL>\u007f<NUL>\u007f<NUL>\u007f<NUL>\u007f<NUL>\u007f<NUL>\u007f<NUL>\u007f<NUL>\u007f<NUL>\u007f<NUL>\u007f<NUL>\u007f<NUL>\u007f<NUL>\u007f<NUL>\u007f<NUL>\u007f<NUL>\u007f<NUL>\u007f<NUL>\u007f<NUL>\u007f<NUL>\u007f<NUL>\u007f<NUL>\u007f<NUL>\u007f<NUL>\u007f<NUL>\u007f<NUL>\u007f<NUL>\u007f<NUL>\u007f<NUL>\u007f<NUL>\u007f<NUL>\u007f<NUL>\u007f<NUL>\u007f<NUL>\u007f<NUL>\u007f<NUL>\u007f<NUL>\u007f<NUL>\u007f<NUL>\u007f<NUL>\u007f<NUL>\u007f<NUL>\u007f<NUL>\u007f<NUL>\u007f<NUL>\u007f<NUL>\u007f<NUL>\u007f<NUL>\u007f<NUL>\u007f<NUL>\u007f<NUL>\u007f<NUL>\u007f<NUL>\u007f<NUL>\u007f<NUL>\u007f<NUL>\u007f<NUL>\u007f<NUL>\u007f<NUL>\u007f<NUL>\u007f<NUL>\u007f<NUL>\u007f<NUL>\u007f<NUL>\u007f<NUL>\u007f<NUL>\u007f<NUL>\u007f<NUL>\u007f<NUL>\u007f<NUL>\u007f<NUL>\u007f<NUL>\u007f<NUL>\u007f<NUL>\u007f<NUL>\u007f<NUL>\u007f<NUL>\u007f<NUL>\u007f<NUL>\u007f<NUL>\u007f<NUL>\u007f<NUL>\u007f<NUL>\u007f<NUL>\u007f<NUL>\u007f<NUL>\u007f4“<ACK>_x0006_<ACK>_x0006_<NAK>_x0015_<NAK>_x0015_"]
[null,"53 59 53 4C 4F 47 01 04 00 70 00 00 48 71 00 00 4D 53 4D 50 52 31 02 10 00 72 00 00 56 72 00 00 4D 53 4D 50 52 31 03 10 00 74 00 00 56 74 00 00 4D 53 4D 50 52 31 04 10 00 76 00 00 84 8D 00 00 4D 53 4D 50 52 31 05 10 00 8E 00 00 20 9E 00 00 4D 53 4D 50 52 31 06 10 00 A0 00 00 56 A0 00 00 4D 53 4D 50 52 31 07 10 00 A2 00 00 02 A3 00 00 4D 53 4D 50 52 31 08 10 00 A4 00 00 60 A9 00 00 4D 53 4D 50 52 31 09 10 00 AA 00 00 00 AA 00 00 4D 53 4D 50 52 31 0A 10 00 AC 00 00 8A C6 00 00 4D 53 4D 50 52 31 0B 10 00 C8 00 00 6C D3 00 00 4D 53 4D 50 52 31 0C 10 00 D4 00 00 6A DE 00 00 4D 53 4D 50 52 31 0D 10 00 E0 00 00 56 E0 00 00 4D 53 4D 50 52 31 0E 10 00 E2 00 00 56 E2 00 00 4D 53 4D 50 52 31 0F 10 00 E4 00 00 56 E4 00 00 4D 53 4D 50 52 31 10 10 00 E6 00 00 56 E6 00 00 54 4D 53 4D 31 00 11 10 00 E8 00 00 56 E8 00 00 54 4D 53 4D 31 00 12 10 00 EA 00 00 56 EA 00 00 4D 53 4D 50 52 31 13 10 00 EC 00 00 56 EC 00 00 4D 53 4D 50 52 31 14 10 00 EE 00 00 56 EE 00 00 00 00 00 00 00 00 00 00 00 00 00 00 00 00 00 00 00 00 00 00 00 00 00 00 00 00 00 00 00 00 00 00 00 00 00 00 00 00 00 00 00 00 00 00 00 00 00 00 00 00 00 00 00 00 00 00 00 00 00 00 00 00 00 00 00 00 00 00 00 00 00 00 00 00 00 00 00 00 00 00 00 00 00 00 00 00 00 00 00 00 00 00 00 00 00 00 00 00 00 00 00 00 00 00 00 00 00 00 00 00 00 00 00 00 00 00 00 00 00 00 00 00 00 00 00 00 00 00 00 00 00 00 00 00 00 00 00 00 00 00 00 00 00 00 00 00 00 00 00 00 00 00 00 00 00 00 00 00 00 00 00 00 00 00 00 00 00 00 00 00 00 00 00 00 00 00 00 00 00 00 00 00 00 00 00 00 00 00 00 00 34 93 06 06 15 15 "]
[]
[]
["User/Depl Conf","A5",0,0,1,"4A",0,90,0,13,0,"A8","0D",0,2,3,0,78,0,3,0,0,40,60,0,0,0,0,0,0,0,1,0,0,0,14,0,76,12,8,7,0,0,0,0,0,0,1,0,9,31,7,8,23,2,10,"0E",0,0,20,0,11,41,1,0,1,0,3,0,4,0,0,0,22,"4E","5E",1,2,"3D","1E","3D",39,"3D",53,"3D","6E","3D",88,"3D","A2","3D","BB","3D","D4","3D","ED","3D",6,"3E","1E","3E",36,"3E","4E","3E",65,"3E","7D","3E",93,"3E","AA","3E","C0","3E","D6","3E","EC","3E",2,"3F",17,"3F","2C","3F",41,"3F",55,"3F",69,"3F","7D","3F",91,"3F","A4","3F","B8","3F","CA","3F","DD","3F","F0","3F",2,40,14,40,26,40,37,40,49,40,"5A",40,"6B",40,"7C",40,"8C",40,"9C",40,"AC",40,"BC",40,"CC",40,"DB",40,"EA",40,"F9",40,8,41,17,41,25,41,33,41,42,41,"4F",41,"5D",41,"6A",41,78,41,85,41,92,41,"9E",41,"AB",41,"B7",41,"C3",41,"CF",41,"DB",41,"E7",41,"F2",41,"FD",41,8,42,13,42,"1E",42,28,42,33,42,"3D",42,47,42,51,42,"5B",42,64,42,"6E",42,77,42,80,42,89,42,91,42,"9A",42,"A2",42,"AA",42,"B2",42,"BA",42,0,0,0,0,0,0,0,0,0,0,0,0,0,0,0,0,0,0,0,0,0,0,0,0,0,0,0,0,0,0,0,0,0,0,0,0,0,0,0,0,0,0,0,0,0,0,0,0,0,0,0,0,0,0,0,0,0,0,0,0,0,0,0,0,0,0,0,0,0,0,0,0,0,0,0,0,0,0,0,0,0,0,0,0,0,0,0,0,"1E",0,"5A",0,"5A",0,"BC",2,32,0,0,0,0,0,0,0,7,0,0,0,0,0,0,0,0,0,0,0,0,0,"1E",0,0,0,0,0,"2A",0,0,0,2,0,14,0,"EA",1,14,0,"EA",1,"0A",0,5,0,0,0,40,0,40,0,2,0,"0F",0,"5A",0,0,0,1,0,"C8",0,0,0,0,0,"0F",0,"EA",1,"EA",1,0,0,0,0,0,0,0,0,0,0,0,0,0,0,85,0,6,1,77,21,0,4,0,0,0,0,"0A",0,0,0,0,0,0,0,0,0,6,0,14,0,0,0,54,0,28,0,15,0,0,0,0,0,0,0,0,0,0,0,0,0,"A4","FF","A4","FF","A4","FF","A4","FF","C3","FF","E1","FF",0,0,"1F",0,"3E",0,"5C",0,"7B",0,99,0,"9F","D7",6,6]
["Tec","A5","6F",0,79,0,"1C",0,"3E","0A",0,2,2,0,"3C",0,3,0,0,40,60,0,0,0,0,0,0,0,1,0,0,0,6,0,"B1","1B",58,2,"4D",53,"4D",70,72,31,0,0,5,43,1,18,22,3,10,"0E",0,0,20,0,11,41,1,0,1,0,4,0,4,0,0,0,22,"4E","B4",0,1,"3C","1D","3C","3A","3C",56,"3C",71,"3C","8D","3C","A8","3C","C3","3C","DD","3C","F7","3C",11,"3D","2A","3D",44,"3D","5C","3D",75,"3D","8D","3D","A5","3D","BD","3D","D4","3D","EC","3D",3,"3E",19,"3E","2F","3E",45,"3E","5B","3E",71,"3E",86,"3E","9B","3E","B0","3E","C4","3E","D8","3E","EC","3E",0,"3F",14,"3F",27,"3F","3A","3F","4D","3F","5F","3F",71,"3F",83,"3F",95,"3F","A7","3F","B8","3F","C9","3F","DA","3F","EB","3F","FB","3F","0C",40,"1C",40,"2C",40,"3B",40,"4B",40,"5A",40,69,40,77,40,86,40,94,40,"A3",40,"B1",40,"BE",40,"CC",40,"D9",40,"E6",40,"F3",40,0,41,"0D",41,19,41,25,41,32,41,"3D",41,49,41,55,41,60,41,"6B",41,76,41,81,41,"8B",41,96,41,"A0",41,"AA",41,"B4",41,"BE",41,"C7",41,"D1",41,"DA",41,"E3",41,"EC",41,"F5",41,"FD",41,6,42,0,0,0,0,0,0,0,0,0,0,0,0,0,0,0,0,0,0,0,0,0,0,0,0,0,0,0,0,0,0,0,0,0,0,0,0,0,0,0,0,0,0,0,0,0,0,0,0,0,0,0,0,0,0,0,0,0,0,0,0,0,0,0,0,0,0,0,0,0,0,0,0,0,0,0,0,0,0,0,0,0,0,0,0,0,0,0,0,"1E",0,"5A",0,"5A",0,"BC",2,32,0,0,0,0,0,0,0,7,0,0,0,0,0,0,0,0,0,0,0,0,0,"1E",0,0,0,0,0,"2A",0,0,0,2,0,14,0,"EA",1,14,0,"EA",1,"0A",0,5,0,0,0,40,0,40,0,2,0,"0F",0,"5A",0,0,0,1,0,"C8",0,0,0,0,0,"0F",0,"EA",1,"EA",1,0,0,0,0,0,0,0,0,0,0,0,0,0,0,"C8",0,"DB",0,33,32,0,4,0,0,0,0,"0A",0,0,0,0,0,0,0,0,0,6,0,2,0,0,0,64,0,"2C",0,"1A",0,0,0,0,0,0,0,0,0,0,0,0,0,"A4","FF","A4","FF","A4","FF","A4","FF","C3","FF","E1","FF",0,0,"1F",0,"3E",0,"5C",0,"7B",0,99,0,"DE","B5",6,6,15,15,15,15,15,15,15,15]
[null,{"$f":"EXACT(B55,B54)","v":1},{"$f":"EXACT(C55,C54)","v":0},{"$f":"EXACT(D55,D54)","v":1},{"$f":"EXACT(E55,E54)","v":0},{"$f":"EXACT(F55,F54)","v":0},{"$f":"EXACT(G55,G54)","v":0},{"$f":"EXACT(H55,H54)","v":0},{"$f":"EXACT(I55,I54)","v":0},{"$f":"EXACT(J55,J54)","v":0},{"$f":"EXACT(K55,K54)","v":1},{"$f":"EXACT(L55,L54)","v":0},{"$f":"EXACT(M55,M54)","v":0},{"$f":"EXACT(N55,N54)","v":1},{"$f":"EXACT(O55,O54)","v":0},{"$f":"EXACT(P55,P54)","v":0},{"$f":"EXACT(Q55,Q54)","v":0},{"$f":"EXACT(R55,R54)","v":0},{"$f":"EXACT(S55,S54)","v":1},{"$f":"EXACT(T55,T54)","v":0},{"$f":"EXACT(U55,U54)","v":0},{"$f":"EXACT(V55,V54)","v":1},{"$f":"EXACT(W55,W54)","v":0},{"$f":"EXACT(X55,X54)","v":0},{"$f":"EXACT(Y55,Y54)","v":1},{"$f":"EXACT(Z55,Z54)","v":1}]